BEGIN:VCALENDAR
VERSION:2.0
PRODID:-//Waseca-Le Sueur Library - ECPv6.15.20//NONSGML v1.0//EN
CALSCALE:GREGORIAN
METHOD:PUBLISH
X-ORIGINAL-URL:https://wasecalesueurlibraries.com
X-WR-CALDESC:Events for Waseca-Le Sueur Library
REFRESH-INTERVAL;VALUE=DURATION:PT1H
X-Robots-Tag:noindex
X-PUBLISHED-TTL:PT1H
BEGIN:VTIMEZONE
TZID:America/Denver
BEGIN:DAYLIGHT
TZOFFSETFROM:-0700
TZOFFSETTO:-0600
TZNAME:MDT
DTSTART:20170312T090000
END:DAYLIGHT
BEGIN:STANDARD
TZOFFSETFROM:-0600
TZOFFSETTO:-0700
TZNAME:MST
DTSTART:20171105T080000
END:STANDARD
BEGIN:DAYLIGHT
TZOFFSETFROM:-0700
TZOFFSETTO:-0600
TZNAME:MDT
DTSTART:20180311T090000
END:DAYLIGHT
BEGIN:STANDARD
TZOFFSETFROM:-0600
TZOFFSETTO:-0700
TZNAME:MST
DTSTART:20181104T080000
END:STANDARD
BEGIN:DAYLIGHT
TZOFFSETFROM:-0700
TZOFFSETTO:-0600
TZNAME:MDT
DTSTART:20190310T090000
END:DAYLIGHT
BEGIN:STANDARD
TZOFFSETFROM:-0600
TZOFFSETTO:-0700
TZNAME:MST
DTSTART:20191103T080000
END:STANDARD
END:VTIMEZONE
BEGIN:VEVENT
DTSTART;TZID=America/Denver:20181118T140000
DTEND;TZID=America/Denver:20181118T150000
DTSTAMP:20260421T101726
CREATED:20181108T132701Z
LAST-MODIFIED:20181108T132701Z
UID:10008508-1542549600-1542553200@wasecalesueurlibraries.com
SUMMARY:Zorongo Flamenco
DESCRIPTION:A concert full of vibrant traditional flamenco dance and guitar\, featuring an ensemble of critically acclaimed\, masterful performers. \nCo-sponsored by Waseca Public Library and Waseca Community Education
URL:https://wasecalesueurlibraries.com/event/zorongo-flamenco/
LOCATION:Waseca High School Performing Arts Center\, 1717 2nd St NW\, Waseca\, MN\, 56093\, United States
CATEGORIES:Adult Events,Concert
END:VEVENT
END:VCALENDAR