BEGIN:VCALENDAR
VERSION:2.0
PRODID:-//Waseca-Le Sueur Library - ECPv6.15.20//NONSGML v1.0//EN
CALSCALE:GREGORIAN
METHOD:PUBLISH
X-ORIGINAL-URL:https://wasecalesueurlibraries.com
X-WR-CALDESC:Events for Waseca-Le Sueur Library
REFRESH-INTERVAL;VALUE=DURATION:PT1H
X-Robots-Tag:noindex
X-PUBLISHED-TTL:PT1H
BEGIN:VTIMEZONE
TZID:America/Chicago
BEGIN:DAYLIGHT
TZOFFSETFROM:-0600
TZOFFSETTO:-0500
TZNAME:CDT
DTSTART:20220313T080000
END:DAYLIGHT
BEGIN:STANDARD
TZOFFSETFROM:-0500
TZOFFSETTO:-0600
TZNAME:CST
DTSTART:20221106T070000
END:STANDARD
BEGIN:DAYLIGHT
TZOFFSETFROM:-0600
TZOFFSETTO:-0500
TZNAME:CDT
DTSTART:20230312T080000
END:DAYLIGHT
BEGIN:STANDARD
TZOFFSETFROM:-0500
TZOFFSETTO:-0600
TZNAME:CST
DTSTART:20231105T070000
END:STANDARD
BEGIN:DAYLIGHT
TZOFFSETFROM:-0600
TZOFFSETTO:-0500
TZNAME:CDT
DTSTART:20240310T080000
END:DAYLIGHT
BEGIN:STANDARD
TZOFFSETFROM:-0500
TZOFFSETTO:-0600
TZNAME:CST
DTSTART:20241103T070000
END:STANDARD
BEGIN:DAYLIGHT
TZOFFSETFROM:-0600
TZOFFSETTO:-0500
TZNAME:CDT
DTSTART:20250309T080000
END:DAYLIGHT
BEGIN:STANDARD
TZOFFSETFROM:-0500
TZOFFSETTO:-0600
TZNAME:CST
DTSTART:20251102T070000
END:STANDARD
BEGIN:DAYLIGHT
TZOFFSETFROM:-0600
TZOFFSETTO:-0500
TZNAME:CDT
DTSTART:20260308T080000
END:DAYLIGHT
BEGIN:STANDARD
TZOFFSETFROM:-0500
TZOFFSETTO:-0600
TZNAME:CST
DTSTART:20261101T070000
END:STANDARD
END:VTIMEZONE
BEGIN:VTIMEZONE
TZID:America/Denver
BEGIN:DAYLIGHT
TZOFFSETFROM:-0700
TZOFFSETTO:-0600
TZNAME:MDT
DTSTART:20180311T090000
END:DAYLIGHT
BEGIN:STANDARD
TZOFFSETFROM:-0600
TZOFFSETTO:-0700
TZNAME:MST
DTSTART:20181104T080000
END:STANDARD
BEGIN:DAYLIGHT
TZOFFSETFROM:-0700
TZOFFSETTO:-0600
TZNAME:MDT
DTSTART:20190310T090000
END:DAYLIGHT
BEGIN:STANDARD
TZOFFSETFROM:-0600
TZOFFSETTO:-0700
TZNAME:MST
DTSTART:20191103T080000
END:STANDARD
BEGIN:DAYLIGHT
TZOFFSETFROM:-0700
TZOFFSETTO:-0600
TZNAME:MDT
DTSTART:20200308T090000
END:DAYLIGHT
BEGIN:STANDARD
TZOFFSETFROM:-0600
TZOFFSETTO:-0700
TZNAME:MST
DTSTART:20201101T080000
END:STANDARD
BEGIN:DAYLIGHT
TZOFFSETFROM:-0700
TZOFFSETTO:-0600
TZNAME:MDT
DTSTART:20210314T090000
END:DAYLIGHT
BEGIN:STANDARD
TZOFFSETFROM:-0600
TZOFFSETTO:-0700
TZNAME:MST
DTSTART:20211107T080000
END:STANDARD
BEGIN:DAYLIGHT
TZOFFSETFROM:-0700
TZOFFSETTO:-0600
TZNAME:MDT
DTSTART:20220313T090000
END:DAYLIGHT
BEGIN:STANDARD
TZOFFSETFROM:-0600
TZOFFSETTO:-0700
TZNAME:MST
DTSTART:20221106T080000
END:STANDARD
BEGIN:DAYLIGHT
TZOFFSETFROM:-0700
TZOFFSETTO:-0600
TZNAME:MDT
DTSTART:20230312T090000
END:DAYLIGHT
BEGIN:STANDARD
TZOFFSETFROM:-0600
TZOFFSETTO:-0700
TZNAME:MST
DTSTART:20231105T080000
END:STANDARD
END:VTIMEZONE
BEGIN:VEVENT
DTSTART;TZID=America/Chicago:20250717T104500
DTEND;TZID=America/Chicago:20250717T113000
DTSTAMP:20260424T014333
CREATED:20250626T182253Z
LAST-MODIFIED:20250626T182253Z
UID:10011691-1752749100-1752751800@wasecalesueurlibraries.com
SUMMARY:International Owl Center
DESCRIPTION:Experts from the Owl Center will show off their amazing owls and share facts about these nocturnal creatures! All ages. \nSponsored by Le Sueur County Chapter of the Sheriff’s Youth Program\, Montgomery Area Friends of the Library\, and TCU Community Education. \n 
URL:https://wasecalesueurlibraries.com/event/international-owl-center-8/
LOCATION:TCU Le Center Gym\, 150 W Tyrone St\, Le Center\, MN\, 56057
CATEGORIES:All ages,Children's Events
END:VEVENT
BEGIN:VEVENT
DTSTART;TZID=America/Chicago:20240716T103000
DTEND;TZID=America/Chicago:20240716T113000
DTSTAMP:20260424T014333
CREATED:20240701T202956Z
LAST-MODIFIED:20240701T202956Z
UID:10008750-1721125800-1721129400@wasecalesueurlibraries.com
SUMMARY:RADZoo
DESCRIPTION:The Reptile and Amphibian Discovery Zoo will introduce kids to a variety of reptiles and amphibians in this highly informative and interactive event. All ages. \nSponsored by TCU Community Education and Friends of the Le Center Public Library \n 
URL:https://wasecalesueurlibraries.com/event/radzoo-12/2024-07-16/2/
LOCATION:TCU Le Center Gym\, 150 W Tyrone St\, Le Center\, MN\, 56057
CATEGORIES:All ages,Children's Events,Family
END:VEVENT
BEGIN:VEVENT
DTSTART;TZID=America/Chicago:20240716T091500
DTEND;TZID=America/Chicago:20240716T103000
DTSTAMP:20260424T014333
CREATED:20240701T202956Z
LAST-MODIFIED:20240701T202956Z
UID:10008749-1721121300-1721125800@wasecalesueurlibraries.com
SUMMARY:RADZoo
DESCRIPTION:The Reptile and Amphibian Discovery Zoo will introduce kids to a variety of reptiles and amphibians in this highly informative and interactive event. All ages. \nSponsored by TCU Community Education and Friends of the Le Center Public Library \n 
URL:https://wasecalesueurlibraries.com/event/radzoo-12/2024-07-16/1/
LOCATION:TCU Le Center Gym\, 150 W Tyrone St\, Le Center\, MN\, 56057
CATEGORIES:All ages,Children's Events,Family
END:VEVENT
BEGIN:VEVENT
DTSTART;TZID=America/Chicago:20230718T110000
DTEND;TZID=America/Chicago:20230718T120000
DTSTAMP:20260424T014333
CREATED:20230705T143818Z
LAST-MODIFIED:20230705T143818Z
UID:10010150-1689678000-1689681600@wasecalesueurlibraries.com
SUMMARY:Comedian Don B!
DESCRIPTION:Don B! is a “professional goofball”. He mixes comedy with unicycles\, juggling and the art of illusion. \nSponsored by Friends of Le Center Public Library\, Montgomery Area Friends of the Library\, and TCU Community Education \n 
URL:https://wasecalesueurlibraries.com/event/comedian-don-b-2/
LOCATION:TCU Le Center Gym\, 150 W Tyrone St\, Le Center\, MN\, 56057
CATEGORIES:All ages,Children's Events
END:VEVENT
BEGIN:VEVENT
DTSTART;TZID=America/Denver:20220711T100000
DTEND;TZID=America/Denver:20220711T110000
DTSTAMP:20260424T014333
CREATED:20220519T174049Z
LAST-MODIFIED:20220519T174049Z
UID:10007750-1657533600-1657537200@wasecalesueurlibraries.com
SUMMARY:National Eagle Center
DESCRIPTION:Get up close with an oddball mix of unusual animals while learning about sustainable practices for helping out the Earth. All ages. \n 
URL:https://wasecalesueurlibraries.com/event/national-eagle-center/
LOCATION:TCU Le Center Gym\, 150 W Tyrone St\, Le Center\, MN\, 56057
CATEGORIES:Adult Events,Children's Events
END:VEVENT
BEGIN:VEVENT
DTSTART;TZID=America/Denver:20190813T130000
DTEND;TZID=America/Denver:20190813T140000
DTSTAMP:20260424T014333
CREATED:20190723T183830Z
LAST-MODIFIED:20190723T183847Z
UID:10009026-1565701200-1565704800@wasecalesueurlibraries.com
SUMMARY:StarLab
DESCRIPTION:An inflatable planetarium will showcase 3\,000 stars of different colors and sizes\, as well as the constellations. Find out the stories behind the stars and the stars of the seasons. \nSponsored by the Friends of the Le Center Public Library and Community Education
URL:https://wasecalesueurlibraries.com/event/starlab-4/
LOCATION:TCU Le Center Gym\, 150 W Tyrone St\, Le Center\, MN\, 56057
CATEGORIES:Children's Events
END:VEVENT
END:VCALENDAR