BEGIN:VCALENDAR
VERSION:2.0
PRODID:-//Waseca-Le Sueur Library - ECPv6.15.18//NONSGML v1.0//EN
CALSCALE:GREGORIAN
METHOD:PUBLISH
X-ORIGINAL-URL:https://wasecalesueurlibraries.com
X-WR-CALDESC:Events for Waseca-Le Sueur Library
REFRESH-INTERVAL;VALUE=DURATION:PT1H
X-Robots-Tag:noindex
X-PUBLISHED-TTL:PT1H
BEGIN:VTIMEZONE
TZID:America/Chicago
BEGIN:DAYLIGHT
TZOFFSETFROM:-0600
TZOFFSETTO:-0500
TZNAME:CDT
DTSTART:20250309T080000
END:DAYLIGHT
BEGIN:STANDARD
TZOFFSETFROM:-0500
TZOFFSETTO:-0600
TZNAME:CST
DTSTART:20251102T070000
END:STANDARD
BEGIN:DAYLIGHT
TZOFFSETFROM:-0600
TZOFFSETTO:-0500
TZNAME:CDT
DTSTART:20260308T080000
END:DAYLIGHT
BEGIN:STANDARD
TZOFFSETFROM:-0500
TZOFFSETTO:-0600
TZNAME:CST
DTSTART:20261101T070000
END:STANDARD
BEGIN:DAYLIGHT
TZOFFSETFROM:-0600
TZOFFSETTO:-0500
TZNAME:CDT
DTSTART:20270314T080000
END:DAYLIGHT
BEGIN:STANDARD
TZOFFSETFROM:-0500
TZOFFSETTO:-0600
TZNAME:CST
DTSTART:20271107T070000
END:STANDARD
END:VTIMEZONE
BEGIN:VEVENT
DTSTART;TZID=America/Chicago:20260414T100000
DTEND;TZID=America/Chicago:20260414T110000
DTSTAMP:20260419T083854
CREATED:20260116T222504Z
LAST-MODIFIED:20260116T222504Z
UID:10012727-1776160800-1776164400@wasecalesueurlibraries.com
SUMMARY:Romp and Rhyme Story Time
DESCRIPTION:Le Sueur Public Library holds Romp and Rhyme story times. From puppets to pumping music\, from bubble machines to banging bands\, these are not your average story time. The Library uses movement\, STEAM activities\, curiosity\, imaginative play\, and active learning to keep kids engaged. Free and open to the public.
URL:https://wasecalesueurlibraries.com/event/romp-and-rhyme-story-time-128/2026-04-14/
LOCATION:Le Sueur Public Library\, 118 Ferry St\, Le Sueur\, MN\, 56058\, United States
CATEGORIES:Children's Events,Story Times
GEO:44.4601702;-93.9161364
X-APPLE-STRUCTURED-LOCATION;VALUE=URI;X-ADDRESS=Le Sueur Public Library 118 Ferry St Le Sueur MN 56058 United States;X-APPLE-RADIUS=500;X-TITLE=118 Ferry St:geo:-93.9161364,44.4601702
END:VEVENT
BEGIN:VEVENT
DTSTART;TZID=America/Chicago:20260410T180000
DTEND;TZID=America/Chicago:20260410T190000
DTSTAMP:20260419T083854
CREATED:20250227T162719Z
LAST-MODIFIED:20260411T163810Z
UID:10013073-1775844000-1775847600@wasecalesueurlibraries.com
SUMMARY:Pie & Puzzles
DESCRIPTION:Assemble a team of up to 4 players to compete in a jigsaw puzzle competition. The first team to complete the puzzle wins a prize (and bragging rights)! Registration required. \nSponsored by Friends of the Le Sueur Public Library
URL:https://wasecalesueurlibraries.com/event/pie-puzzles-2/2026-04-10/
LOCATION:Le Sueur Public Library\, 118 Ferry St\, Le Sueur\, MN\, 56058\, United States
CATEGORIES:Adult Events
GEO:44.4601702;-93.9161364
X-APPLE-STRUCTURED-LOCATION;VALUE=URI;X-ADDRESS=Le Sueur Public Library 118 Ferry St Le Sueur MN 56058 United States;X-APPLE-RADIUS=500;X-TITLE=118 Ferry St:geo:-93.9161364,44.4601702
END:VEVENT
BEGIN:VEVENT
DTSTART;TZID=America/Chicago:20260409T180000
DTEND;TZID=America/Chicago:20260409T190000
DTSTAMP:20260419T083854
CREATED:20260408T155225Z
LAST-MODIFIED:20260408T155225Z
UID:10013023-1775757600-1775761200@wasecalesueurlibraries.com
SUMMARY:Herb Planters
DESCRIPTION:Transform a can into a decorative planter\, then plant herbs to add flavor to your culinary dishes. Ages 18+.
URL:https://wasecalesueurlibraries.com/event/herb-planters-7/2026-04-09/2/
LOCATION:Le Sueur Public Library\, 118 Ferry St\, Le Sueur\, MN\, 56058\, United States
CATEGORIES:Adult Events
GEO:44.4601702;-93.9161364
X-APPLE-STRUCTURED-LOCATION;VALUE=URI;X-ADDRESS=Le Sueur Public Library 118 Ferry St Le Sueur MN 56058 United States;X-APPLE-RADIUS=500;X-TITLE=118 Ferry St:geo:-93.9161364,44.4601702
END:VEVENT
BEGIN:VEVENT
DTSTART;TZID=America/Chicago:20260409T130000
DTEND;TZID=America/Chicago:20260409T140000
DTSTAMP:20260419T083854
CREATED:20260408T155225Z
LAST-MODIFIED:20260408T155225Z
UID:10013022-1775739600-1775743200@wasecalesueurlibraries.com
SUMMARY:Herb Planters
DESCRIPTION:Transform a can into a decorative planter\, then plant herbs to add flavor to your culinary dishes. Ages 18+.
URL:https://wasecalesueurlibraries.com/event/herb-planters-7/2026-04-09/1/
LOCATION:Le Sueur Public Library\, 118 Ferry St\, Le Sueur\, MN\, 56058\, United States
CATEGORIES:Adult Events
GEO:44.4601702;-93.9161364
X-APPLE-STRUCTURED-LOCATION;VALUE=URI;X-ADDRESS=Le Sueur Public Library 118 Ferry St Le Sueur MN 56058 United States;X-APPLE-RADIUS=500;X-TITLE=118 Ferry St:geo:-93.9161364,44.4601702
END:VEVENT
BEGIN:VEVENT
DTSTART;TZID=America/Chicago:20260408T130000
DTEND;TZID=America/Chicago:20260408T140000
DTSTAMP:20260419T083854
CREATED:20260408T211212Z
LAST-MODIFIED:20260408T211212Z
UID:10013045-1775653200-1775656800@wasecalesueurlibraries.com
SUMMARY:Homeschool Explorers Club
DESCRIPTION:A monthly program geared for homeschool families is designed to ignite curiosity and foster a love of learning through a blend of STEAM and other engaging activities. This month’s theme is weather. Geared for ages 6-12. \nSponsored by Friends of the Le Sueur Public Library
URL:https://wasecalesueurlibraries.com/event/homeschool-explorers-club-12/
LOCATION:Le Sueur Public Library\, 118 Ferry St\, Le Sueur\, MN\, 56058\, United States
CATEGORIES:Children's Events
GEO:44.4601702;-93.9161364
X-APPLE-STRUCTURED-LOCATION;VALUE=URI;X-ADDRESS=Le Sueur Public Library 118 Ferry St Le Sueur MN 56058 United States;X-APPLE-RADIUS=500;X-TITLE=118 Ferry St:geo:-93.9161364,44.4601702
END:VEVENT
BEGIN:VEVENT
DTSTART;TZID=America/Chicago:20260407T180000
DTEND;TZID=America/Chicago:20260407T190000
DTSTAMP:20260419T083854
CREATED:20260408T214822Z
LAST-MODIFIED:20260408T214822Z
UID:10013059-1775584800-1775588400@wasecalesueurlibraries.com
SUMMARY:The Plot Thickens
DESCRIPTION:Join us for a book club discussion. about this month’s book—The Ghostwriter by Julie Clark. There will be treats! Ages 18+. \nSponsored by Friends of the Le Sueur Public Library
URL:https://wasecalesueurlibraries.com/event/the-plot-thickens-16/
LOCATION:Le Sueur Public Library\, 118 Ferry St\, Le Sueur\, MN\, 56058\, United States
CATEGORIES:Adult Events,Book Clubs
GEO:44.4601702;-93.9161364
X-APPLE-STRUCTURED-LOCATION;VALUE=URI;X-ADDRESS=Le Sueur Public Library 118 Ferry St Le Sueur MN 56058 United States;X-APPLE-RADIUS=500;X-TITLE=118 Ferry St:geo:-93.9161364,44.4601702
END:VEVENT
BEGIN:VEVENT
DTSTART;TZID=America/Chicago:20260407T100000
DTEND;TZID=America/Chicago:20260407T110000
DTSTAMP:20260419T083854
CREATED:20260116T222504Z
LAST-MODIFIED:20260116T222504Z
UID:10012726-1775556000-1775559600@wasecalesueurlibraries.com
SUMMARY:Romp and Rhyme Story Time
DESCRIPTION:Le Sueur Public Library holds Romp and Rhyme story times. From puppets to pumping music\, from bubble machines to banging bands\, these are not your average story time. The Library uses movement\, STEAM activities\, curiosity\, imaginative play\, and active learning to keep kids engaged. Free and open to the public.
URL:https://wasecalesueurlibraries.com/event/romp-and-rhyme-story-time-128/2026-04-07/
LOCATION:Le Sueur Public Library\, 118 Ferry St\, Le Sueur\, MN\, 56058\, United States
CATEGORIES:Children's Events,Story Times
GEO:44.4601702;-93.9161364
X-APPLE-STRUCTURED-LOCATION;VALUE=URI;X-ADDRESS=Le Sueur Public Library 118 Ferry St Le Sueur MN 56058 United States;X-APPLE-RADIUS=500;X-TITLE=118 Ferry St:geo:-93.9161364,44.4601702
END:VEVENT
BEGIN:VEVENT
DTSTART;TZID=America/Chicago:20260331T100000
DTEND;TZID=America/Chicago:20260331T110000
DTSTAMP:20260419T083854
CREATED:20260116T222504Z
LAST-MODIFIED:20260116T222504Z
UID:10012725-1774951200-1774954800@wasecalesueurlibraries.com
SUMMARY:Romp and Rhyme Story Time
DESCRIPTION:Le Sueur Public Library holds Romp and Rhyme story times. From puppets to pumping music\, from bubble machines to banging bands\, these are not your average story time. The Library uses movement\, STEAM activities\, curiosity\, imaginative play\, and active learning to keep kids engaged. Free and open to the public.
URL:https://wasecalesueurlibraries.com/event/romp-and-rhyme-story-time-128/2026-03-31/
LOCATION:Le Sueur Public Library\, 118 Ferry St\, Le Sueur\, MN\, 56058\, United States
CATEGORIES:Children's Events,Story Times
GEO:44.4601702;-93.9161364
X-APPLE-STRUCTURED-LOCATION;VALUE=URI;X-ADDRESS=Le Sueur Public Library 118 Ferry St Le Sueur MN 56058 United States;X-APPLE-RADIUS=500;X-TITLE=118 Ferry St:geo:-93.9161364,44.4601702
END:VEVENT
BEGIN:VEVENT
DTSTART;TZID=America/Chicago:20260330T160000
DTEND;TZID=America/Chicago:20260330T170000
DTSTAMP:20260419T083854
CREATED:20260222T155241Z
LAST-MODIFIED:20260222T155241Z
UID:10012957-1774886400-1774890000@wasecalesueurlibraries.com
SUMMARY:Peep Houses
DESCRIPTION:Build a sweet little house using graham crackers\, candy\, and everyone’s favorite marshmallow—Peeps! Ages 6-12.
URL:https://wasecalesueurlibraries.com/event/peep-houses/
LOCATION:Le Sueur Public Library\, 118 Ferry St\, Le Sueur\, MN\, 56058\, United States
CATEGORIES:Children's Events
GEO:44.4601702;-93.9161364
X-APPLE-STRUCTURED-LOCATION;VALUE=URI;X-ADDRESS=Le Sueur Public Library 118 Ferry St Le Sueur MN 56058 United States;X-APPLE-RADIUS=500;X-TITLE=118 Ferry St:geo:-93.9161364,44.4601702
END:VEVENT
BEGIN:VEVENT
DTSTART;TZID=America/Chicago:20260325T160000
DTEND;TZID=America/Chicago:20260325T170000
DTSTAMP:20260419T083854
CREATED:20260225T191058Z
LAST-MODIFIED:20260225T191058Z
UID:10012989-1774454400-1774458000@wasecalesueurlibraries.com
SUMMARY:Mini Beaded Bouquets
DESCRIPTION:Learn how to craft a mini flower bouquet. These tiny blooms made up of wire and seed beads are perfect for gifting to a friend or turning into a unique accessory. Ages 13-18.
URL:https://wasecalesueurlibraries.com/event/mini-beaded-bouquets-4/
LOCATION:Le Sueur Public Library\, 118 Ferry St\, Le Sueur\, MN\, 56058\, United States
CATEGORIES:Teen Events
GEO:44.4601702;-93.9161364
X-APPLE-STRUCTURED-LOCATION;VALUE=URI;X-ADDRESS=Le Sueur Public Library 118 Ferry St Le Sueur MN 56058 United States;X-APPLE-RADIUS=500;X-TITLE=118 Ferry St:geo:-93.9161364,44.4601702
END:VEVENT
BEGIN:VEVENT
DTSTART;TZID=America/Chicago:20260324T160000
DTEND;TZID=America/Chicago:20260324T170000
DTSTAMP:20260419T083854
CREATED:20260225T182125Z
LAST-MODIFIED:20260225T182125Z
UID:10012966-1774368000-1774371600@wasecalesueurlibraries.com
SUMMARY:Pokémon Terrariums
DESCRIPTION:Create your own little Pokémon world with these Pokéball-inspired terrariums.
URL:https://wasecalesueurlibraries.com/event/pokemon-terrariums-5/
LOCATION:Le Sueur Public Library\, 118 Ferry St\, Le Sueur\, MN\, 56058\, United States
CATEGORIES:Children's Events
GEO:44.4601702;-93.9161364
X-APPLE-STRUCTURED-LOCATION;VALUE=URI;X-ADDRESS=Le Sueur Public Library 118 Ferry St Le Sueur MN 56058 United States;X-APPLE-RADIUS=500;X-TITLE=118 Ferry St:geo:-93.9161364,44.4601702
END:VEVENT
BEGIN:VEVENT
DTSTART;TZID=America/Chicago:20260324T100000
DTEND;TZID=America/Chicago:20260324T110000
DTSTAMP:20260419T083854
CREATED:20260116T222504Z
LAST-MODIFIED:20260116T222504Z
UID:10012724-1774346400-1774350000@wasecalesueurlibraries.com
SUMMARY:Romp and Rhyme Story Time
DESCRIPTION:Le Sueur Public Library holds Romp and Rhyme story times. From puppets to pumping music\, from bubble machines to banging bands\, these are not your average story time. The Library uses movement\, STEAM activities\, curiosity\, imaginative play\, and active learning to keep kids engaged. Free and open to the public.
URL:https://wasecalesueurlibraries.com/event/romp-and-rhyme-story-time-128/2026-03-24/
LOCATION:Le Sueur Public Library\, 118 Ferry St\, Le Sueur\, MN\, 56058\, United States
CATEGORIES:Children's Events,Story Times
GEO:44.4601702;-93.9161364
X-APPLE-STRUCTURED-LOCATION;VALUE=URI;X-ADDRESS=Le Sueur Public Library 118 Ferry St Le Sueur MN 56058 United States;X-APPLE-RADIUS=500;X-TITLE=118 Ferry St:geo:-93.9161364,44.4601702
END:VEVENT
BEGIN:VEVENT
DTSTART;TZID=America/Chicago:20260317T160000
DTEND;TZID=America/Chicago:20260317T170000
DTSTAMP:20260419T083854
CREATED:20250925T205322Z
LAST-MODIFIED:20260408T210851Z
UID:10012959-1773763200-1773766800@wasecalesueurlibraries.com
SUMMARY:Le Sueur Lego Club
DESCRIPTION:Unlock the magic of Legos by ditching the instruction manual and building your own! Lego builders will be given a theme to inspire their creations. Geared for ages 7-12.
URL:https://wasecalesueurlibraries.com/event/le-sueur-lego-club-18/2026-03-17/
LOCATION:Le Sueur Public Library\, 118 Ferry St\, Le Sueur\, MN\, 56058\, United States
CATEGORIES:Children's Events
GEO:44.4601702;-93.9161364
X-APPLE-STRUCTURED-LOCATION;VALUE=URI;X-ADDRESS=Le Sueur Public Library 118 Ferry St Le Sueur MN 56058 United States;X-APPLE-RADIUS=500;X-TITLE=118 Ferry St:geo:-93.9161364,44.4601702
END:VEVENT
BEGIN:VEVENT
DTSTART;TZID=America/Chicago:20260317T100000
DTEND;TZID=America/Chicago:20260317T110000
DTSTAMP:20260419T083854
CREATED:20260116T222504Z
LAST-MODIFIED:20260116T222504Z
UID:10012723-1773741600-1773745200@wasecalesueurlibraries.com
SUMMARY:Romp and Rhyme Story Time
DESCRIPTION:Le Sueur Public Library holds Romp and Rhyme story times. From puppets to pumping music\, from bubble machines to banging bands\, these are not your average story time. The Library uses movement\, STEAM activities\, curiosity\, imaginative play\, and active learning to keep kids engaged. Free and open to the public.
URL:https://wasecalesueurlibraries.com/event/romp-and-rhyme-story-time-128/2026-03-17/
LOCATION:Le Sueur Public Library\, 118 Ferry St\, Le Sueur\, MN\, 56058\, United States
CATEGORIES:Children's Events,Story Times
GEO:44.4601702;-93.9161364
X-APPLE-STRUCTURED-LOCATION;VALUE=URI;X-ADDRESS=Le Sueur Public Library 118 Ferry St Le Sueur MN 56058 United States;X-APPLE-RADIUS=500;X-TITLE=118 Ferry St:geo:-93.9161364,44.4601702
END:VEVENT
BEGIN:VEVENT
DTSTART;TZID=America/Chicago:20260312T180000
DTEND;TZID=America/Chicago:20260312T190000
DTSTAMP:20260419T083854
CREATED:20260222T023606Z
LAST-MODIFIED:20260222T023606Z
UID:10012923-1773338400-1773342000@wasecalesueurlibraries.com
SUMMARY:Taking on the Iditarod with Kari Gibbons
DESCRIPTION:Minnesotan Kari Gibbons will speak about her experiences as the first woman to finish the 2025 Iditarod and the fourth in its history. Her 1000-mile journey on foot took 27 days through the harsh conditions of the Alaskan wilderness. \nUltramarathoner Gibbons’s story is about endurance\, joy\, perseverance\, art\, creativity\, community\, and mentorship. \nThis event is made possible in part with a grant from the Arts & Cultural Heritage Fund of the Minnesota Clean Water\, Land\, and Legacy Amendment through the Traverse des Sioux Library System.
URL:https://wasecalesueurlibraries.com/event/taking-on-the-iditarod-with-kari-gibbons-2/
LOCATION:Le Sueur Public Library\, 118 Ferry St\, Le Sueur\, MN\, 56058\, United States
CATEGORIES:Adult Events
GEO:44.4601702;-93.9161364
X-APPLE-STRUCTURED-LOCATION;VALUE=URI;X-ADDRESS=Le Sueur Public Library 118 Ferry St Le Sueur MN 56058 United States;X-APPLE-RADIUS=500;X-TITLE=118 Ferry St:geo:-93.9161364,44.4601702
END:VEVENT
BEGIN:VEVENT
DTSTART;TZID=America/Chicago:20260310T100000
DTEND;TZID=America/Chicago:20260310T110000
DTSTAMP:20260419T083854
CREATED:20260116T222504Z
LAST-MODIFIED:20260116T222504Z
UID:10012722-1773136800-1773140400@wasecalesueurlibraries.com
SUMMARY:Romp and Rhyme Story Time
DESCRIPTION:Le Sueur Public Library holds Romp and Rhyme story times. From puppets to pumping music\, from bubble machines to banging bands\, these are not your average story time. The Library uses movement\, STEAM activities\, curiosity\, imaginative play\, and active learning to keep kids engaged. Free and open to the public.
URL:https://wasecalesueurlibraries.com/event/romp-and-rhyme-story-time-128/2026-03-10/
LOCATION:Le Sueur Public Library\, 118 Ferry St\, Le Sueur\, MN\, 56058\, United States
CATEGORIES:Children's Events,Story Times
GEO:44.4601702;-93.9161364
X-APPLE-STRUCTURED-LOCATION;VALUE=URI;X-ADDRESS=Le Sueur Public Library 118 Ferry St Le Sueur MN 56058 United States;X-APPLE-RADIUS=500;X-TITLE=118 Ferry St:geo:-93.9161364,44.4601702
END:VEVENT
BEGIN:VEVENT
DTSTART;TZID=America/Chicago:20260306T180000
DTEND;TZID=America/Chicago:20260306T190000
DTSTAMP:20260419T083854
CREATED:20250227T162719Z
LAST-MODIFIED:20260411T163810Z
UID:10012998-1772820000-1772823600@wasecalesueurlibraries.com
SUMMARY:Pie & Puzzles
DESCRIPTION:Assemble a team of up to 4 players to compete in a jigsaw puzzle competition. The first team to complete the puzzle wins a prize (and bragging rights)! Registration required. \nSponsored by Friends of the Le Sueur Public Library
URL:https://wasecalesueurlibraries.com/event/pie-puzzles-2/2026-03-06/
LOCATION:Le Sueur Public Library\, 118 Ferry St\, Le Sueur\, MN\, 56058\, United States
CATEGORIES:Adult Events
GEO:44.4601702;-93.9161364
X-APPLE-STRUCTURED-LOCATION;VALUE=URI;X-ADDRESS=Le Sueur Public Library 118 Ferry St Le Sueur MN 56058 United States;X-APPLE-RADIUS=500;X-TITLE=118 Ferry St:geo:-93.9161364,44.4601702
END:VEVENT
BEGIN:VEVENT
DTSTART;TZID=America/Chicago:20260305T180000
DTEND;TZID=America/Chicago:20260305T190000
DTSTAMP:20260419T083854
CREATED:20260222T033110Z
LAST-MODIFIED:20260222T033110Z
UID:10012944-1772733600-1772737200@wasecalesueurlibraries.com
SUMMARY:Personalized Clay Designs
DESCRIPTION:Use polymer clay\, paint\, and stamps to make tiny tags\, motivational houses\, and message magnets. Ages 18+.
URL:https://wasecalesueurlibraries.com/event/personalized-clay-designs-5/2026-03-05/2/
LOCATION:Le Sueur Public Library\, 118 Ferry St\, Le Sueur\, MN\, 56058\, United States
CATEGORIES:Adult Events
GEO:44.4601702;-93.9161364
X-APPLE-STRUCTURED-LOCATION;VALUE=URI;X-ADDRESS=Le Sueur Public Library 118 Ferry St Le Sueur MN 56058 United States;X-APPLE-RADIUS=500;X-TITLE=118 Ferry St:geo:-93.9161364,44.4601702
END:VEVENT
BEGIN:VEVENT
DTSTART;TZID=America/Chicago:20260305T130000
DTEND;TZID=America/Chicago:20260305T140000
DTSTAMP:20260419T083854
CREATED:20260222T033110Z
LAST-MODIFIED:20260222T033110Z
UID:10012943-1772715600-1772719200@wasecalesueurlibraries.com
SUMMARY:Personalized Clay Designs
DESCRIPTION:Use polymer clay\, paint\, and stamps to make tiny tags\, motivational houses\, and message magnets. Ages 18+.
URL:https://wasecalesueurlibraries.com/event/personalized-clay-designs-5/2026-03-05/1/
LOCATION:Le Sueur Public Library\, 118 Ferry St\, Le Sueur\, MN\, 56058\, United States
CATEGORIES:Adult Events
GEO:44.4601702;-93.9161364
X-APPLE-STRUCTURED-LOCATION;VALUE=URI;X-ADDRESS=Le Sueur Public Library 118 Ferry St Le Sueur MN 56058 United States;X-APPLE-RADIUS=500;X-TITLE=118 Ferry St:geo:-93.9161364,44.4601702
END:VEVENT
BEGIN:VEVENT
DTSTART;TZID=America/Chicago:20260304T130000
DTEND;TZID=America/Chicago:20260304T140000
DTSTAMP:20260419T083854
CREATED:20260222T160805Z
LAST-MODIFIED:20260222T160805Z
UID:10012964-1772629200-1772632800@wasecalesueurlibraries.com
SUMMARY:Homeschool Explorers Club
DESCRIPTION:A monthly program geared for homeschool families is designed to ignite curiosity and foster a love of learning through a blend of STEAM and other engaging activities. This month’s theme is screenprinting. Geared for ages 6-12. \nSponsored by Friends of the Le Sueur Public Library
URL:https://wasecalesueurlibraries.com/event/homeschool-explorers-club-11/
LOCATION:Le Sueur Public Library\, 118 Ferry St\, Le Sueur\, MN\, 56058\, United States
CATEGORIES:Children's Events
GEO:44.4601702;-93.9161364
X-APPLE-STRUCTURED-LOCATION;VALUE=URI;X-ADDRESS=Le Sueur Public Library 118 Ferry St Le Sueur MN 56058 United States;X-APPLE-RADIUS=500;X-TITLE=118 Ferry St:geo:-93.9161364,44.4601702
END:VEVENT
BEGIN:VEVENT
DTSTART;TZID=America/Chicago:20260303T180000
DTEND;TZID=America/Chicago:20260303T190000
DTSTAMP:20260419T083854
CREATED:20260225T185011Z
LAST-MODIFIED:20260225T185011Z
UID:10012976-1772560800-1772564400@wasecalesueurlibraries.com
SUMMARY:The Plot Thickens
DESCRIPTION:This month read a book featuring an animal on the cover or as a main character and join us for a book club discussion. There will be treats! Ages 18+. \nSponsored by Friends of the Le Sueur Public Library
URL:https://wasecalesueurlibraries.com/event/the-plot-thickens-15/
LOCATION:Le Sueur Public Library\, 118 Ferry St\, Le Sueur\, MN\, 56058\, United States
CATEGORIES:Adult Events,Book Sales
GEO:44.4601702;-93.9161364
X-APPLE-STRUCTURED-LOCATION;VALUE=URI;X-ADDRESS=Le Sueur Public Library 118 Ferry St Le Sueur MN 56058 United States;X-APPLE-RADIUS=500;X-TITLE=118 Ferry St:geo:-93.9161364,44.4601702
END:VEVENT
BEGIN:VEVENT
DTSTART;TZID=America/Chicago:20260303T100000
DTEND;TZID=America/Chicago:20260303T110000
DTSTAMP:20260419T083854
CREATED:20260116T222504Z
LAST-MODIFIED:20260116T222504Z
UID:10012721-1772532000-1772535600@wasecalesueurlibraries.com
SUMMARY:Romp and Rhyme Story Time
DESCRIPTION:Le Sueur Public Library holds Romp and Rhyme story times. From puppets to pumping music\, from bubble machines to banging bands\, these are not your average story time. The Library uses movement\, STEAM activities\, curiosity\, imaginative play\, and active learning to keep kids engaged. Free and open to the public.
URL:https://wasecalesueurlibraries.com/event/romp-and-rhyme-story-time-128/2026-03-03/
LOCATION:Le Sueur Public Library\, 118 Ferry St\, Le Sueur\, MN\, 56058\, United States
CATEGORIES:Children's Events,Story Times
GEO:44.4601702;-93.9161364
X-APPLE-STRUCTURED-LOCATION;VALUE=URI;X-ADDRESS=Le Sueur Public Library 118 Ferry St Le Sueur MN 56058 United States;X-APPLE-RADIUS=500;X-TITLE=118 Ferry St:geo:-93.9161364,44.4601702
END:VEVENT
BEGIN:VEVENT
DTSTART;TZID=America/Chicago:20260226T130000
DTEND;TZID=America/Chicago:20260226T140000
DTSTAMP:20260419T083854
CREATED:20260206T011831Z
LAST-MODIFIED:20260206T011831Z
UID:10012863-1772110800-1772114400@wasecalesueurlibraries.com
SUMMARY:Adult Bingo
DESCRIPTION:It’s BINGO time! Prizes for winners but fun for all. Registration required. \nPrizes sponsored by Friends of the Le Sueur Public Library
URL:https://wasecalesueurlibraries.com/event/adult-bingo-8/
LOCATION:Le Sueur Public Library\, 118 Ferry St\, Le Sueur\, MN\, 56058\, United States
CATEGORIES:Adult Events
GEO:44.4601702;-93.9161364
X-APPLE-STRUCTURED-LOCATION;VALUE=URI;X-ADDRESS=Le Sueur Public Library 118 Ferry St Le Sueur MN 56058 United States;X-APPLE-RADIUS=500;X-TITLE=118 Ferry St:geo:-93.9161364,44.4601702
END:VEVENT
BEGIN:VEVENT
DTSTART;TZID=America/Chicago:20260224T100000
DTEND;TZID=America/Chicago:20260224T110000
DTSTAMP:20260419T083854
CREATED:20260116T222504Z
LAST-MODIFIED:20260116T222504Z
UID:10012720-1771927200-1771930800@wasecalesueurlibraries.com
SUMMARY:Romp and Rhyme Story Time
DESCRIPTION:Le Sueur Public Library holds Romp and Rhyme story times. From puppets to pumping music\, from bubble machines to banging bands\, these are not your average story time. The Library uses movement\, STEAM activities\, curiosity\, imaginative play\, and active learning to keep kids engaged. Free and open to the public.
URL:https://wasecalesueurlibraries.com/event/romp-and-rhyme-story-time-128/2026-02-24/
LOCATION:Le Sueur Public Library\, 118 Ferry St\, Le Sueur\, MN\, 56058\, United States
CATEGORIES:Children's Events,Story Times
GEO:44.4601702;-93.9161364
X-APPLE-STRUCTURED-LOCATION;VALUE=URI;X-ADDRESS=Le Sueur Public Library 118 Ferry St Le Sueur MN 56058 United States;X-APPLE-RADIUS=500;X-TITLE=118 Ferry St:geo:-93.9161364,44.4601702
END:VEVENT
BEGIN:VEVENT
DTSTART;TZID=America/Chicago:20260221T100000
DTEND;TZID=America/Chicago:20260221T110000
DTSTAMP:20260419T083854
CREATED:20260203T010614Z
LAST-MODIFIED:20260203T010614Z
UID:10012813-1771668000-1771671600@wasecalesueurlibraries.com
SUMMARY:Kindergarten Card Party
DESCRIPTION:Come to the library to collect your library card\, play games\, pose with a GIANT library card\, boogie down at a dance party\, collect giveaways\, and more! Exclusively for kindergarteners and their families.
URL:https://wasecalesueurlibraries.com/event/kindergarten-card-party-25/
LOCATION:Le Sueur Public Library\, 118 Ferry St\, Le Sueur\, MN\, 56058\, United States
CATEGORIES:Book Sales,Family
GEO:44.4601702;-93.9161364
X-APPLE-STRUCTURED-LOCATION;VALUE=URI;X-ADDRESS=Le Sueur Public Library 118 Ferry St Le Sueur MN 56058 United States;X-APPLE-RADIUS=500;X-TITLE=118 Ferry St:geo:-93.9161364,44.4601702
END:VEVENT
BEGIN:VEVENT
DTSTART;TZID=America/Chicago:20260219T160000
DTEND;TZID=America/Chicago:20260219T170000
DTSTAMP:20260419T083854
CREATED:20260205T225722Z
LAST-MODIFIED:20260205T225722Z
UID:10012837-1771516800-1771520400@wasecalesueurlibraries.com
SUMMARY:Bead Art Keychain
DESCRIPTION:Use a pattern to make fun animals and shapes\, including crayons\, lizards\, and snakes by weaving pony beads together. Then turn them into keychains to create a colorful accessory. Ages 9-12.
URL:https://wasecalesueurlibraries.com/event/bead-art-keychain-2/
LOCATION:Le Sueur Public Library\, 118 Ferry St\, Le Sueur\, MN\, 56058\, United States
CATEGORIES:Children's Events
GEO:44.4601702;-93.9161364
X-APPLE-STRUCTURED-LOCATION;VALUE=URI;X-ADDRESS=Le Sueur Public Library 118 Ferry St Le Sueur MN 56058 United States;X-APPLE-RADIUS=500;X-TITLE=118 Ferry St:geo:-93.9161364,44.4601702
END:VEVENT
BEGIN:VEVENT
DTSTART;TZID=America/Chicago:20260217T160000
DTEND;TZID=America/Chicago:20260217T170000
DTSTAMP:20260419T083854
CREATED:20250925T205322Z
LAST-MODIFIED:20260408T210851Z
UID:10012825-1771344000-1771347600@wasecalesueurlibraries.com
SUMMARY:Le Sueur Lego Club
DESCRIPTION:Unlock the magic of Legos by ditching the instruction manual and building your own! Lego builders will be given a theme to inspire their creations. Geared for ages 7-12.
URL:https://wasecalesueurlibraries.com/event/le-sueur-lego-club-18/2026-02-17/
LOCATION:Le Sueur Public Library\, 118 Ferry St\, Le Sueur\, MN\, 56058\, United States
CATEGORIES:Children's Events
GEO:44.4601702;-93.9161364
X-APPLE-STRUCTURED-LOCATION;VALUE=URI;X-ADDRESS=Le Sueur Public Library 118 Ferry St Le Sueur MN 56058 United States;X-APPLE-RADIUS=500;X-TITLE=118 Ferry St:geo:-93.9161364,44.4601702
END:VEVENT
BEGIN:VEVENT
DTSTART;TZID=America/Chicago:20260217T100000
DTEND;TZID=America/Chicago:20260217T110000
DTSTAMP:20260419T083854
CREATED:20260116T222504Z
LAST-MODIFIED:20260116T222504Z
UID:10012719-1771322400-1771326000@wasecalesueurlibraries.com
SUMMARY:Romp and Rhyme Story Time
DESCRIPTION:Le Sueur Public Library holds Romp and Rhyme story times. From puppets to pumping music\, from bubble machines to banging bands\, these are not your average story time. The Library uses movement\, STEAM activities\, curiosity\, imaginative play\, and active learning to keep kids engaged. Free and open to the public.
URL:https://wasecalesueurlibraries.com/event/romp-and-rhyme-story-time-128/2026-02-17/
LOCATION:Le Sueur Public Library\, 118 Ferry St\, Le Sueur\, MN\, 56058\, United States
CATEGORIES:Children's Events,Story Times
GEO:44.4601702;-93.9161364
X-APPLE-STRUCTURED-LOCATION;VALUE=URI;X-ADDRESS=Le Sueur Public Library 118 Ferry St Le Sueur MN 56058 United States;X-APPLE-RADIUS=500;X-TITLE=118 Ferry St:geo:-93.9161364,44.4601702
END:VEVENT
BEGIN:VEVENT
DTSTART;TZID=America/Chicago:20260212T180000
DTEND;TZID=America/Chicago:20260212T190000
DTSTAMP:20260419T083854
CREATED:20260203T010202Z
LAST-MODIFIED:20260203T010202Z
UID:10012811-1770919200-1770922800@wasecalesueurlibraries.com
SUMMARY:Floral Print by Numbers
DESCRIPTION:Create a beautiful floral painting using a guided paint-by-numbers design. Ages 18+. \nRegister now. \nSponsored by Friends of the Le Sueur Public Library
URL:https://wasecalesueurlibraries.com/event/floral-print-by-numbers/2026-02-12/2/
LOCATION:Le Sueur Public Library\, 118 Ferry St\, Le Sueur\, MN\, 56058\, United States
CATEGORIES:Adult Events
GEO:44.4601702;-93.9161364
X-APPLE-STRUCTURED-LOCATION;VALUE=URI;X-ADDRESS=Le Sueur Public Library 118 Ferry St Le Sueur MN 56058 United States;X-APPLE-RADIUS=500;X-TITLE=118 Ferry St:geo:-93.9161364,44.4601702
END:VEVENT
BEGIN:VEVENT
DTSTART;TZID=America/Chicago:20260212T130000
DTEND;TZID=America/Chicago:20260212T140000
DTSTAMP:20260419T083854
CREATED:20260203T010202Z
LAST-MODIFIED:20260203T010202Z
UID:10012810-1770901200-1770904800@wasecalesueurlibraries.com
SUMMARY:Floral Print by Numbers
DESCRIPTION:Create a beautiful floral painting using a guided paint-by-numbers design. Ages 18+. \nRegister now. \nSponsored by Friends of the Le Sueur Public Library
URL:https://wasecalesueurlibraries.com/event/floral-print-by-numbers/2026-02-12/1/
LOCATION:Le Sueur Public Library\, 118 Ferry St\, Le Sueur\, MN\, 56058\, United States
CATEGORIES:Adult Events
GEO:44.4601702;-93.9161364
X-APPLE-STRUCTURED-LOCATION;VALUE=URI;X-ADDRESS=Le Sueur Public Library 118 Ferry St Le Sueur MN 56058 United States;X-APPLE-RADIUS=500;X-TITLE=118 Ferry St:geo:-93.9161364,44.4601702
END:VEVENT
END:VCALENDAR