BEGIN:VCALENDAR
VERSION:2.0
PRODID:-//Waseca-Le Sueur Library - ECPv6.15.20//NONSGML v1.0//EN
CALSCALE:GREGORIAN
METHOD:PUBLISH
X-WR-CALNAME:Waseca-Le Sueur Library
X-ORIGINAL-URL:https://wasecalesueurlibraries.com
X-WR-CALDESC:Events for Waseca-Le Sueur Library
REFRESH-INTERVAL;VALUE=DURATION:PT1H
X-Robots-Tag:noindex
X-PUBLISHED-TTL:PT1H
BEGIN:VTIMEZONE
TZID:America/Denver
BEGIN:DAYLIGHT
TZOFFSETFROM:-0700
TZOFFSETTO:-0600
TZNAME:MDT
DTSTART:20180311T090000
END:DAYLIGHT
BEGIN:STANDARD
TZOFFSETFROM:-0600
TZOFFSETTO:-0700
TZNAME:MST
DTSTART:20181104T080000
END:STANDARD
BEGIN:DAYLIGHT
TZOFFSETFROM:-0700
TZOFFSETTO:-0600
TZNAME:MDT
DTSTART:20190310T090000
END:DAYLIGHT
BEGIN:STANDARD
TZOFFSETFROM:-0600
TZOFFSETTO:-0700
TZNAME:MST
DTSTART:20191103T080000
END:STANDARD
BEGIN:DAYLIGHT
TZOFFSETFROM:-0700
TZOFFSETTO:-0600
TZNAME:MDT
DTSTART:20200308T090000
END:DAYLIGHT
BEGIN:STANDARD
TZOFFSETFROM:-0600
TZOFFSETTO:-0700
TZNAME:MST
DTSTART:20201101T080000
END:STANDARD
END:VTIMEZONE
BEGIN:VEVENT
DTSTART;TZID=America/Denver:20190403T180000
DTEND;TZID=America/Denver:20190403T190000
DTSTAMP:20260423T145241
CREATED:20190410T173554Z
LAST-MODIFIED:20190410T173554Z
UID:10008745-1554314400-1554318000@wasecalesueurlibraries.com
SUMMARY:Tell Your Story Book Launch Party
DESCRIPTION:This winter\, Cow Tipping Press and Waseca Public Library held an innovative creative writing workshop series for adults with developmental disabilities. The writers are now authors with their work included in a published book—a compilation of work written by the class. Join us to celebrate their work at our book launch party where the writers will be reading their work. \nPUBLIC READING: April 3rd 6 PM Trio Coffee\, Wine\, & Ale House\, Waseca \nThis activity is made possible by the voters of Minnesota through a grant from the Prairie Lakes Regional Arts Council\, thanks to a legislative appropriation from the Arts and Cultural Heritage Fund.
URL:https://wasecalesueurlibraries.com/event/tell-your-story-book-launch-party/
LOCATION:Trio Coffee\, Wine\, and Ale House\, 100 N State St\, Waseca\, MN\, 56093\, United States
CATEGORIES:Adult Events
ORGANIZER;CN="":MAILTO:lienemannthelibrarian@gmail.com
END:VEVENT
END:VCALENDAR