BEGIN:VCALENDAR
VERSION:2.0
PRODID:-//Waseca-Le Sueur Library - ECPv6.15.20//NONSGML v1.0//EN
CALSCALE:GREGORIAN
METHOD:PUBLISH
X-ORIGINAL-URL:https://wasecalesueurlibraries.com
X-WR-CALDESC:Events for Waseca-Le Sueur Library
REFRESH-INTERVAL;VALUE=DURATION:PT1H
X-Robots-Tag:noindex
X-PUBLISHED-TTL:PT1H
BEGIN:VTIMEZONE
TZID:America/Chicago
BEGIN:DAYLIGHT
TZOFFSETFROM:-0600
TZOFFSETTO:-0500
TZNAME:CDT
DTSTART:20220313T080000
END:DAYLIGHT
BEGIN:STANDARD
TZOFFSETFROM:-0500
TZOFFSETTO:-0600
TZNAME:CST
DTSTART:20221106T070000
END:STANDARD
BEGIN:DAYLIGHT
TZOFFSETFROM:-0600
TZOFFSETTO:-0500
TZNAME:CDT
DTSTART:20230312T080000
END:DAYLIGHT
BEGIN:STANDARD
TZOFFSETFROM:-0500
TZOFFSETTO:-0600
TZNAME:CST
DTSTART:20231105T070000
END:STANDARD
BEGIN:DAYLIGHT
TZOFFSETFROM:-0600
TZOFFSETTO:-0500
TZNAME:CDT
DTSTART:20240310T080000
END:DAYLIGHT
BEGIN:STANDARD
TZOFFSETFROM:-0500
TZOFFSETTO:-0600
TZNAME:CST
DTSTART:20241103T070000
END:STANDARD
END:VTIMEZONE
BEGIN:VEVENT
DTSTART;TZID=America/Chicago:20230904T143000
DTEND;TZID=America/Chicago:20230904T153000
DTSTAMP:20260424T164700
CREATED:20230724T133659Z
LAST-MODIFIED:20230724T134331Z
UID:10010311-1693837800-1693841400@wasecalesueurlibraries.com
SUMMARY:Little Coders
DESCRIPTION:Have a BLAST with beginning coding activities! Kids will learn sequencing\, problem-solving\, storytelling\, and directional skills through active and social play! Geared for ages 4-6 pm\, with an adult.
URL:https://wasecalesueurlibraries.com/event/little-coders-14/2023-09-04/
LOCATION:Waterville Public Library\, 210 Paquin St\, Waterville\, MN\, 56096\, United States
CATEGORIES:Children's Events,Family
GEO:44.2177999;-93.5709706
X-APPLE-STRUCTURED-LOCATION;VALUE=URI;X-ADDRESS=Waterville Public Library 210 Paquin St Waterville MN 56096 United States;X-APPLE-RADIUS=500;X-TITLE=210 Paquin St:geo:-93.5709706,44.2177999
END:VEVENT
BEGIN:VEVENT
DTSTART;TZID=America/Chicago:20230905T093000
DTEND;TZID=America/Chicago:20230905T103000
DTSTAMP:20260424T164700
CREATED:20230511T185543Z
LAST-MODIFIED:20230929T212430Z
UID:10010054-1693906200-1693909800@wasecalesueurlibraries.com
SUMMARY:Romp and Rhyme Story Time
DESCRIPTION:Le Center Public Library holds Romp and Rhyme story times on Tuesdays at 9:30 am. From puppets to pumping music\, from bubble machines to banging bands\, these are not your average story time. The Library uses movement\, STEAM activities\, curiosity\, imaginative play\, and active learning to keep kids engaged. Free and open to the public.
URL:https://wasecalesueurlibraries.com/event/romp-and-rhyme-story-time-80/2023-09-05/
LOCATION:Le Center Public Library\, 10 W Tyrone St\, Le Center\, MN\, 56057\, United States
CATEGORIES:Children's Events,Story Times
GEO:44.3907505;-93.7316339
X-APPLE-STRUCTURED-LOCATION;VALUE=URI;X-ADDRESS=Le Center Public Library 10 W Tyrone St Le Center MN 56057 United States;X-APPLE-RADIUS=500;X-TITLE=10 W Tyrone St:geo:-93.7316339,44.3907505
END:VEVENT
BEGIN:VEVENT
DTSTART;TZID=America/Chicago:20230905T100000
DTEND;TZID=America/Chicago:20230905T110000
DTSTAMP:20260424T164700
CREATED:20230911T212036Z
LAST-MODIFIED:20240530T182247Z
UID:10010405-1693908000-1693911600@wasecalesueurlibraries.com
SUMMARY:Romp and Rhyme Story Time
DESCRIPTION:Le Sueur Public Library holds Romp and Rhyme story times on Tuesdays at 10 am. From puppets to pumping music\, from bubble machines to banging bands\, these are not your average story time. The Library uses movement\, STEAM activities\, curiosity\, imaginative play\, and active learning to keep kids engaged. Free and open to the public.
URL:https://wasecalesueurlibraries.com/event/romp-and-rhyme-story-time-83/2023-09-05/
LOCATION:Le Sueur Public Library\, 118 Ferry St\, Le Sueur\, MN\, 56058\, United States
CATEGORIES:Children's Events,Story Times
GEO:44.4601702;-93.9161364
X-APPLE-STRUCTURED-LOCATION;VALUE=URI;X-ADDRESS=Le Sueur Public Library 118 Ferry St Le Sueur MN 56058 United States;X-APPLE-RADIUS=500;X-TITLE=118 Ferry St:geo:-93.9161364,44.4601702
END:VEVENT
BEGIN:VEVENT
DTSTART;TZID=America/Chicago:20230905T140000
DTEND;TZID=America/Chicago:20230905T150000
DTSTAMP:20260424T164700
CREATED:20230908T211305Z
LAST-MODIFIED:20230908T211305Z
UID:10010320-1693922400-1693926000@wasecalesueurlibraries.com
SUMMARY:Spice Club
DESCRIPTION:Do you like to try new flavors and recipes? Each month we’ll feature a new spice and make it available in a small FREE take-home kit. Then we’ll meet up to learn more about the spice’s history and its uses. Plus we’ll share what everyone made with the spice. \nRegister now! \n 
URL:https://wasecalesueurlibraries.com/event/spice-club-4/
LOCATION:Waterville Public Library\, 210 Paquin St\, Waterville\, MN\, 56096\, United States
CATEGORIES:Adult Events
GEO:44.2177999;-93.5709706
X-APPLE-STRUCTURED-LOCATION;VALUE=URI;X-ADDRESS=Waterville Public Library 210 Paquin St Waterville MN 56096 United States;X-APPLE-RADIUS=500;X-TITLE=210 Paquin St:geo:-93.5709706,44.2177999
END:VEVENT
BEGIN:VEVENT
DTSTART;TZID=America/Chicago:20230905T153000
DTEND;TZID=America/Chicago:20230905T163000
DTSTAMP:20260424T164700
CREATED:20230911T204150Z
LAST-MODIFIED:20241204T193711Z
UID:10010341-1693927800-1693931400@wasecalesueurlibraries.com
SUMMARY:Janesville Lego Club
DESCRIPTION:Kids are invited to join our creative Lego-building club. Each event will have a theme to inspire and Legos to build with.
URL:https://wasecalesueurlibraries.com/event/janesville-lego-club-9/2023-09-05/
LOCATION:Janesville Public Library\, 100 W 2nd St\, Janesville\, MN\, 56048\, United States
CATEGORIES:Children's Events
GEO:44.1173302;-93.7075406
X-APPLE-STRUCTURED-LOCATION;VALUE=URI;X-ADDRESS=Janesville Public Library 100 W 2nd St Janesville MN 56048 United States;X-APPLE-RADIUS=500;X-TITLE=100 W 2nd St:geo:-93.7075406,44.1173302
END:VEVENT
BEGIN:VEVENT
DTSTART;TZID=America/Chicago:20230905T160000
DTEND;TZID=America/Chicago:20230905T170000
DTSTAMP:20260424T164700
CREATED:20230724T132153Z
LAST-MODIFIED:20240501T171615Z
UID:10010262-1693929600-1693933200@wasecalesueurlibraries.com
SUMMARY:Waldorf Lego Club
DESCRIPTION:Kids are invited to join our creative Lego-building club. Each event will have a theme to inspire and Legos to build with.
URL:https://wasecalesueurlibraries.com/event/waldorf-lego-club-5/2023-09-05/
LOCATION:Waldorf Public Library\, 119 S Main St\, Waldorf\, MN\, 56091\, United States
CATEGORIES:Children's Events
GEO:43.9365286;-93.697592
X-APPLE-STRUCTURED-LOCATION;VALUE=URI;X-ADDRESS=Waldorf Public Library 119 S Main St Waldorf MN 56091 United States;X-APPLE-RADIUS=500;X-TITLE=119 S Main St:geo:-93.697592,43.9365286
END:VEVENT
BEGIN:VEVENT
DTSTART;TZID=America/Chicago:20230905T173000
DTEND;TZID=America/Chicago:20230905T183000
DTSTAMP:20260424T164700
CREATED:20230911T203218Z
LAST-MODIFIED:20230911T203218Z
UID:10010327-1693935000-1693938600@wasecalesueurlibraries.com
SUMMARY:Colorful Abstract Painting
DESCRIPTION:Learn how to create a cohesive palette\, then evaluate and build your work of art full of confident swaths of color. Geared for adults. \nRegister now. \nThis event is made possible by the voters of Minnesota through a grant provided by the Traverse des Sioux Library Cooperative\, thanks to a legislative appropriation from the arts and cultural heritage fund. \n 
URL:https://wasecalesueurlibraries.com/event/colorful-abstract-painting-4/
LOCATION:Le Center Public Library\, 10 W Tyrone St\, Le Center\, MN\, 56057\, United States
CATEGORIES:Adult Events
GEO:44.3907505;-93.7316339
X-APPLE-STRUCTURED-LOCATION;VALUE=URI;X-ADDRESS=Le Center Public Library 10 W Tyrone St Le Center MN 56057 United States;X-APPLE-RADIUS=500;X-TITLE=10 W Tyrone St:geo:-93.7316339,44.3907505
END:VEVENT
BEGIN:VEVENT
DTSTART;TZID=America/Chicago:20230905T180000
DTEND;TZID=America/Chicago:20230905T190000
DTSTAMP:20260424T164700
CREATED:20230911T204001Z
LAST-MODIFIED:20240129T222350Z
UID:10010335-1693936800-1693940400@wasecalesueurlibraries.com
SUMMARY:Board Game Night
DESCRIPTION:Join us for a night of gaming. We’ll have a variety of games to choose from and we’ll teach a new game. Geared for families. \n 
URL:https://wasecalesueurlibraries.com/event/board-game-night-2/2023-09-05/
LOCATION:Janesville Public Library\, 100 W 2nd St\, Janesville\, MN\, 56048\, United States
CATEGORIES:Children's Events
GEO:44.1173302;-93.7075406
X-APPLE-STRUCTURED-LOCATION;VALUE=URI;X-ADDRESS=Janesville Public Library 100 W 2nd St Janesville MN 56048 United States;X-APPLE-RADIUS=500;X-TITLE=100 W 2nd St:geo:-93.7075406,44.1173302
END:VEVENT
BEGIN:VEVENT
DTSTART;TZID=America/Chicago:20230905T183000
DTEND;TZID=America/Chicago:20230905T203000
DTSTAMP:20260424T164700
CREATED:20230911T211521Z
LAST-MODIFIED:20230911T211521Z
UID:10010387-1693938600-1693945800@wasecalesueurlibraries.com
SUMMARY:Jigsaw Puzzle Derby
DESCRIPTION:Assemble a team of up to 4 players to compete in a jigsaw puzzle competition. The first team to complete the puzzle wins a prize (and bragging rights)! Registration required. \nPrizes sponsored by Friends of the Library groups \n 
URL:https://wasecalesueurlibraries.com/event/jigsaw-puzzle-derby-36/
LOCATION:Montgomery Public Library\, 104 Oak Ave SE\, Montgomery\, MN\, 56069\, United States
CATEGORIES:Adult Events
GEO:44.4355889;-93.5810028
X-APPLE-STRUCTURED-LOCATION;VALUE=URI;X-ADDRESS=Montgomery Public Library 104 Oak Ave SE Montgomery MN 56069 United States;X-APPLE-RADIUS=500;X-TITLE=104 Oak Ave SE:geo:-93.5810028,44.4355889
END:VEVENT
BEGIN:VEVENT
DTSTART;TZID=America/Chicago:20230906T090000
DTEND;TZID=America/Chicago:20230906T110000
DTSTAMP:20260424T164700
CREATED:20230911T211603Z
LAST-MODIFIED:20230911T211603Z
UID:10010388-1693990800-1693998000@wasecalesueurlibraries.com
SUMMARY:Jigsaw Puzzle Derby
DESCRIPTION:Assemble a team of up to 4 players to compete in a jigsaw puzzle competition. The first team to complete the puzzle wins a prize (and bragging rights)! Registration required. \nPrizes sponsored by Friends of the Library groups \n 
URL:https://wasecalesueurlibraries.com/event/jigsaw-puzzle-derby-37/
LOCATION:Elysian Public Library\, 202 E Main St\, Elysian\, MN\, 56028\, United States
CATEGORIES:Adult Events
GEO:44.198703;-93.6724641
X-APPLE-STRUCTURED-LOCATION;VALUE=URI;X-ADDRESS=Elysian Public Library 202 E Main St Elysian MN 56028 United States;X-APPLE-RADIUS=500;X-TITLE=202 E Main St:geo:-93.6724641,44.198703
END:VEVENT
BEGIN:VEVENT
DTSTART;TZID=America/Chicago:20230906T100000
DTEND;TZID=America/Chicago:20230906T110000
DTSTAMP:20260424T164700
CREATED:20230911T211658Z
LAST-MODIFIED:20230911T211658Z
UID:10010389-1693994400-1693998000@wasecalesueurlibraries.com
SUMMARY:Jigsaw Puzzle Derby
DESCRIPTION:Assemble a team of up to 4 players to compete in a jigsaw puzzle competition. The first team to complete the puzzle wins a prize (and bragging rights)! Registration required. \nPrizes sponsored by Friends of the Library groups
URL:https://wasecalesueurlibraries.com/event/jigsaw-puzzle-derby-38/
LOCATION:Waseca Public Library\, 408 N State St\, Waseca\, MN\, 56093\, United States
CATEGORIES:Adult Events
GEO:44.0809183;-93.5069008
X-APPLE-STRUCTURED-LOCATION;VALUE=URI;X-ADDRESS=Waseca Public Library 408 N State St Waseca MN 56093 United States;X-APPLE-RADIUS=500;X-TITLE=408 N State St:geo:-93.5069008,44.0809183
END:VEVENT
BEGIN:VEVENT
DTSTART;TZID=America/Chicago:20230906T103000
DTEND;TZID=America/Chicago:20230906T113000
DTSTAMP:20260424T164700
CREATED:20230911T205815Z
LAST-MODIFIED:20230911T205815Z
UID:10008386-1693996200-1693999800@wasecalesueurlibraries.com
SUMMARY:Little Coders
DESCRIPTION:Have a BLAST with beginning coding activities! Kids will learn sequencing\, problem-solving\, storytelling\, and directional skills through active and social play! Geared for ages 4-6 pm\, with an adult. \n 
URL:https://wasecalesueurlibraries.com/event/little-coders-15/2023-09-06/
LOCATION:New Richland Public Library\, 129 Broadway Ave S\, New Richland\, MN\, 56072\, United States
CATEGORIES:Children's Events
GEO:43.8935599;-93.4938211
X-APPLE-STRUCTURED-LOCATION;VALUE=URI;X-ADDRESS=New Richland Public Library 129 Broadway Ave S New Richland MN 56072 United States;X-APPLE-RADIUS=500;X-TITLE=129 Broadway Ave S:geo:-93.4938211,43.8935599
END:VEVENT
BEGIN:VEVENT
DTSTART;TZID=America/Chicago:20230906T160000
DTEND;TZID=America/Chicago:20230906T170000
DTSTAMP:20260424T164700
CREATED:20230705T164632Z
LAST-MODIFIED:20240501T173441Z
UID:10010189-1694016000-1694019600@wasecalesueurlibraries.com
SUMMARY:Romp and Rhyme Story Time
DESCRIPTION:Waldorf Public Library holds Romp and Rhyme story times on Wednesdays at 3 pm. From puppets to pumping music\, from bubble machines to banging bands\, these are not your average story time. The Library uses movement\, STEAM activities\, curiosity\, imaginative play\, and active learning to keep kids engaged. Free and open to the public.
URL:https://wasecalesueurlibraries.com/event/romp-and-rhyme-story-time-81/2023-09-06/
LOCATION:Waldorf Public Library\, 119 S Main St\, Waldorf\, MN\, 56091\, United States
CATEGORIES:Children's Events,Story Times
GEO:43.9365286;-93.697592
X-APPLE-STRUCTURED-LOCATION;VALUE=URI;X-ADDRESS=Waldorf Public Library 119 S Main St Waldorf MN 56091 United States;X-APPLE-RADIUS=500;X-TITLE=119 S Main St:geo:-93.697592,43.9365286
END:VEVENT
BEGIN:VEVENT
DTSTART;TZID=America/Chicago:20230907T100000
DTEND;TZID=America/Chicago:20230907T110000
DTSTAMP:20260424T164700
CREATED:20230911T212416Z
LAST-MODIFIED:20240227T194635Z
UID:10010460-1694080800-1694084400@wasecalesueurlibraries.com
SUMMARY:Romp and Rhyme Story Time
DESCRIPTION:Elysian Area Library holds Romp and Rhyme story times at 10 am on select dates. From puppets to pumping music\, from bubble machines to banging bands\, these are not your average story time. The Library uses movement\, STEAM activities\, curiosity\, imaginative play\, and active learning to keep kids engaged. Free and open to the public.
URL:https://wasecalesueurlibraries.com/event/romp-and-rhyme-story-time-86/2023-09-07/
LOCATION:Elysian Public Library\, 202 E Main St\, Elysian\, MN\, 56028\, United States
CATEGORIES:Children's Events,Story Times
GEO:44.198703;-93.6724641
X-APPLE-STRUCTURED-LOCATION;VALUE=URI;X-ADDRESS=Elysian Public Library 202 E Main St Elysian MN 56028 United States;X-APPLE-RADIUS=500;X-TITLE=202 E Main St:geo:-93.6724641,44.198703
END:VEVENT
BEGIN:VEVENT
DTSTART;TZID=America/Chicago:20230907T153000
DTEND;TZID=America/Chicago:20230907T163000
DTSTAMP:20260424T164700
CREATED:20230911T204150Z
LAST-MODIFIED:20241204T193711Z
UID:10010342-1694100600-1694104200@wasecalesueurlibraries.com
SUMMARY:Janesville Lego Club
DESCRIPTION:Kids are invited to join our creative Lego-building club. Each event will have a theme to inspire and Legos to build with.
URL:https://wasecalesueurlibraries.com/event/janesville-lego-club-9/2023-09-07/
LOCATION:Janesville Public Library\, 100 W 2nd St\, Janesville\, MN\, 56048\, United States
CATEGORIES:Children's Events
GEO:44.1173302;-93.7075406
X-APPLE-STRUCTURED-LOCATION;VALUE=URI;X-ADDRESS=Janesville Public Library 100 W 2nd St Janesville MN 56048 United States;X-APPLE-RADIUS=500;X-TITLE=100 W 2nd St:geo:-93.7075406,44.1173302
END:VEVENT
BEGIN:VEVENT
DTSTART;TZID=America/Chicago:20230907T180000
DTEND;TZID=America/Chicago:20230907T190000
DTSTAMP:20260424T164700
CREATED:20230908T205245Z
LAST-MODIFIED:20230908T205245Z
UID:10008351-1694109600-1694113200@wasecalesueurlibraries.com
SUMMARY:Author Event: Lidia Matticchio Bastianich
DESCRIPTION:Spend an evening with television host Lidia Bastianich as she talks about her memoir My American Dream: A Life of Love\, Family\, and Food.  Heartwarming\, deeply personal\, and inspiring\, My American Dream is the story of Lidia’s close-knit family and her dedication and endless passion for food. \nRegister now. \nThese events are made possible by the voters of Minnesota through a grant provided by the Traverse des Sioux Library Cooperative\, thanks to a legislative appropriation from the arts and cultural heritage fund.
URL:https://wasecalesueurlibraries.com/event/author-event-lidia-matticchio-bastianich/
LOCATION:Virtual Event\, MN\, United States
CATEGORIES:Adult Events,Author Event
END:VEVENT
BEGIN:VEVENT
DTSTART;TZID=America/Chicago:20230909T100000
DTEND;TZID=America/Chicago:20230909T110000
DTSTAMP:20260424T164700
CREATED:20230911T204235Z
LAST-MODIFIED:20240328T010752Z
UID:10010354-1694253600-1694257200@wasecalesueurlibraries.com
SUMMARY:Elysian Lego Club
DESCRIPTION:Kids are invited to join our creative Lego-building club. Each event will have a theme to inspire and Legos to build with.
URL:https://wasecalesueurlibraries.com/event/elysian-lego-club-5/2023-09-09/
LOCATION:Elysian Public Library\, 202 E Main St\, Elysian\, MN\, 56028\, United States
CATEGORIES:Children's Events
GEO:44.198703;-93.6724641
X-APPLE-STRUCTURED-LOCATION;VALUE=URI;X-ADDRESS=Elysian Public Library 202 E Main St Elysian MN 56028 United States;X-APPLE-RADIUS=500;X-TITLE=202 E Main St:geo:-93.6724641,44.198703
END:VEVENT
BEGIN:VEVENT
DTSTART;TZID=America/Chicago:20230911T100000
DTEND;TZID=America/Chicago:20230911T110000
DTSTAMP:20260424T164700
CREATED:20230911T211856Z
LAST-MODIFIED:20240328T015244Z
UID:10010390-1694426400-1694430000@wasecalesueurlibraries.com
SUMMARY:Romp and Rhyme Story Time
DESCRIPTION:Waterville Public Library holds Romp and Rhyme story times at 10 am on select dates. From puppets to pumping music\, from bubble machines to banging bands\, these are not your average story time. The Library uses movement\, STEAM activities\, curiosity\, imaginative play\, and active learning to keep kids engaged. Free and open to the public.
URL:https://wasecalesueurlibraries.com/event/romp-and-rhyme-story-time-82/2023-09-11/
LOCATION:Waterville Public Library\, 210 Paquin St\, Waterville\, MN\, 56096\, United States
CATEGORIES:Children's Events,Story Times
GEO:44.2177999;-93.5709706
X-APPLE-STRUCTURED-LOCATION;VALUE=URI;X-ADDRESS=Waterville Public Library 210 Paquin St Waterville MN 56096 United States;X-APPLE-RADIUS=500;X-TITLE=210 Paquin St:geo:-93.5709706,44.2177999
END:VEVENT
BEGIN:VEVENT
DTSTART;TZID=America/Chicago:20230911T153000
DTEND;TZID=America/Chicago:20230911T170000
DTSTAMP:20260424T164700
CREATED:20230911T204340Z
LAST-MODIFIED:20230911T204340Z
UID:10010360-1694446200-1694451600@wasecalesueurlibraries.com
SUMMARY:Montgomery Lego Club
DESCRIPTION:Kids are invited to join our creative Lego-building club. Each event will have a theme to inspire and Legos to build with.
URL:https://wasecalesueurlibraries.com/event/montgomery-lego-club-13/
LOCATION:Montgomery Public Library\, 104 Oak Ave SE\, Montgomery\, MN\, 56069\, United States
CATEGORIES:Children's Events
GEO:44.4355889;-93.5810028
X-APPLE-STRUCTURED-LOCATION;VALUE=URI;X-ADDRESS=Montgomery Public Library 104 Oak Ave SE Montgomery MN 56069 United States;X-APPLE-RADIUS=500;X-TITLE=104 Oak Ave SE:geo:-93.5810028,44.4355889
END:VEVENT
BEGIN:VEVENT
DTSTART;TZID=America/Chicago:20230911T163000
DTEND;TZID=America/Chicago:20230911T173000
DTSTAMP:20260424T164700
CREATED:20230911T204716Z
LAST-MODIFIED:20230911T204716Z
UID:10008381-1694449800-1694453400@wasecalesueurlibraries.com
SUMMARY:Scooby-Doo Party
DESCRIPTION:Zoinks! Scooby has been kidnapped! Join the rest of the gang to follow the clues to discover which villain dognapped him! Ages 8-12. \n 
URL:https://wasecalesueurlibraries.com/event/scooby-doo-party/
LOCATION:Le Center Public Library\, 10 W Tyrone St\, Le Center\, MN\, 56057\, United States
CATEGORIES:Children's Events
GEO:44.3907505;-93.7316339
X-APPLE-STRUCTURED-LOCATION;VALUE=URI;X-ADDRESS=Le Center Public Library 10 W Tyrone St Le Center MN 56057 United States;X-APPLE-RADIUS=500;X-TITLE=10 W Tyrone St:geo:-93.7316339,44.3907505
END:VEVENT
BEGIN:VEVENT
DTSTART;TZID=America/Chicago:20230911T180000
DTEND;TZID=America/Chicago:20230911T190000
DTSTAMP:20260424T164700
CREATED:20230908T211424Z
LAST-MODIFIED:20230908T211424Z
UID:10010321-1694455200-1694458800@wasecalesueurlibraries.com
SUMMARY:Spice Club
DESCRIPTION:Do you like to try new flavors and recipes? Each month we’ll feature a new spice and make it available in a small FREE take-home kit. Then we’ll meet up to learn more about the spice’s history and its uses. Plus we’ll share what everyone made with the spice. \nRegister now!
URL:https://wasecalesueurlibraries.com/event/spice-club-5/
LOCATION:Le Sueur Public Library\, 118 Ferry St\, Le Sueur\, MN\, 56058\, United States
CATEGORIES:Adult Events
GEO:44.4601702;-93.9161364
X-APPLE-STRUCTURED-LOCATION;VALUE=URI;X-ADDRESS=Le Sueur Public Library 118 Ferry St Le Sueur MN 56058 United States;X-APPLE-RADIUS=500;X-TITLE=118 Ferry St:geo:-93.9161364,44.4601702
END:VEVENT
BEGIN:VEVENT
DTSTART;TZID=America/Chicago:20230912T093000
DTEND;TZID=America/Chicago:20230912T103000
DTSTAMP:20260424T164700
CREATED:20230511T185543Z
LAST-MODIFIED:20230929T212430Z
UID:10010055-1694511000-1694514600@wasecalesueurlibraries.com
SUMMARY:Romp and Rhyme Story Time
DESCRIPTION:Le Center Public Library holds Romp and Rhyme story times on Tuesdays at 9:30 am. From puppets to pumping music\, from bubble machines to banging bands\, these are not your average story time. The Library uses movement\, STEAM activities\, curiosity\, imaginative play\, and active learning to keep kids engaged. Free and open to the public.
URL:https://wasecalesueurlibraries.com/event/romp-and-rhyme-story-time-80/2023-09-12/
LOCATION:Le Center Public Library\, 10 W Tyrone St\, Le Center\, MN\, 56057\, United States
CATEGORIES:Children's Events,Story Times
GEO:44.3907505;-93.7316339
X-APPLE-STRUCTURED-LOCATION;VALUE=URI;X-ADDRESS=Le Center Public Library 10 W Tyrone St Le Center MN 56057 United States;X-APPLE-RADIUS=500;X-TITLE=10 W Tyrone St:geo:-93.7316339,44.3907505
END:VEVENT
BEGIN:VEVENT
DTSTART;TZID=America/Chicago:20230912T100000
DTEND;TZID=America/Chicago:20230912T110000
DTSTAMP:20260424T164700
CREATED:20230911T212036Z
LAST-MODIFIED:20240530T182247Z
UID:10010406-1694512800-1694516400@wasecalesueurlibraries.com
SUMMARY:Romp and Rhyme Story Time
DESCRIPTION:Le Sueur Public Library holds Romp and Rhyme story times on Tuesdays at 10 am. From puppets to pumping music\, from bubble machines to banging bands\, these are not your average story time. The Library uses movement\, STEAM activities\, curiosity\, imaginative play\, and active learning to keep kids engaged. Free and open to the public.
URL:https://wasecalesueurlibraries.com/event/romp-and-rhyme-story-time-83/2023-09-12/
LOCATION:Le Sueur Public Library\, 118 Ferry St\, Le Sueur\, MN\, 56058\, United States
CATEGORIES:Children's Events,Story Times
GEO:44.4601702;-93.9161364
X-APPLE-STRUCTURED-LOCATION;VALUE=URI;X-ADDRESS=Le Sueur Public Library 118 Ferry St Le Sueur MN 56058 United States;X-APPLE-RADIUS=500;X-TITLE=118 Ferry St:geo:-93.9161364,44.4601702
END:VEVENT
BEGIN:VEVENT
DTSTART;TZID=America/Chicago:20230912T130000
DTEND;TZID=America/Chicago:20230912T140000
DTSTAMP:20260424T164700
CREATED:20230911T203538Z
LAST-MODIFIED:20230911T203538Z
UID:10010330-1694523600-1694527200@wasecalesueurlibraries.com
SUMMARY:Stamped Leather Keychains
DESCRIPTION:Create a chic\, personalized leather keychain. Geared for adults. \nThis event is made possible by the voters of Minnesota through a grant provided by the Traverse des Sioux Library Cooperative\, thanks to a legislative appropriation from the arts and cultural heritage fund. \n 
URL:https://wasecalesueurlibraries.com/event/stamped-leather-keychains/2023-09-12/1/
LOCATION:Le Sueur Public Library\, 118 Ferry St\, Le Sueur\, MN\, 56058\, United States
GEO:44.4601702;-93.9161364
X-APPLE-STRUCTURED-LOCATION;VALUE=URI;X-ADDRESS=Le Sueur Public Library 118 Ferry St Le Sueur MN 56058 United States;X-APPLE-RADIUS=500;X-TITLE=118 Ferry St:geo:-93.9161364,44.4601702
END:VEVENT
BEGIN:VEVENT
DTSTART;TZID=America/Chicago:20230912T160000
DTEND;TZID=America/Chicago:20230912T170000
DTSTAMP:20260424T164700
CREATED:20230724T132153Z
LAST-MODIFIED:20240501T171615Z
UID:10010263-1694534400-1694538000@wasecalesueurlibraries.com
SUMMARY:Waldorf Lego Club
DESCRIPTION:Kids are invited to join our creative Lego-building club. Each event will have a theme to inspire and Legos to build with.
URL:https://wasecalesueurlibraries.com/event/waldorf-lego-club-5/2023-09-12/
LOCATION:Waldorf Public Library\, 119 S Main St\, Waldorf\, MN\, 56091\, United States
CATEGORIES:Children's Events
GEO:43.9365286;-93.697592
X-APPLE-STRUCTURED-LOCATION;VALUE=URI;X-ADDRESS=Waldorf Public Library 119 S Main St Waldorf MN 56091 United States;X-APPLE-RADIUS=500;X-TITLE=119 S Main St:geo:-93.697592,43.9365286
END:VEVENT
BEGIN:VEVENT
DTSTART;TZID=America/Chicago:20230912T170000
DTEND;TZID=America/Chicago:20230912T180000
DTSTAMP:20260424T164700
CREATED:20230908T210902Z
LAST-MODIFIED:20230908T210902Z
UID:10010318-1694538000-1694541600@wasecalesueurlibraries.com
SUMMARY:Vinyl Records Care and Collecting
DESCRIPTION:Are you a collector of vinyl records? Join us to learn more about categorization\, pricing\, and cleaning of vinyl records. \n 
URL:https://wasecalesueurlibraries.com/event/vinyl-records-care-and-collecting/
LOCATION:Montgomery Public Library\, 104 Oak Ave SE\, Montgomery\, MN\, 56069\, United States
CATEGORIES:Adult Events
GEO:44.4355889;-93.5810028
X-APPLE-STRUCTURED-LOCATION;VALUE=URI;X-ADDRESS=Montgomery Public Library 104 Oak Ave SE Montgomery MN 56069 United States;X-APPLE-RADIUS=500;X-TITLE=104 Oak Ave SE:geo:-93.5810028,44.4355889
END:VEVENT
BEGIN:VEVENT
DTSTART;TZID=America/Chicago:20230912T180000
DTEND;TZID=America/Chicago:20230912T190000
DTSTAMP:20260424T164700
CREATED:20230908T210353Z
LAST-MODIFIED:20230908T210353Z
UID:10008360-1694541600-1694545200@wasecalesueurlibraries.com
SUMMARY:The History of the Guitar
DESCRIPTION:Through live music and storytelling\, classical and flamenco guitarist Randall Ferguson will share the history of the guitar\, from the 16th-century Renaissance to the present day. \nThis event is made possible by the voters of Minnesota through a grant provided by the Traverse des Sioux Library Cooperative\, thanks to a legislative appropriation from the arts and cultural heritage fund. \n 
URL:https://wasecalesueurlibraries.com/event/the-history-of-the-guitar/
LOCATION:Janesville Public Library\, 100 W 2nd St\, Janesville\, MN\, 56048\, United States
CATEGORIES:Adult Events,Concert
GEO:44.1173302;-93.7075406
X-APPLE-STRUCTURED-LOCATION;VALUE=URI;X-ADDRESS=Janesville Public Library 100 W 2nd St Janesville MN 56048 United States;X-APPLE-RADIUS=500;X-TITLE=100 W 2nd St:geo:-93.7075406,44.1173302
END:VEVENT
BEGIN:VEVENT
DTSTART;TZID=America/Chicago:20230912T180000
DTEND;TZID=America/Chicago:20230912T190000
DTSTAMP:20260424T164700
CREATED:20230911T203538Z
LAST-MODIFIED:20230911T203538Z
UID:10010331-1694541600-1694545200@wasecalesueurlibraries.com
SUMMARY:Stamped Leather Keychains
DESCRIPTION:Create a chic\, personalized leather keychain. Geared for adults. \nThis event is made possible by the voters of Minnesota through a grant provided by the Traverse des Sioux Library Cooperative\, thanks to a legislative appropriation from the arts and cultural heritage fund. \n 
URL:https://wasecalesueurlibraries.com/event/stamped-leather-keychains/2023-09-12/2/
LOCATION:Le Sueur Public Library\, 118 Ferry St\, Le Sueur\, MN\, 56058\, United States
GEO:44.4601702;-93.9161364
X-APPLE-STRUCTURED-LOCATION;VALUE=URI;X-ADDRESS=Le Sueur Public Library 118 Ferry St Le Sueur MN 56058 United States;X-APPLE-RADIUS=500;X-TITLE=118 Ferry St:geo:-93.9161364,44.4601702
END:VEVENT
BEGIN:VEVENT
DTSTART;TZID=America/Chicago:20230913T103000
DTEND;TZID=America/Chicago:20230913T113000
DTSTAMP:20260424T164700
CREATED:20230911T205815Z
LAST-MODIFIED:20230911T205815Z
UID:10008387-1694601000-1694604600@wasecalesueurlibraries.com
SUMMARY:Little Coders
DESCRIPTION:Have a BLAST with beginning coding activities! Kids will learn sequencing\, problem-solving\, storytelling\, and directional skills through active and social play! Geared for ages 4-6 pm\, with an adult. \n 
URL:https://wasecalesueurlibraries.com/event/little-coders-15/2023-09-13/
LOCATION:New Richland Public Library\, 129 Broadway Ave S\, New Richland\, MN\, 56072\, United States
CATEGORIES:Children's Events
GEO:43.8935599;-93.4938211
X-APPLE-STRUCTURED-LOCATION;VALUE=URI;X-ADDRESS=New Richland Public Library 129 Broadway Ave S New Richland MN 56072 United States;X-APPLE-RADIUS=500;X-TITLE=129 Broadway Ave S:geo:-93.4938211,43.8935599
END:VEVENT
BEGIN:VEVENT
DTSTART;TZID=America/Chicago:20230913T154500
DTEND;TZID=America/Chicago:20230913T170000
DTSTAMP:20260424T164700
CREATED:20230911T203728Z
LAST-MODIFIED:20230911T203728Z
UID:10010333-1694619900-1694624400@wasecalesueurlibraries.com
SUMMARY:Sesame Street Party
DESCRIPTION:Come on down to where the air is sweet to enjoy games and activities inspired by Sesame Street characters. Ages 3-6. \n 
URL:https://wasecalesueurlibraries.com/event/sesame-street-party/
LOCATION:Waterville Public Library\, 210 Paquin St\, Waterville\, MN\, 56096\, United States
CATEGORIES:Children's Events
GEO:44.2177999;-93.5709706
X-APPLE-STRUCTURED-LOCATION;VALUE=URI;X-ADDRESS=Waterville Public Library 210 Paquin St Waterville MN 56096 United States;X-APPLE-RADIUS=500;X-TITLE=210 Paquin St:geo:-93.5709706,44.2177999
END:VEVENT
END:VCALENDAR