BEGIN:VCALENDAR
VERSION:2.0
PRODID:-//Waseca-Le Sueur Library - ECPv6.15.20//NONSGML v1.0//EN
CALSCALE:GREGORIAN
METHOD:PUBLISH
X-WR-CALNAME:Waseca-Le Sueur Library
X-ORIGINAL-URL:https://wasecalesueurlibraries.com
X-WR-CALDESC:Events for Waseca-Le Sueur Library
REFRESH-INTERVAL;VALUE=DURATION:PT1H
X-Robots-Tag:noindex
X-PUBLISHED-TTL:PT1H
BEGIN:VTIMEZONE
TZID:America/Chicago
BEGIN:DAYLIGHT
TZOFFSETFROM:-0600
TZOFFSETTO:-0500
TZNAME:CDT
DTSTART:20240310T080000
END:DAYLIGHT
BEGIN:STANDARD
TZOFFSETFROM:-0500
TZOFFSETTO:-0600
TZNAME:CST
DTSTART:20241103T070000
END:STANDARD
BEGIN:DAYLIGHT
TZOFFSETFROM:-0600
TZOFFSETTO:-0500
TZNAME:CDT
DTSTART:20250309T080000
END:DAYLIGHT
BEGIN:STANDARD
TZOFFSETFROM:-0500
TZOFFSETTO:-0600
TZNAME:CST
DTSTART:20251102T070000
END:STANDARD
BEGIN:DAYLIGHT
TZOFFSETFROM:-0600
TZOFFSETTO:-0500
TZNAME:CDT
DTSTART:20260308T080000
END:DAYLIGHT
BEGIN:STANDARD
TZOFFSETFROM:-0500
TZOFFSETTO:-0600
TZNAME:CST
DTSTART:20261101T070000
END:STANDARD
END:VTIMEZONE
BEGIN:VEVENT
DTSTART;TZID=America/Chicago:20250823T103000
DTEND;TZID=America/Chicago:20250823T113000
DTSTAMP:20260423T023420
CREATED:20250731T160929Z
LAST-MODIFIED:20250731T160929Z
UID:10011803-1755945000-1755948600@wasecalesueurlibraries.com
SUMMARY:Flower Crafts
DESCRIPTION:Get ready for summer gardens! Create a flower holder for delicate stems and beaded garden stakes. Geared for adults.
URL:https://wasecalesueurlibraries.com/event/flower-crafts-6/
LOCATION:Elysian Public Library\, 202 E Main St\, Elysian\, MN\, 56028\, United States
CATEGORIES:Adult Events
GEO:44.198703;-93.6724641
X-APPLE-STRUCTURED-LOCATION;VALUE=URI;X-ADDRESS=Elysian Public Library 202 E Main St Elysian MN 56028 United States;X-APPLE-RADIUS=500;X-TITLE=202 E Main St:geo:-93.6724641,44.198703
END:VEVENT
BEGIN:VEVENT
DTSTART;TZID=America/Chicago:20250826T100000
DTEND;TZID=America/Chicago:20250826T103000
DTSTAMP:20260423T023420
CREATED:20250509T195051Z
LAST-MODIFIED:20250731T162139Z
UID:10011370-1756202400-1756204200@wasecalesueurlibraries.com
SUMMARY:Romp and Rhyme Story Time
DESCRIPTION:Le Center Public Library holds Romp and Rhyme story times on Tuesdays at 10 am. From puppets to pumping music\, from bubble machines to banging bands\, these are not your average story time. The Library uses movement\, STEAM activities\, curiosity\, imaginative play\, and active learning to keep kids engaged. Free and open to the public.
URL:https://wasecalesueurlibraries.com/event/romp-and-rhyme-story-time-113/2025-08-26/
LOCATION:Le Center Public Library\, 10 W Tyrone St\, Le Center\, MN\, 56057\, United States
CATEGORIES:Children's Events,Story Times
GEO:44.3907505;-93.7316339
X-APPLE-STRUCTURED-LOCATION;VALUE=URI;X-ADDRESS=Le Center Public Library 10 W Tyrone St Le Center MN 56057 United States;X-APPLE-RADIUS=500;X-TITLE=10 W Tyrone St:geo:-93.7316339,44.3907505
END:VEVENT
BEGIN:VEVENT
DTSTART;TZID=America/Chicago:20250826T103000
DTEND;TZID=America/Chicago:20250826T113000
DTSTAMP:20260423T023420
CREATED:20250527T210230Z
LAST-MODIFIED:20250731T162414Z
UID:10011818-1756204200-1756207800@wasecalesueurlibraries.com
SUMMARY:Romp and Rhyme Story Time
DESCRIPTION:New Richland Public Library holds Romp and Rhyme story times. From puppets to pumping music\, from bubble machines to banging bands\, these are not your average story time. The Library uses movement\, STEAM activities\, curiosity\, imaginative play\, and active learning to keep kids engaged. Free and open to the public.
URL:https://wasecalesueurlibraries.com/event/romp-and-rhyme-story-time-117/2025-08-26/
LOCATION:New Richland Public Library\, 129 Broadway Ave S\, New Richland\, MN\, 56072\, United States
CATEGORIES:Children's Events,Story Times
GEO:43.8935599;-93.4938211
X-APPLE-STRUCTURED-LOCATION;VALUE=URI;X-ADDRESS=New Richland Public Library 129 Broadway Ave S New Richland MN 56072 United States;X-APPLE-RADIUS=500;X-TITLE=129 Broadway Ave S:geo:-93.4938211,43.8935599
END:VEVENT
BEGIN:VEVENT
DTSTART;TZID=America/Chicago:20250828T100000
DTEND;TZID=America/Chicago:20250828T110000
DTSTAMP:20260423T023420
CREATED:20250227T152943Z
LAST-MODIFIED:20250731T162248Z
UID:10011816-1756375200-1756378800@wasecalesueurlibraries.com
SUMMARY:Romp and Rhyme Story Time
DESCRIPTION:Montgomery Public Library holds Romp and Rhyme story times. From puppets to pumping music\, from bubble machines to banging bands\, these are not your average story time. The Library uses movement\, STEAM activities\, curiosity\, imaginative play\, and active learning to keep kids engaged. Free and open to the public.
URL:https://wasecalesueurlibraries.com/event/romp-and-rhyme-story-time-111/2025-08-28/
LOCATION:Montgomery Public Library\, 104 Oak Ave SE\, Montgomery\, MN\, 56069\, United States
CATEGORIES:Children's Events,Story Times
GEO:44.4355889;-93.5810028
X-APPLE-STRUCTURED-LOCATION;VALUE=URI;X-ADDRESS=Montgomery Public Library 104 Oak Ave SE Montgomery MN 56069 United States;X-APPLE-RADIUS=500;X-TITLE=104 Oak Ave SE:geo:-93.5810028,44.4355889
END:VEVENT
BEGIN:VEVENT
DTSTART;TZID=America/Chicago:20250828T130000
DTEND;TZID=America/Chicago:20250828T140000
DTSTAMP:20260423T023420
CREATED:20250731T160736Z
LAST-MODIFIED:20250731T160736Z
UID:10011801-1756386000-1756389600@wasecalesueurlibraries.com
SUMMARY:Virtual Author Event: Dr. Tasha Eurich
DESCRIPTION:Learn how to master the daily grind and become shatterproof in a tumultuous world with key insights by Dr. Tasha Eurich as she talks about her newest book\, Shatterproof: How to Thrive in a World of Constant Chaos (And why resilience alone isn’t enough). \n  \nThis event will be recorded and people who register will be emailed a link to the recording. \nRegister now. \nThis event is made possible by the Traverse des Sioux Library Cooperative. The event is held in coordination with Library Speakers Consortium and presented by Waseca-Le Sueur Regional Library System.
URL:https://wasecalesueurlibraries.com/event/virtual-author-event-dr-tasha-eurich/
LOCATION:Virtual Event\, MN\, United States
CATEGORIES:Adult Events,Author Event
END:VEVENT
BEGIN:VEVENT
DTSTART;TZID=America/Chicago:20250903T090000
DTEND;TZID=America/Chicago:20250903T100000
DTSTAMP:20260423T023420
CREATED:20250831T004057Z
LAST-MODIFIED:20250831T004057Z
UID:10011880-1756890000-1756893600@wasecalesueurlibraries.com
SUMMARY:Jigsaw Puzzle Derby
DESCRIPTION:Assemble a team of up to 4 players to compete in a jigsaw puzzle competition. The first team to\ncomplete the puzzle wins a prize! Registration required. \nSponsored by Friends of the Library groups
URL:https://wasecalesueurlibraries.com/event/jigsaw-puzzle-derby-47/
LOCATION:Elysian Public Library\, 202 E Main St\, Elysian\, MN\, 56028\, United States
CATEGORIES:Adult Events
GEO:44.198703;-93.6724641
X-APPLE-STRUCTURED-LOCATION;VALUE=URI;X-ADDRESS=Elysian Public Library 202 E Main St Elysian MN 56028 United States;X-APPLE-RADIUS=500;X-TITLE=202 E Main St:geo:-93.6724641,44.198703
END:VEVENT
BEGIN:VEVENT
DTSTART;TZID=America/Chicago:20250903T101500
DTEND;TZID=America/Chicago:20250903T113000
DTSTAMP:20260423T023420
CREATED:20250827T213719Z
LAST-MODIFIED:20250827T213719Z
UID:10011834-1756894500-1756899000@wasecalesueurlibraries.com
SUMMARY:Diamond Art Bookmarks
DESCRIPTION:Bedazzle a bookmark with inlaid rhinestones at this craft event. Ages 18+.
URL:https://wasecalesueurlibraries.com/event/diamond-art-bookmarks-2/2025-09-03/
LOCATION:New Richland Public Library\, 129 Broadway Ave S\, New Richland\, MN\, 56072\, United States
CATEGORIES:Adult Events
GEO:43.8935599;-93.4938211
X-APPLE-STRUCTURED-LOCATION;VALUE=URI;X-ADDRESS=New Richland Public Library 129 Broadway Ave S New Richland MN 56072 United States;X-APPLE-RADIUS=500;X-TITLE=129 Broadway Ave S:geo:-93.4938211,43.8935599
END:VEVENT
BEGIN:VEVENT
DTSTART;TZID=America/Chicago:20250903T140000
DTEND;TZID=America/Chicago:20250903T170000
DTSTAMP:20260423T023420
CREATED:20250831T003959Z
LAST-MODIFIED:20251027T192514Z
UID:10011879-1756908000-1756918800@wasecalesueurlibraries.com
SUMMARY:Popcorn and Puzzles
DESCRIPTION:Coffee\, tea\, water\, and some of the Snack Shack’s delicious popcorn will be available. Stop in and talk about books\, put together a puzzle\, or just enjoy some conversation and community. All ages.
URL:https://wasecalesueurlibraries.com/event/popcorn-and-puzzles-3/2025-09-03/
LOCATION:Waterville Public Library\, 210 Paquin St\, Waterville\, MN\, 56096\, United States
CATEGORIES:Adult Events
GEO:44.2177999;-93.5709706
X-APPLE-STRUCTURED-LOCATION;VALUE=URI;X-ADDRESS=Waterville Public Library 210 Paquin St Waterville MN 56096 United States;X-APPLE-RADIUS=500;X-TITLE=210 Paquin St:geo:-93.5709706,44.2177999
END:VEVENT
BEGIN:VEVENT
DTSTART;TZID=America/Chicago:20250903T180000
DTEND;TZID=America/Chicago:20250903T190000
DTSTAMP:20260423T023420
CREATED:20250827T212216Z
LAST-MODIFIED:20250827T212216Z
UID:10011828-1756922400-1756926000@wasecalesueurlibraries.com
SUMMARY:Virtual Author Event: Hannah Nicole Maehrer
DESCRIPTION:Embrace your dark side (and your best evil laugh) with Hannah Nicole Maehrer\, creator of the bestselling Assistant to the Villain series. \nThis event will be recorded and people who register will be emailed a link to the recording. \nRegister now. \nThis event is made possible by the Traverse des Sioux Library Cooperative. The event is held in coordination with Library Speakers Consortium and presented by Waseca-Le Sueur Regional Library System.
URL:https://wasecalesueurlibraries.com/event/virtual-author-event-hannah-nicole-maehrer/
LOCATION:Virtual Event\, MN\, United States
CATEGORIES:Adult Events,Author Event
END:VEVENT
BEGIN:VEVENT
DTSTART;TZID=America/Chicago:20250904T100000
DTEND;TZID=America/Chicago:20250904T110000
DTSTAMP:20260423T023420
CREATED:20250831T005442Z
LAST-MODIFIED:20251204T170842Z
UID:10012066-1756980000-1756983600@wasecalesueurlibraries.com
SUMMARY:Romp and Rhyme Story Time
DESCRIPTION:Montgomery Public Library holds Romp and Rhyme story times. From puppets to pumping music\, from bubble machines to banging bands\, these are not your average story time. The Library uses movement\, STEAM activities\, curiosity\, imaginative play\, and active learning to keep kids engaged. Free and open to the public.
URL:https://wasecalesueurlibraries.com/event/romp-and-rhyme-story-time-122/2025-09-04/
LOCATION:Montgomery Public Library\, 104 Oak Ave SE\, Montgomery\, MN\, 56069\, United States
CATEGORIES:Children's Events,Story Times
GEO:44.4355889;-93.5810028
X-APPLE-STRUCTURED-LOCATION;VALUE=URI;X-ADDRESS=Montgomery Public Library 104 Oak Ave SE Montgomery MN 56069 United States;X-APPLE-RADIUS=500;X-TITLE=104 Oak Ave SE:geo:-93.5810028,44.4355889
END:VEVENT
BEGIN:VEVENT
DTSTART;TZID=America/Chicago:20250905T143000
DTEND;TZID=America/Chicago:20250905T153000
DTSTAMP:20260423T023420
CREATED:20250831T005817Z
LAST-MODIFIED:20251204T171103Z
UID:10012194-1757082600-1757086200@wasecalesueurlibraries.com
SUMMARY:Baby Lapsit Romp and Rhyme Story Time
DESCRIPTION:Waldorf Public Library holds Romp and Rhyme storytimes for ages 0-3 on Fridays at 2:30 pm. From puppets to pumping music\, from bubble machines to banging bands\, these are not your average story time. The Library uses movement\, STEAM activities\, curiosity\, imaginative play\, and active learning to keep kids engaged. Free and open to the public.
URL:https://wasecalesueurlibraries.com/event/baby-lapsit-romp-and-rhyme-story-time-8/2025-09-05/
LOCATION:Waldorf Public Library\, 119 S Main St\, Waldorf\, MN\, 56091\, United States
CATEGORIES:Children's Events,Story Times
GEO:43.9365286;-93.697592
X-APPLE-STRUCTURED-LOCATION;VALUE=URI;X-ADDRESS=Waldorf Public Library 119 S Main St Waldorf MN 56091 United States;X-APPLE-RADIUS=500;X-TITLE=119 S Main St:geo:-93.697592,43.9365286
END:VEVENT
BEGIN:VEVENT
DTSTART;TZID=America/Chicago:20250905T160000
DTEND;TZID=America/Chicago:20250905T170000
DTSTAMP:20260423T023420
CREATED:20250831T005645Z
LAST-MODIFIED:20251204T171201Z
UID:10012130-1757088000-1757091600@wasecalesueurlibraries.com
SUMMARY:Romp and Rhyme Story Time
DESCRIPTION:Waldorf Public Library holds Romp and Rhyme storytimes for ages 0-6 on Fridays at 4 pm. From puppets to pumping music\, from bubble machines to banging bands\, these are not your average story time. The Library uses movement\, STEAM activities\, curiosity\, imaginative play\, and active learning to keep kids engaged. Free and open to the public.
URL:https://wasecalesueurlibraries.com/event/romp-and-rhyme-story-time-123/2025-09-05/
LOCATION:Waldorf Public Library\, 119 S Main St\, Waldorf\, MN\, 56091\, United States
CATEGORIES:Children's Events,Story Times
GEO:43.9365286;-93.697592
X-APPLE-STRUCTURED-LOCATION;VALUE=URI;X-ADDRESS=Waldorf Public Library 119 S Main St Waldorf MN 56091 United States;X-APPLE-RADIUS=500;X-TITLE=119 S Main St:geo:-93.697592,43.9365286
END:VEVENT
BEGIN:VEVENT
DTSTART;TZID=America/Chicago:20250906T093000
DTEND;TZID=America/Chicago:20250906T133000
DTSTAMP:20260423T023420
CREATED:20250527T215002Z
LAST-MODIFIED:20250626T201549Z
UID:10011785-1757151000-1757165400@wasecalesueurlibraries.com
SUMMARY:Books & Bagels
DESCRIPTION:Bagels\, coffee\, juice\, and community. Stop in at the library to talk about books. All ages. \nSponsored by Montgomery Area Friends of the Library \n 
URL:https://wasecalesueurlibraries.com/event/books-bagels-5/2025-09-06/
LOCATION:Montgomery Public Library\, 104 Oak Ave SE\, Montgomery\, MN\, 56069\, United States
CATEGORIES:Adult Events,All ages
GEO:44.4355889;-93.5810028
X-APPLE-STRUCTURED-LOCATION;VALUE=URI;X-ADDRESS=Montgomery Public Library 104 Oak Ave SE Montgomery MN 56069 United States;X-APPLE-RADIUS=500;X-TITLE=104 Oak Ave SE:geo:-93.5810028,44.4355889
END:VEVENT
BEGIN:VEVENT
DTSTART;TZID=America/Chicago:20250906T093000
DTEND;TZID=America/Chicago:20250906T133000
DTSTAMP:20260423T023420
CREATED:20250831T002050Z
LAST-MODIFIED:20250926T132900Z
UID:10011865-1757151000-1757165400@wasecalesueurlibraries.com
SUMMARY:Books and Bagels
DESCRIPTION:Bagels\, coffee\, juice\, and community. Stop in at the library to talk about books. All ages. \nSponsored by Montgomery Area Friends of the Library
URL:https://wasecalesueurlibraries.com/event/books-and-bagels-4/2025-09-06/
LOCATION:Montgomery Public Library\, 104 Oak Ave SE\, Montgomery\, MN\, 56069\, United States
CATEGORIES:Adult Events,All ages
GEO:44.4355889;-93.5810028
X-APPLE-STRUCTURED-LOCATION;VALUE=URI;X-ADDRESS=Montgomery Public Library 104 Oak Ave SE Montgomery MN 56069 United States;X-APPLE-RADIUS=500;X-TITLE=104 Oak Ave SE:geo:-93.5810028,44.4355889
END:VEVENT
BEGIN:VEVENT
DTSTART;TZID=America/Chicago:20250906T103000
DTEND;TZID=America/Chicago:20250906T113000
DTSTAMP:20260423T023420
CREATED:20250827T214643Z
LAST-MODIFIED:20250827T214643Z
UID:10011842-1757154600-1757158200@wasecalesueurlibraries.com
SUMMARY:Dementia Friends Minnesota
DESCRIPTION:Learn what dementia is\, what it’s like to live with the disease\, and some tips for communicating with people who have dementia. Dementia Friends is a global movement that is developed by the Alzheimer’s Society in the United Kingdom. This initiative hopes to make a difference in communities by helping everyone in the community understand what dementia is and how it effects families.
URL:https://wasecalesueurlibraries.com/event/dementia-friends-minnesota/
LOCATION:Elysian Public Library\, 202 E Main St\, Elysian\, MN\, 56028\, United States
CATEGORIES:Adult Events
GEO:44.198703;-93.6724641
X-APPLE-STRUCTURED-LOCATION;VALUE=URI;X-ADDRESS=Elysian Public Library 202 E Main St Elysian MN 56028 United States;X-APPLE-RADIUS=500;X-TITLE=202 E Main St:geo:-93.6724641,44.198703
END:VEVENT
BEGIN:VEVENT
DTSTART;VALUE=DATE:20250908
DTEND;VALUE=DATE:20250909
DTSTAMP:20260423T023420
CREATED:20250827T221031Z
LAST-MODIFIED:20250827T221031Z
UID:10011851-1757289600-1757375999@wasecalesueurlibraries.com
SUMMARY:Osmo Masterpiece
DESCRIPTION:Supercharge your drawing skills with this interactive drawing tool. Ages 7-12.
URL:https://wasecalesueurlibraries.com/event/osmo-masterpiece-8/2025-09-08/
LOCATION:Elysian Public Library\, 202 E Main St\, Elysian\, MN\, 56028\, United States
CATEGORIES:Children's Events
GEO:44.198703;-93.6724641
X-APPLE-STRUCTURED-LOCATION;VALUE=URI;X-ADDRESS=Elysian Public Library 202 E Main St Elysian MN 56028 United States;X-APPLE-RADIUS=500;X-TITLE=202 E Main St:geo:-93.6724641,44.198703
END:VEVENT
BEGIN:VEVENT
DTSTART;TZID=America/Chicago:20250908T110000
DTEND;TZID=America/Chicago:20250908T120000
DTSTAMP:20260423T023420
CREATED:20250831T005938Z
LAST-MODIFIED:20260116T223729Z
UID:10012258-1757329200-1757332800@wasecalesueurlibraries.com
SUMMARY:Romp and Rhyme Story Time
DESCRIPTION:Waterville Public Library holds Romp and Rhyme story times at 11 am on select dates. From puppets to pumping music\, from bubble machines to banging bands\, these are not your average story time. The Library uses movement\, STEAM activities\, curiosity\, imaginative play\, and active learning to keep kids engaged. Free and open to the public.
URL:https://wasecalesueurlibraries.com/event/romp-and-rhyme-story-time-124/2025-09-08/
LOCATION:Waterville Public Library\, 210 Paquin St\, Waterville\, MN\, 56096\, United States
CATEGORIES:Children's Events,Story Times
GEO:44.2177999;-93.5709706
X-APPLE-STRUCTURED-LOCATION;VALUE=URI;X-ADDRESS=Waterville Public Library 210 Paquin St Waterville MN 56096 United States;X-APPLE-RADIUS=500;X-TITLE=210 Paquin St:geo:-93.5709706,44.2177999
END:VEVENT
BEGIN:VEVENT
DTSTART;TZID=America/Chicago:20250908T140000
DTEND;TZID=America/Chicago:20250908T180000
DTSTAMP:20260423T023420
CREATED:20250626T184829Z
LAST-MODIFIED:20250827T214243Z
UID:10011840-1757340000-1757354400@wasecalesueurlibraries.com
SUMMARY:Stitch and Visit
DESCRIPTION:Bring your craft projects and visit with others while embroidering\, knitting\, crocheting\, or other mobile craft project. Dianne Gahler will be on hand to problem solve. All ages. \n 
URL:https://wasecalesueurlibraries.com/event/stitch-and-visit-2/2025-09-08/
LOCATION:Le Center Public Library\, 10 W Tyrone St\, Le Center\, MN\, 56057\, United States
CATEGORIES:Adult Events,All ages
GEO:44.3907505;-93.7316339
X-APPLE-STRUCTURED-LOCATION;VALUE=URI;X-ADDRESS=Le Center Public Library 10 W Tyrone St Le Center MN 56057 United States;X-APPLE-RADIUS=500;X-TITLE=10 W Tyrone St:geo:-93.7316339,44.3907505
END:VEVENT
BEGIN:VEVENT
DTSTART;TZID=America/Chicago:20250908T153000
DTEND;TZID=America/Chicago:20250908T163000
DTSTAMP:20260423T023420
CREATED:20250827T221944Z
LAST-MODIFIED:20251027T163557Z
UID:10011858-1757345400-1757349000@wasecalesueurlibraries.com
SUMMARY:Mythical Creatures Club
DESCRIPTION:Each month we will dive deep into the lore of one incredible mythical creature\, from ogres to kelpies. We’ll also have a fun activity\, craft\, or game inspired by our creature of the month. Ages 7-12. \nSponsored by Patty Tetzloff Berglund Memorials
URL:https://wasecalesueurlibraries.com/event/mythical-creatures-club/2025-09-08/
LOCATION:Janesville Public Library\, 100 W 2nd St\, Janesville\, MN\, 56048\, United States
CATEGORIES:Children's Events
GEO:44.1173302;-93.7075406
X-APPLE-STRUCTURED-LOCATION;VALUE=URI;X-ADDRESS=Janesville Public Library 100 W 2nd St Janesville MN 56048 United States;X-APPLE-RADIUS=500;X-TITLE=100 W 2nd St:geo:-93.7075406,44.1173302
END:VEVENT
BEGIN:VEVENT
DTSTART;TZID=America/Chicago:20250909T100000
DTEND;TZID=America/Chicago:20250909T110000
DTSTAMP:20260423T023420
CREATED:20250827T215359Z
LAST-MODIFIED:20250827T215359Z
UID:10011846-1757412000-1757415600@wasecalesueurlibraries.com
SUMMARY:Old MacDonald Had a Farm Party
DESCRIPTION:Oink! Moo! and Cock-a-Doodle Doo! Enjoy farm-themed activities\, from a farm relay to a horse roundup. Ages 3-6.
URL:https://wasecalesueurlibraries.com/event/old-macdonald-had-a-farm-party/
LOCATION:Montgomery Public Library\, 104 Oak Ave SE\, Montgomery\, MN\, 56069\, United States
CATEGORIES:Children's Events
GEO:44.4355889;-93.5810028
X-APPLE-STRUCTURED-LOCATION;VALUE=URI;X-ADDRESS=Montgomery Public Library 104 Oak Ave SE Montgomery MN 56069 United States;X-APPLE-RADIUS=500;X-TITLE=104 Oak Ave SE:geo:-93.5810028,44.4355889
END:VEVENT
BEGIN:VEVENT
DTSTART;TZID=America/Chicago:20250909T153000
DTEND;TZID=America/Chicago:20250909T163000
DTSTAMP:20260423T023420
CREATED:20250110T194542Z
LAST-MODIFIED:20250827T220034Z
UID:10011849-1757431800-1757435400@wasecalesueurlibraries.com
SUMMARY:Janesville Lego Club
DESCRIPTION:Kids are invited to join our creative Lego-building club. Each event will have a theme to inspire and Legos to build with.
URL:https://wasecalesueurlibraries.com/event/janesville-lego-club-10/2025-09-09/
LOCATION:Janesville Public Library\, 100 W 2nd St\, Janesville\, MN\, 56048\, United States
CATEGORIES:Children's Events
GEO:44.1173302;-93.7075406
X-APPLE-STRUCTURED-LOCATION;VALUE=URI;X-ADDRESS=Janesville Public Library 100 W 2nd St Janesville MN 56048 United States;X-APPLE-RADIUS=500;X-TITLE=100 W 2nd St:geo:-93.7075406,44.1173302
END:VEVENT
BEGIN:VEVENT
DTSTART;TZID=America/Chicago:20250909T153000
DTEND;TZID=America/Chicago:20250909T163000
DTSTAMP:20260423T023420
CREATED:20250827T215123Z
LAST-MODIFIED:20250827T215123Z
UID:10011844-1757431800-1757435400@wasecalesueurlibraries.com
SUMMARY:Paw Patrol Party
DESCRIPTION:Join us for a paws-itively good time as we celebrate our favorite neighborhood rescue dogs. Kids will play games and make Paw Patrol-inspired crafts. Ages 4-6.
URL:https://wasecalesueurlibraries.com/event/paw-patrol-party/
LOCATION:Le Center Public Library\, 10 W Tyrone St\, Le Center\, MN\, 56057\, United States
CATEGORIES:Children's Events
GEO:44.3907505;-93.7316339
X-APPLE-STRUCTURED-LOCATION;VALUE=URI;X-ADDRESS=Le Center Public Library 10 W Tyrone St Le Center MN 56057 United States;X-APPLE-RADIUS=500;X-TITLE=10 W Tyrone St:geo:-93.7316339,44.3907505
END:VEVENT
BEGIN:VEVENT
DTSTART;TZID=America/Chicago:20250909T153000
DTEND;TZID=America/Chicago:20250909T163000
DTSTAMP:20260423T023420
CREATED:20250831T003139Z
LAST-MODIFIED:20250831T003139Z
UID:10011871-1757431800-1757435400@wasecalesueurlibraries.com
SUMMARY:Embossed Cards Workshop
DESCRIPTION:A simple watercolor wash makes the perfect background for a dreamy embossed card. Ages 13-18.
URL:https://wasecalesueurlibraries.com/event/embossed-cards-workshop/
LOCATION:Waldorf Public Library\, 119 S Main St\, Waldorf\, MN\, 56091\, United States
CATEGORIES:Teen Events
GEO:43.9365286;-93.697592
X-APPLE-STRUCTURED-LOCATION;VALUE=URI;X-ADDRESS=Waldorf Public Library 119 S Main St Waldorf MN 56091 United States;X-APPLE-RADIUS=500;X-TITLE=119 S Main St:geo:-93.697592,43.9365286
END:VEVENT
BEGIN:VEVENT
DTSTART;TZID=America/Chicago:20250909T180000
DTEND;TZID=America/Chicago:20250909T190000
DTSTAMP:20260423T023420
CREATED:20250831T001902Z
LAST-MODIFIED:20250831T001902Z
UID:10011864-1757440800-1757444400@wasecalesueurlibraries.com
SUMMARY:The Plot Thickens
DESCRIPTION:Join us for a book club discussion. about this month’s book—The Diamond Eye by Kate Quinn. There will be treats! Ages 18+. \nSponsored by Friends of the Le Sueur Public Library
URL:https://wasecalesueurlibraries.com/event/the-plot-thickens-9/
LOCATION:Le Sueur Public Library\, 118 Ferry St\, Le Sueur\, MN\, 56058\, United States
CATEGORIES:Adult Events,Book Clubs
GEO:44.4601702;-93.9161364
X-APPLE-STRUCTURED-LOCATION;VALUE=URI;X-ADDRESS=Le Sueur Public Library 118 Ferry St Le Sueur MN 56058 United States;X-APPLE-RADIUS=500;X-TITLE=118 Ferry St:geo:-93.9161364,44.4601702
END:VEVENT
BEGIN:VEVENT
DTSTART;VALUE=DATE:20250910
DTEND;VALUE=DATE:20250911
DTSTAMP:20260423T023420
CREATED:20250827T221031Z
LAST-MODIFIED:20250827T221031Z
UID:10011852-1757494800-1757534400@wasecalesueurlibraries.com
SUMMARY:Osmo Masterpiece
DESCRIPTION:Supercharge your drawing skills with this interactive drawing tool. Ages 7-12.
URL:https://wasecalesueurlibraries.com/event/osmo-masterpiece-8/2025-09-10/
LOCATION:Elysian Public Library\, 202 E Main St\, Elysian\, MN\, 56028\, United States
CATEGORIES:Children's Events
GEO:44.198703;-93.6724641
X-APPLE-STRUCTURED-LOCATION;VALUE=URI;X-ADDRESS=Elysian Public Library 202 E Main St Elysian MN 56028 United States;X-APPLE-RADIUS=500;X-TITLE=202 E Main St:geo:-93.6724641,44.198703
END:VEVENT
BEGIN:VEVENT
DTSTART;TZID=America/Chicago:20250910T103000
DTEND;TZID=America/Chicago:20250910T113000
DTSTAMP:20260423T023420
CREATED:20250827T222901Z
LAST-MODIFIED:20250827T222901Z
UID:10011861-1757500200-1757503800@wasecalesueurlibraries.com
SUMMARY:Story Chasers
DESCRIPTION:Kids will make their way through an obstacle course that will mimic the movements in the stories we read. Ages 3-6. A Romp 100 Event.
URL:https://wasecalesueurlibraries.com/event/story-chasers-3/
LOCATION:New Richland Public Library\, 129 Broadway Ave S\, New Richland\, MN\, 56072\, United States
CATEGORIES:Children's Events
GEO:43.8935599;-93.4938211
X-APPLE-STRUCTURED-LOCATION;VALUE=URI;X-ADDRESS=New Richland Public Library 129 Broadway Ave S New Richland MN 56072 United States;X-APPLE-RADIUS=500;X-TITLE=129 Broadway Ave S:geo:-93.4938211,43.8935599
END:VEVENT
BEGIN:VEVENT
DTSTART;TZID=America/Chicago:20250910T130000
DTEND;TZID=America/Chicago:20250910T140000
DTSTAMP:20260423T023420
CREATED:20250827T212355Z
LAST-MODIFIED:20250827T212355Z
UID:10011829-1757509200-1757512800@wasecalesueurlibraries.com
SUMMARY:Virtual Author Event: Jefferson Fisher
DESCRIPTION:Jefferson Fisher\, trial lawyer and one of the leading voices on real-world communication\, offers a tried-and-true framework that will show you how to transform your life and your relationships by improving your next conversation. \nThis event will be recorded and people who register will be emailed a link to the recording. \nRegister now. \nThis event is made possible by the Traverse des Sioux Library Cooperative. The event is held in coordination with Library Speakers Consortium and presented by Waseca-Le Sueur Regional Library System.
URL:https://wasecalesueurlibraries.com/event/virtual-author-event-jefferson-fisher/
LOCATION:Virtual Event\, MN\, United States
CATEGORIES:Adult Events,Author Event
END:VEVENT
BEGIN:VEVENT
DTSTART;TZID=America/Chicago:20250911T100000
DTEND;TZID=America/Chicago:20250911T110000
DTSTAMP:20260423T023420
CREATED:20250831T005442Z
LAST-MODIFIED:20251204T170842Z
UID:10012067-1757584800-1757588400@wasecalesueurlibraries.com
SUMMARY:Romp and Rhyme Story Time
DESCRIPTION:Montgomery Public Library holds Romp and Rhyme story times. From puppets to pumping music\, from bubble machines to banging bands\, these are not your average story time. The Library uses movement\, STEAM activities\, curiosity\, imaginative play\, and active learning to keep kids engaged. Free and open to the public.
URL:https://wasecalesueurlibraries.com/event/romp-and-rhyme-story-time-122/2025-09-11/
LOCATION:Montgomery Public Library\, 104 Oak Ave SE\, Montgomery\, MN\, 56069\, United States
CATEGORIES:Children's Events,Story Times
GEO:44.4355889;-93.5810028
X-APPLE-STRUCTURED-LOCATION;VALUE=URI;X-ADDRESS=Montgomery Public Library 104 Oak Ave SE Montgomery MN 56069 United States;X-APPLE-RADIUS=500;X-TITLE=104 Oak Ave SE:geo:-93.5810028,44.4355889
END:VEVENT
BEGIN:VEVENT
DTSTART;TZID=America/Chicago:20250911T140000
DTEND;TZID=America/Chicago:20250911T150000
DTSTAMP:20260423T023420
CREATED:20250831T002207Z
LAST-MODIFIED:20250926T132940Z
UID:10011866-1757599200-1757602800@wasecalesueurlibraries.com
SUMMARY:Spice Club
DESCRIPTION:Do you like to try new flavors and recipes? Each month we’ll feature a new spice and make it available in a small FREE take-home kit. Then we’ll meet up to learn more about the spice’s history and its uses. Plus we’ll share what everyone made with the spice. Register at the library.
URL:https://wasecalesueurlibraries.com/event/spice-club-9/2025-09-11/
LOCATION:Le Center Public Library\, 10 W Tyrone St\, Le Center\, MN\, 56057\, United States
CATEGORIES:Adult Events,Book Clubs
GEO:44.3907505;-93.7316339
X-APPLE-STRUCTURED-LOCATION;VALUE=URI;X-ADDRESS=Le Center Public Library 10 W Tyrone St Le Center MN 56057 United States;X-APPLE-RADIUS=500;X-TITLE=10 W Tyrone St:geo:-93.7316339,44.3907505
END:VEVENT
BEGIN:VEVENT
DTSTART;TZID=America/Chicago:20250912T143000
DTEND;TZID=America/Chicago:20250912T153000
DTSTAMP:20260423T023420
CREATED:20250831T005817Z
LAST-MODIFIED:20251204T171103Z
UID:10012195-1757687400-1757691000@wasecalesueurlibraries.com
SUMMARY:Baby Lapsit Romp and Rhyme Story Time
DESCRIPTION:Waldorf Public Library holds Romp and Rhyme storytimes for ages 0-3 on Fridays at 2:30 pm. From puppets to pumping music\, from bubble machines to banging bands\, these are not your average story time. The Library uses movement\, STEAM activities\, curiosity\, imaginative play\, and active learning to keep kids engaged. Free and open to the public.
URL:https://wasecalesueurlibraries.com/event/baby-lapsit-romp-and-rhyme-story-time-8/2025-09-12/
LOCATION:Waldorf Public Library\, 119 S Main St\, Waldorf\, MN\, 56091\, United States
CATEGORIES:Children's Events,Story Times
GEO:43.9365286;-93.697592
X-APPLE-STRUCTURED-LOCATION;VALUE=URI;X-ADDRESS=Waldorf Public Library 119 S Main St Waldorf MN 56091 United States;X-APPLE-RADIUS=500;X-TITLE=119 S Main St:geo:-93.697592,43.9365286
END:VEVENT
END:VCALENDAR