BEGIN:VCALENDAR
VERSION:2.0
PRODID:-//Waseca-Le Sueur Library - ECPv6.15.20//NONSGML v1.0//EN
CALSCALE:GREGORIAN
METHOD:PUBLISH
X-WR-CALNAME:Waseca-Le Sueur Library
X-ORIGINAL-URL:https://wasecalesueurlibraries.com
X-WR-CALDESC:Events for Waseca-Le Sueur Library
REFRESH-INTERVAL;VALUE=DURATION:PT1H
X-Robots-Tag:noindex
X-PUBLISHED-TTL:PT1H
BEGIN:VTIMEZONE
TZID:America/Chicago
BEGIN:DAYLIGHT
TZOFFSETFROM:-0600
TZOFFSETTO:-0500
TZNAME:CDT
DTSTART:20240310T080000
END:DAYLIGHT
BEGIN:STANDARD
TZOFFSETFROM:-0500
TZOFFSETTO:-0600
TZNAME:CST
DTSTART:20241103T070000
END:STANDARD
BEGIN:DAYLIGHT
TZOFFSETFROM:-0600
TZOFFSETTO:-0500
TZNAME:CDT
DTSTART:20250309T080000
END:DAYLIGHT
BEGIN:STANDARD
TZOFFSETFROM:-0500
TZOFFSETTO:-0600
TZNAME:CST
DTSTART:20251102T070000
END:STANDARD
BEGIN:DAYLIGHT
TZOFFSETFROM:-0600
TZOFFSETTO:-0500
TZNAME:CDT
DTSTART:20260308T080000
END:DAYLIGHT
BEGIN:STANDARD
TZOFFSETFROM:-0500
TZOFFSETTO:-0600
TZNAME:CST
DTSTART:20261101T070000
END:STANDARD
END:VTIMEZONE
BEGIN:VEVENT
DTSTART;TZID=America/Chicago:20250612T130000
DTEND;TZID=America/Chicago:20250612T140000
DTSTAMP:20260423T035448
CREATED:20250527T213404Z
LAST-MODIFIED:20250527T213404Z
UID:10011663-1749733200-1749736800@wasecalesueurlibraries.com
SUMMARY:Marbled Coasters
DESCRIPTION:Create a chic and colorful spin on marbled coasters. Ages 13-18. \nSponsored by E. F. Johnson Foundation \n 
URL:https://wasecalesueurlibraries.com/event/marbled-coasters-2/
LOCATION:Waseca Public Library\, 408 N State St\, Waseca\, MN\, 56093\, United States
CATEGORIES:Teen Events
GEO:44.0809183;-93.5069008
X-APPLE-STRUCTURED-LOCATION;VALUE=URI;X-ADDRESS=Waseca Public Library 408 N State St Waseca MN 56093 United States;X-APPLE-RADIUS=500;X-TITLE=408 N State St:geo:-93.5069008,44.0809183
END:VEVENT
BEGIN:VEVENT
DTSTART;TZID=America/Chicago:20250612T133000
DTEND;TZID=America/Chicago:20250612T143000
DTSTAMP:20260423T035448
CREATED:20250527T210948Z
LAST-MODIFIED:20250527T210948Z
UID:10011649-1749735000-1749738600@wasecalesueurlibraries.com
SUMMARY:Kindness Rocks
DESCRIPTION:Explore how art plays a role in making our world a better place. Complete fun arts and crafts projects that will brighten your world with Le Sueur County 4-H\, including rock painting\, firefly glow jars\, and more. All ages. \n 
URL:https://wasecalesueurlibraries.com/event/kindness-rocks/
LOCATION:Le Center Public Library\, 10 W Tyrone St\, Le Center\, MN\, 56057\, United States
CATEGORIES:All ages,Children's Events
GEO:44.3907505;-93.7316339
X-APPLE-STRUCTURED-LOCATION;VALUE=URI;X-ADDRESS=Le Center Public Library 10 W Tyrone St Le Center MN 56057 United States;X-APPLE-RADIUS=500;X-TITLE=10 W Tyrone St:geo:-93.7316339,44.3907505
END:VEVENT
BEGIN:VEVENT
DTSTART;TZID=America/Chicago:20250613T100000
DTEND;TZID=America/Chicago:20250613T110000
DTSTAMP:20260423T035448
CREATED:20250527T192333Z
LAST-MODIFIED:20250527T192333Z
UID:10011550-1749808800-1749812400@wasecalesueurlibraries.com
SUMMARY:Magna-Tile Villages
DESCRIPTION:The mayor needs a village up and running as soon as possible. Create design plans and speed build with an amazing assortment of Magna-Tile sets. Ages 7-12. \n 
URL:https://wasecalesueurlibraries.com/event/magna-tile-villages-7/
LOCATION:Elysian Public Library\, 202 E Main St\, Elysian\, MN\, 56028\, United States
CATEGORIES:Children's Events
GEO:44.198703;-93.6724641
X-APPLE-STRUCTURED-LOCATION;VALUE=URI;X-ADDRESS=Elysian Public Library 202 E Main St Elysian MN 56028 United States;X-APPLE-RADIUS=500;X-TITLE=202 E Main St:geo:-93.6724641,44.198703
END:VEVENT
BEGIN:VEVENT
DTSTART;TZID=America/Chicago:20250613T100000
DTEND;TZID=America/Chicago:20250613T110000
DTSTAMP:20260423T035448
CREATED:20250527T193659Z
LAST-MODIFIED:20250527T193659Z
UID:10011561-1749808800-1749812400@wasecalesueurlibraries.com
SUMMARY:How to Train Your Dragon Party
DESCRIPTION:The mayor needs a village up and running as soon as possible. Create design plans and speed build with an amazing assortment of Magna-Tile sets. Ages 7-12. \n 
URL:https://wasecalesueurlibraries.com/event/how-to-train-your-dragon-party-4/
LOCATION:Waseca Public Library\, 408 N State St\, Waseca\, MN\, 56093\, United States
CATEGORIES:Children's Events
GEO:44.0809183;-93.5069008
X-APPLE-STRUCTURED-LOCATION;VALUE=URI;X-ADDRESS=Waseca Public Library 408 N State St Waseca MN 56093 United States;X-APPLE-RADIUS=500;X-TITLE=408 N State St:geo:-93.5069008,44.0809183
END:VEVENT
BEGIN:VEVENT
DTSTART;TZID=America/Chicago:20250613T133000
DTEND;TZID=America/Chicago:20250613T143000
DTSTAMP:20260423T035448
CREATED:20250527T211527Z
LAST-MODIFIED:20250527T211527Z
UID:10011653-1749821400-1749825000@wasecalesueurlibraries.com
SUMMARY:Spotted Geckos
DESCRIPTION:Paint dots to make a bright\, colorful gecko to bring home. All ages. \n 
URL:https://wasecalesueurlibraries.com/event/spotted-geckos/
LOCATION:Waldorf Public Library\, 119 S Main St\, Waldorf\, MN\, 56091\, United States
CATEGORIES:Children's Events
GEO:43.9365286;-93.697592
X-APPLE-STRUCTURED-LOCATION;VALUE=URI;X-ADDRESS=Waldorf Public Library 119 S Main St Waldorf MN 56091 United States;X-APPLE-RADIUS=500;X-TITLE=119 S Main St:geo:-93.697592,43.9365286
END:VEVENT
BEGIN:VEVENT
DTSTART;TZID=America/Chicago:20250613T140000
DTEND;TZID=America/Chicago:20250613T150000
DTSTAMP:20260423T035448
CREATED:20250527T194116Z
LAST-MODIFIED:20250527T194116Z
UID:10011564-1749823200-1749826800@wasecalesueurlibraries.com
SUMMARY:Entertaining Grass Seed Heads
DESCRIPTION:The Le Sueur County Master Gardeners will teach you how to make these grass heads! Ages 5+. Registration required. \n 
URL:https://wasecalesueurlibraries.com/event/entertaining-grass-seed-heads/
LOCATION:Le Center Public Library\, 10 W Tyrone St\, Le Center\, MN\, 56057\, United States
CATEGORIES:Children's Events
GEO:44.3907505;-93.7316339
X-APPLE-STRUCTURED-LOCATION;VALUE=URI;X-ADDRESS=Le Center Public Library 10 W Tyrone St Le Center MN 56057 United States;X-APPLE-RADIUS=500;X-TITLE=10 W Tyrone St:geo:-93.7316339,44.3907505
END:VEVENT
BEGIN:VEVENT
DTSTART;TZID=America/Chicago:20250616T100000
DTEND;TZID=America/Chicago:20250616T110000
DTSTAMP:20260423T035448
CREATED:20250527T182624Z
LAST-MODIFIED:20250527T182624Z
UID:10011545-1750068000-1750071600@wasecalesueurlibraries.com
SUMMARY:Adventure of the Missing Color
DESCRIPTION:Join Science Heroes as we turn science into an adventure with hands-on experiments and fun\, interactives stories. Ages 6-12. \nSponsored by United Fund of Le Sueur \n 
URL:https://wasecalesueurlibraries.com/event/adventure-of-the-missing-color/
LOCATION:Le Sueur Public Library\, 118 Ferry St\, Le Sueur\, MN\, 56058\, United States
CATEGORIES:Children's Events
GEO:44.4601702;-93.9161364
X-APPLE-STRUCTURED-LOCATION;VALUE=URI;X-ADDRESS=Le Sueur Public Library 118 Ferry St Le Sueur MN 56058 United States;X-APPLE-RADIUS=500;X-TITLE=118 Ferry St:geo:-93.9161364,44.4601702
END:VEVENT
BEGIN:VEVENT
DTSTART;TZID=America/Chicago:20250616T100000
DTEND;TZID=America/Chicago:20250616T110000
DTSTAMP:20260423T035448
CREATED:20250527T204145Z
LAST-MODIFIED:20250527T204145Z
UID:10011572-1750068000-1750071600@wasecalesueurlibraries.com
SUMMARY:Inside Out Party
DESCRIPTION:Explore colors and emotions with Joy\, Anxiety\, Sadness\, and other Inside Out characters. Ages 4-7.
URL:https://wasecalesueurlibraries.com/event/inside-out-party-2/2025-06-16/
LOCATION:Waseca Public Library\, 408 N State St\, Waseca\, MN\, 56093\, United States
CATEGORIES:Children's Events
GEO:44.0809183;-93.5069008
X-APPLE-STRUCTURED-LOCATION;VALUE=URI;X-ADDRESS=Waseca Public Library 408 N State St Waseca MN 56093 United States;X-APPLE-RADIUS=500;X-TITLE=408 N State St:geo:-93.5069008,44.0809183
END:VEVENT
BEGIN:VEVENT
DTSTART;TZID=America/Chicago:20250616T143000
DTEND;TZID=America/Chicago:20250616T153000
DTSTAMP:20260423T035448
CREATED:20250527T180302Z
LAST-MODIFIED:20250527T180302Z
UID:10011533-1750084200-1750087800@wasecalesueurlibraries.com
SUMMARY:Minnesota Birds Block Printing
DESCRIPTION:Parcel Arts will teach participants how to carve\, ink\, and print their very own loon or cardinal. Geared for adults. Register now! \nThis event was made possible in part with a grant from the Arts & Cultural Heritage Fund of the Minnesota Clean Water\, Land\, and Legacy Amendment through the Traverse des Sioux Library System. \n 
URL:https://wasecalesueurlibraries.com/event/minnesota-birds-block-printing/
LOCATION:Janesville Public Library\, 100 W 2nd St\, Janesville\, MN\, 56048\, United States
CATEGORIES:Adult Events
GEO:44.1173302;-93.7075406
X-APPLE-STRUCTURED-LOCATION;VALUE=URI;X-ADDRESS=Janesville Public Library 100 W 2nd St Janesville MN 56048 United States;X-APPLE-RADIUS=500;X-TITLE=100 W 2nd St:geo:-93.7075406,44.1173302
END:VEVENT
BEGIN:VEVENT
DTSTART;TZID=America/Chicago:20250616T143000
DTEND;TZID=America/Chicago:20250616T153000
DTSTAMP:20260423T035448
CREATED:20250527T192920Z
LAST-MODIFIED:20250527T192920Z
UID:10011555-1750084200-1750087800@wasecalesueurlibraries.com
SUMMARY:Rainbow Loom Bands
DESCRIPTION:Create colorful bracelets with unique patterns! Ages 7-12. \n 
URL:https://wasecalesueurlibraries.com/event/rainbow-loom-bands/
LOCATION:Le Center Public Library\, 10 W Tyrone St\, Le Center\, MN\, 56057\, United States
CATEGORIES:Children's Events
GEO:44.3907505;-93.7316339
X-APPLE-STRUCTURED-LOCATION;VALUE=URI;X-ADDRESS=Le Center Public Library 10 W Tyrone St Le Center MN 56057 United States;X-APPLE-RADIUS=500;X-TITLE=10 W Tyrone St:geo:-93.7316339,44.3907505
END:VEVENT
BEGIN:VEVENT
DTSTART;TZID=America/Chicago:20250616T180000
DTEND;TZID=America/Chicago:20250616T190000
DTSTAMP:20260423T035448
CREATED:20250527T194019Z
LAST-MODIFIED:20250527T194019Z
UID:10011563-1750096800-1750100400@wasecalesueurlibraries.com
SUMMARY:The Wild Robot Party
DESCRIPTION:Build a friendly robot\, learn survival skills\, take the camouflage challenge\, and more while celebrating the extraordinary story of Roz\, a robot learning to live in the wilderness. Ages 7-12. \n 
URL:https://wasecalesueurlibraries.com/event/the-wild-robot-party-4/
LOCATION:Elysian Public Library\, 202 E Main St\, Elysian\, MN\, 56028\, United States
CATEGORIES:Children's Events
GEO:44.198703;-93.6724641
X-APPLE-STRUCTURED-LOCATION;VALUE=URI;X-ADDRESS=Elysian Public Library 202 E Main St Elysian MN 56028 United States;X-APPLE-RADIUS=500;X-TITLE=202 E Main St:geo:-93.6724641,44.198703
END:VEVENT
BEGIN:VEVENT
DTSTART;TZID=America/Chicago:20250617T100000
DTEND;TZID=America/Chicago:20250617T103000
DTSTAMP:20260423T035448
CREATED:20250509T195051Z
LAST-MODIFIED:20250731T162139Z
UID:10011360-1750154400-1750156200@wasecalesueurlibraries.com
SUMMARY:Romp and Rhyme Story Time
DESCRIPTION:Le Center Public Library holds Romp and Rhyme story times on Tuesdays at 10 am. From puppets to pumping music\, from bubble machines to banging bands\, these are not your average story time. The Library uses movement\, STEAM activities\, curiosity\, imaginative play\, and active learning to keep kids engaged. Free and open to the public.
URL:https://wasecalesueurlibraries.com/event/romp-and-rhyme-story-time-113/2025-06-17/
LOCATION:Le Center Public Library\, 10 W Tyrone St\, Le Center\, MN\, 56057\, United States
CATEGORIES:Children's Events,Story Times
GEO:44.3907505;-93.7316339
X-APPLE-STRUCTURED-LOCATION;VALUE=URI;X-ADDRESS=Le Center Public Library 10 W Tyrone St Le Center MN 56057 United States;X-APPLE-RADIUS=500;X-TITLE=10 W Tyrone St:geo:-93.7316339,44.3907505
END:VEVENT
BEGIN:VEVENT
DTSTART;TZID=America/Chicago:20250617T100000
DTEND;TZID=America/Chicago:20250617T110000
DTSTAMP:20260423T035448
CREATED:20250527T183034Z
LAST-MODIFIED:20250527T183034Z
UID:10011548-1750154400-1750158000@wasecalesueurlibraries.com
SUMMARY:Spy School
DESCRIPTION:Do you have what it takes to be a spy? Based on the Stuart Gibbs book series\, you will test your spy abilities through a series of puzzles and obstacles. Ages 7-12.
URL:https://wasecalesueurlibraries.com/event/spy-school-2/
LOCATION:Le Sueur Public Library\, 118 Ferry St\, Le Sueur\, MN\, 56058\, United States
CATEGORIES:Children's Events
GEO:44.4601702;-93.9161364
X-APPLE-STRUCTURED-LOCATION;VALUE=URI;X-ADDRESS=Le Sueur Public Library 118 Ferry St Le Sueur MN 56058 United States;X-APPLE-RADIUS=500;X-TITLE=118 Ferry St:geo:-93.9161364,44.4601702
END:VEVENT
BEGIN:VEVENT
DTSTART;TZID=America/Chicago:20250617T103000
DTEND;TZID=America/Chicago:20250617T113000
DTSTAMP:20260423T035448
CREATED:20250527T192815Z
LAST-MODIFIED:20250527T192815Z
UID:10011554-1750156200-1750159800@wasecalesueurlibraries.com
SUMMARY:CD Scratch Art
DESCRIPTION:Upcycle old CDs into colorful art. Create a mobile\, hang in the garden\, or hang them on a wall. Ages 7-12.
URL:https://wasecalesueurlibraries.com/event/cd-scratch-art-2/
LOCATION:New Richland Public Library\, 129 Broadway Ave S\, New Richland\, MN\, 56072\, United States
CATEGORIES:Children's Events
GEO:43.8935599;-93.4938211
X-APPLE-STRUCTURED-LOCATION;VALUE=URI;X-ADDRESS=New Richland Public Library 129 Broadway Ave S New Richland MN 56072 United States;X-APPLE-RADIUS=500;X-TITLE=129 Broadway Ave S:geo:-93.4938211,43.8935599
END:VEVENT
BEGIN:VEVENT
DTSTART;TZID=America/Chicago:20250617T130000
DTEND;TZID=America/Chicago:20250617T140000
DTSTAMP:20260423T035448
CREATED:20250527T213023Z
LAST-MODIFIED:20250527T213023Z
UID:10011660-1750165200-1750168800@wasecalesueurlibraries.com
SUMMARY:Murder Mystery & Pizza
DESCRIPTION:Enjoy a slice (or two) of pizza and solve this case before the pizza gets cold. Ages 13-18.
URL:https://wasecalesueurlibraries.com/event/murder-mystery-pizza/
LOCATION:Le Sueur Public Library\, 118 Ferry St\, Le Sueur\, MN\, 56058\, United States
CATEGORIES:Teen Events
GEO:44.4601702;-93.9161364
X-APPLE-STRUCTURED-LOCATION;VALUE=URI;X-ADDRESS=Le Sueur Public Library 118 Ferry St Le Sueur MN 56058 United States;X-APPLE-RADIUS=500;X-TITLE=118 Ferry St:geo:-93.9161364,44.4601702
END:VEVENT
BEGIN:VEVENT
DTSTART;TZID=America/Chicago:20250617T130000
DTEND;TZID=America/Chicago:20250617T140000
DTSTAMP:20260423T035448
CREATED:20250527T214404Z
LAST-MODIFIED:20250527T214404Z
UID:10011669-1750165200-1750168800@wasecalesueurlibraries.com
SUMMARY:Stenciled Edges
DESCRIPTION:Jump into the world of book artistry by stenciling the edges of a popular book for your home library. Books and supplies provided. Ages 13-18. \n 
URL:https://wasecalesueurlibraries.com/event/stenciled-edges/
LOCATION:Waseca Public Library\, 408 N State St\, Waseca\, MN\, 56093\, United States
CATEGORIES:Teen Events
GEO:44.0809183;-93.5069008
X-APPLE-STRUCTURED-LOCATION;VALUE=URI;X-ADDRESS=Waseca Public Library 408 N State St Waseca MN 56093 United States;X-APPLE-RADIUS=500;X-TITLE=408 N State St:geo:-93.5069008,44.0809183
END:VEVENT
BEGIN:VEVENT
DTSTART;TZID=America/Chicago:20250617T140000
DTEND;TZID=America/Chicago:20250617T150000
DTSTAMP:20260423T035448
CREATED:20250527T192444Z
LAST-MODIFIED:20250527T192444Z
UID:10011551-1750168800-1750172400@wasecalesueurlibraries.com
SUMMARY:Marble Run Legos
DESCRIPTION:Use Legos and other materials to create a creative marble run. Then test out other kids’ marble runs. Ages 7-12. \n 
URL:https://wasecalesueurlibraries.com/event/marble-run-legos-11/
LOCATION:Janesville Public Library\, 100 W 2nd St\, Janesville\, MN\, 56048\, United States
CATEGORIES:Children's Events
GEO:44.1173302;-93.7075406
X-APPLE-STRUCTURED-LOCATION;VALUE=URI;X-ADDRESS=Janesville Public Library 100 W 2nd St Janesville MN 56048 United States;X-APPLE-RADIUS=500;X-TITLE=100 W 2nd St:geo:-93.7075406,44.1173302
END:VEVENT
BEGIN:VEVENT
DTSTART;TZID=America/Chicago:20250617T150000
DTEND;TZID=America/Chicago:20250617T160000
DTSTAMP:20260423T035448
CREATED:20250527T201928Z
LAST-MODIFIED:20250527T201928Z
UID:10011568-1750172400-1750176000@wasecalesueurlibraries.com
SUMMARY:The Great Rainbow Party
DESCRIPTION:This colorful event is full of prisms\, pattern building\, color mixing\, sorting\, and crafting. Ages 3-6.
URL:https://wasecalesueurlibraries.com/event/the-great-rainbow-party-2/
LOCATION:Le Center Public Library\, 10 W Tyrone St\, Le Center\, MN\, 56057\, United States
CATEGORIES:Children's Events
GEO:44.3907505;-93.7316339
X-APPLE-STRUCTURED-LOCATION;VALUE=URI;X-ADDRESS=Le Center Public Library 10 W Tyrone St Le Center MN 56057 United States;X-APPLE-RADIUS=500;X-TITLE=10 W Tyrone St:geo:-93.7316339,44.3907505
END:VEVENT
BEGIN:VEVENT
DTSTART;TZID=America/Chicago:20250617T160000
DTEND;TZID=America/Chicago:20250617T170000
DTSTAMP:20260423T035448
CREATED:20250527T193241Z
LAST-MODIFIED:20250527T193241Z
UID:10011558-1750176000-1750179600@wasecalesueurlibraries.com
SUMMARY:Friendship Pins
DESCRIPTION:Adorn your shoe\, backpack\, or jacket with pins in your favorite colors. Or create friendship-inspired pins to share with your bestie! Ages 8-12. \n 
URL:https://wasecalesueurlibraries.com/event/friendship-pins-7/
LOCATION:Montgomery Public Library\, 104 Oak Ave SE\, Montgomery\, MN\, 56069\, United States
CATEGORIES:Children's Events
GEO:44.4355889;-93.5810028
X-APPLE-STRUCTURED-LOCATION;VALUE=URI;X-ADDRESS=Montgomery Public Library 104 Oak Ave SE Montgomery MN 56069 United States;X-APPLE-RADIUS=500;X-TITLE=104 Oak Ave SE:geo:-93.5810028,44.4355889
END:VEVENT
BEGIN:VEVENT
DTSTART;TZID=America/Chicago:20250617T173000
DTEND;TZID=America/Chicago:20250617T183000
DTSTAMP:20260423T035448
CREATED:20250527T204145Z
LAST-MODIFIED:20250527T204145Z
UID:10011573-1750181400-1750185000@wasecalesueurlibraries.com
SUMMARY:Inside Out Party
DESCRIPTION:Explore colors and emotions with Joy\, Anxiety\, Sadness\, and other Inside Out characters. Ages 4-7.
URL:https://wasecalesueurlibraries.com/event/inside-out-party-2/2025-06-17/
LOCATION:Waseca Public Library\, 408 N State St\, Waseca\, MN\, 56093\, United States
CATEGORIES:Children's Events
GEO:44.0809183;-93.5069008
X-APPLE-STRUCTURED-LOCATION;VALUE=URI;X-ADDRESS=Waseca Public Library 408 N State St Waseca MN 56093 United States;X-APPLE-RADIUS=500;X-TITLE=408 N State St:geo:-93.5069008,44.0809183
END:VEVENT
BEGIN:VEVENT
DTSTART;TZID=America/Chicago:20250617T173000
DTEND;TZID=America/Chicago:20250617T183000
DTSTAMP:20260423T035448
CREATED:20250527T215225Z
LAST-MODIFIED:20250527T215225Z
UID:10011672-1750181400-1750185000@wasecalesueurlibraries.com
SUMMARY:Jigsaw Puzzle Derby
DESCRIPTION:Assemble a team of up to 4 players to compete in a jigsaw puzzle competition. The first team to complete the puzzle wins a prize! Registration required. \n  \n 
URL:https://wasecalesueurlibraries.com/event/jigsaw-puzzle-derby-44/
LOCATION:Janesville Public Library\, 100 W 2nd St\, Janesville\, MN\, 56048\, United States
CATEGORIES:Adult Events
GEO:44.1173302;-93.7075406
X-APPLE-STRUCTURED-LOCATION;VALUE=URI;X-ADDRESS=Janesville Public Library 100 W 2nd St Janesville MN 56048 United States;X-APPLE-RADIUS=500;X-TITLE=100 W 2nd St:geo:-93.7075406,44.1173302
END:VEVENT
BEGIN:VEVENT
DTSTART;TZID=America/Chicago:20250617T180000
DTEND;TZID=America/Chicago:20250617T190000
DTSTAMP:20260423T035448
CREATED:20250527T215326Z
LAST-MODIFIED:20250527T215326Z
UID:10011673-1750183200-1750186800@wasecalesueurlibraries.com
SUMMARY:Jigsaw Puzzle Derby
DESCRIPTION:Assemble a team of up to 4 players to compete in a jigsaw puzzle competition. The first team to complete the puzzle wins a prize! Registration required. \n  \n 
URL:https://wasecalesueurlibraries.com/event/jigsaw-puzzle-derby-45/
LOCATION:Montgomery Public Library\, 104 Oak Ave SE\, Montgomery\, MN\, 56069\, United States
CATEGORIES:Adult Events
GEO:44.4355889;-93.5810028
X-APPLE-STRUCTURED-LOCATION;VALUE=URI;X-ADDRESS=Montgomery Public Library 104 Oak Ave SE Montgomery MN 56069 United States;X-APPLE-RADIUS=500;X-TITLE=104 Oak Ave SE:geo:-93.5810028,44.4355889
END:VEVENT
BEGIN:VEVENT
DTSTART;TZID=America/Chicago:20250617T190000
DTEND;TZID=America/Chicago:20250617T200000
DTSTAMP:20260423T035448
CREATED:20250527T175623Z
LAST-MODIFIED:20250527T175623Z
UID:10011530-1750186800-1750190400@wasecalesueurlibraries.com
SUMMARY:Juliet and the Montagues
DESCRIPTION:Brings together jazz\, blues\, funk\, rock\, and R&B with a classic-yet-modern flair.  The band blends Juliet  Catherine’s original tunes about heartache and  female empowerment with favorites from Prince\, Fleetwood Mac\, and\nMichael Jackson. \nAll Waseca Summer Concert Series events are held in Trowbridge Park\, Waseca on Tuesdays at 7 pm. In case of rain\, the concert will be held inside Waseca Public Library. All ages. \nSponsored by the E.F. Johnson Foundation and the Friends of the Waseca Public Library. This event is also made possible by the voters of Minnesota through a grant provided by the Traverse des Sioux Library Cooperative\, thanks to a legislative appropriation from the arts and cultural heritage fund.
URL:https://wasecalesueurlibraries.com/event/juliet-and-the-montagues/
LOCATION:Trowbridge Park\, Waseca\, MN\, 56093\, United States
CATEGORIES:Adult Events,All ages
GEO:44.0770411;-93.5083843
END:VEVENT
BEGIN:VEVENT
DTSTART;TZID=America/Chicago:20250618T100000
DTEND;TZID=America/Chicago:20250618T110000
DTSTAMP:20260423T035448
CREATED:20250527T174200Z
LAST-MODIFIED:20250527T174200Z
UID:10011522-1750240800-1750244400@wasecalesueurlibraries.com
SUMMARY:Feathers & Strings
DESCRIPTION:An assortment of intricate marionettes are the featured performers in this delightful\, amusing\, and eclectic Hunter Marionettes showcase. All ages. \nThis event is made possible by the voters of Minnesota through a grant provided by the Traverse des Sioux Library Cooperative\, thanks to a legislative appropriation from the arts and cultural heritage fund. \n 
URL:https://wasecalesueurlibraries.com/event/feathers-strings/
LOCATION:New Richland Public Library\, 129 Broadway Ave S\, New Richland\, MN\, 56072\, United States
CATEGORIES:All ages,Children's Events
GEO:43.8935599;-93.4938211
X-APPLE-STRUCTURED-LOCATION;VALUE=URI;X-ADDRESS=New Richland Public Library 129 Broadway Ave S New Richland MN 56072 United States;X-APPLE-RADIUS=500;X-TITLE=129 Broadway Ave S:geo:-93.4938211,43.8935599
END:VEVENT
BEGIN:VEVENT
DTSTART;TZID=America/Chicago:20250618T130000
DTEND;TZID=America/Chicago:20250618T140000
DTSTAMP:20260423T035448
CREATED:20250527T193137Z
LAST-MODIFIED:20250527T193137Z
UID:10011557-1750251600-1750255200@wasecalesueurlibraries.com
SUMMARY:Tween Crafternoon
DESCRIPTION:Join us for a series of exciting crafting sessions just for tweens! Our Crafternoons will ignite creativity and foster friendship! Ages 8-12. \nClay Animals: June 4th\nLight Bulb Hot Air Balloons: June 18th
URL:https://wasecalesueurlibraries.com/event/tween-crafternoon-6/
LOCATION:Le Sueur Public Library\, 118 Ferry St\, Le Sueur\, MN\, 56058\, United States
CATEGORIES:Children's Events
GEO:44.4601702;-93.9161364
X-APPLE-STRUCTURED-LOCATION;VALUE=URI;X-ADDRESS=Le Sueur Public Library 118 Ferry St Le Sueur MN 56058 United States;X-APPLE-RADIUS=500;X-TITLE=118 Ferry St:geo:-93.9161364,44.4601702
END:VEVENT
BEGIN:VEVENT
DTSTART;TZID=America/Chicago:20250618T140000
DTEND;TZID=America/Chicago:20250618T150000
DTSTAMP:20260423T035448
CREATED:20250527T174244Z
LAST-MODIFIED:20250527T174244Z
UID:10011523-1750255200-1750258800@wasecalesueurlibraries.com
SUMMARY:Feathers & Strings
DESCRIPTION:An assortment of intricate marionettes are the featured performers in this delightful\, amusing\, and eclectic Hunter Marionettes showcase. All ages. \nThis event is made possible by the voters of Minnesota through a grant provided by the Traverse des Sioux Library Cooperative\, thanks to a legislative appropriation from the arts and cultural heritage fund.
URL:https://wasecalesueurlibraries.com/event/feathers-strings-2/
LOCATION:Waseca Public Library\, 408 N State St\, Waseca\, MN\, 56093\, United States
CATEGORIES:All ages,Children's Events
GEO:44.0809183;-93.5069008
X-APPLE-STRUCTURED-LOCATION;VALUE=URI;X-ADDRESS=Waseca Public Library 408 N State St Waseca MN 56093 United States;X-APPLE-RADIUS=500;X-TITLE=408 N State St:geo:-93.5069008,44.0809183
END:VEVENT
BEGIN:VEVENT
DTSTART;TZID=America/Chicago:20250618T160000
DTEND;TZID=America/Chicago:20250618T170000
DTSTAMP:20260423T035448
CREATED:20250527T212304Z
LAST-MODIFIED:20250527T212304Z
UID:10011656-1750262400-1750266000@wasecalesueurlibraries.com
SUMMARY:Poetry Rx
DESCRIPTION:Sometimes words of encouragement are all you really need to get through your heartbreak\, to boost your confidence\, or to get you in the mindset for plotting revenge. Fill your pill bottles with lyrics/poetry/quotes and more. Ages 13-18.
URL:https://wasecalesueurlibraries.com/event/poetry-rx-2/
LOCATION:Waterville Public Library\, 210 Paquin St\, Waterville\, MN\, 56096\, United States
CATEGORIES:Teen Events
GEO:44.2177999;-93.5709706
X-APPLE-STRUCTURED-LOCATION;VALUE=URI;X-ADDRESS=Waterville Public Library 210 Paquin St Waterville MN 56096 United States;X-APPLE-RADIUS=500;X-TITLE=210 Paquin St:geo:-93.5709706,44.2177999
END:VEVENT
BEGIN:VEVENT
DTSTART;TZID=America/Chicago:20250619T093000
DTEND;TZID=America/Chicago:20250619T103000
DTSTAMP:20260423T035448
CREATED:20250527T204814Z
LAST-MODIFIED:20250527T204814Z
UID:10011577-1750325400-1750329000@wasecalesueurlibraries.com
SUMMARY:Alphabet Craft Series
DESCRIPTION:Join us for a colorful and creative journey through the alphabet! Each week will cover new letters! Ages 2-5. \nThursdays at 9:30 am from June 12th-July 24th \n 
URL:https://wasecalesueurlibraries.com/event/alphabet-craft-series/2025-06-19/
LOCATION:Janesville Public Library\, 100 W 2nd St\, Janesville\, MN\, 56048\, United States
CATEGORIES:Children's Events
GEO:44.1173302;-93.7075406
X-APPLE-STRUCTURED-LOCATION;VALUE=URI;X-ADDRESS=Janesville Public Library 100 W 2nd St Janesville MN 56048 United States;X-APPLE-RADIUS=500;X-TITLE=100 W 2nd St:geo:-93.7075406,44.1173302
END:VEVENT
BEGIN:VEVENT
DTSTART;TZID=America/Chicago:20250619T093000
DTEND;TZID=America/Chicago:20250619T103000
DTSTAMP:20260423T035448
CREATED:20250626T193446Z
LAST-MODIFIED:20250626T193446Z
UID:10011747-1750325400-1750329000@wasecalesueurlibraries.com
SUMMARY:Alphabet Craft Series
DESCRIPTION:Join us for a colorful and creative journey through the alphabet! Each week will cover new letters! Ages 2-5. \nThursdays at 9:30 am from June 12th-July 24th \n 
URL:https://wasecalesueurlibraries.com/event/alphabet-craft-series-2/2025-06-19/
LOCATION:Janesville Public Library\, 100 W 2nd St\, Janesville\, MN\, 56048\, United States
CATEGORIES:Children's Events
GEO:44.1173302;-93.7075406
X-APPLE-STRUCTURED-LOCATION;VALUE=URI;X-ADDRESS=Janesville Public Library 100 W 2nd St Janesville MN 56048 United States;X-APPLE-RADIUS=500;X-TITLE=100 W 2nd St:geo:-93.7075406,44.1173302
END:VEVENT
BEGIN:VEVENT
DTSTART;TZID=America/Chicago:20250621T100000
DTEND;TZID=America/Chicago:20250621T110000
DTSTAMP:20260423T035448
CREATED:20250527T210748Z
LAST-MODIFIED:20250527T210748Z
UID:10011647-1750500000-1750503600@wasecalesueurlibraries.com
SUMMARY:Swim & Stories
DESCRIPTION:Join in for a splashing good story time! Ages 3-6. Includes free admission. This event begins at 10 am.
URL:https://wasecalesueurlibraries.com/event/swim-stories/2025-06-21/
LOCATION:Waseca Water Park\, 200 26th Avenue NE\, Waseca\, MN\, 56093\, United States
CATEGORIES:Children's Events,Story Times
GEO:44.0770411;-93.5083843
X-APPLE-STRUCTURED-LOCATION;VALUE=URI;X-ADDRESS=Waseca Water Park 200 26th Avenue NE Waseca MN 56093 United States;X-APPLE-RADIUS=500;X-TITLE=200 26th Avenue NE:geo:-93.5083843,44.0770411
END:VEVENT
END:VCALENDAR