BEGIN:VCALENDAR
VERSION:2.0
PRODID:-//Waseca-Le Sueur Library - ECPv6.15.20//NONSGML v1.0//EN
CALSCALE:GREGORIAN
METHOD:PUBLISH
X-WR-CALNAME:Waseca-Le Sueur Library
X-ORIGINAL-URL:https://wasecalesueurlibraries.com
X-WR-CALDESC:Events for Waseca-Le Sueur Library
REFRESH-INTERVAL;VALUE=DURATION:PT1H
X-Robots-Tag:noindex
X-PUBLISHED-TTL:PT1H
BEGIN:VTIMEZONE
TZID:America/Chicago
BEGIN:DAYLIGHT
TZOFFSETFROM:-0600
TZOFFSETTO:-0500
TZNAME:CDT
DTSTART:20240310T080000
END:DAYLIGHT
BEGIN:STANDARD
TZOFFSETFROM:-0500
TZOFFSETTO:-0600
TZNAME:CST
DTSTART:20241103T070000
END:STANDARD
BEGIN:DAYLIGHT
TZOFFSETFROM:-0600
TZOFFSETTO:-0500
TZNAME:CDT
DTSTART:20250309T080000
END:DAYLIGHT
BEGIN:STANDARD
TZOFFSETFROM:-0500
TZOFFSETTO:-0600
TZNAME:CST
DTSTART:20251102T070000
END:STANDARD
BEGIN:DAYLIGHT
TZOFFSETFROM:-0600
TZOFFSETTO:-0500
TZNAME:CDT
DTSTART:20260308T080000
END:DAYLIGHT
BEGIN:STANDARD
TZOFFSETFROM:-0500
TZOFFSETTO:-0600
TZNAME:CST
DTSTART:20261101T070000
END:STANDARD
END:VTIMEZONE
BEGIN:VEVENT
DTSTART;TZID=America/Chicago:20250624T190000
DTEND;TZID=America/Chicago:20250624T200000
DTSTAMP:20260422T235118
CREATED:20250527T175748Z
LAST-MODIFIED:20250527T175748Z
UID:10011531-1750791600-1750795200@wasecalesueurlibraries.com
SUMMARY:Red Eye Ruby Concert
DESCRIPTION:This retro roots-rock collective channels the soulful rock sounds of Amy Winehouse and the rhythmic roots of New Orleans. Their shiny collection of original music sounds classic yet very much of this time. \nAll Waseca Summer Concert Series events are held in Trowbridge Park\, Waseca on Tuesdays at 7 pm. In case of rain\, the concert will be held inside Waseca Public Library. All ages. \nSponsored by the E.F. Johnson Foundation and the Friends of the Waseca Public Library
URL:https://wasecalesueurlibraries.com/event/red-eye-ruby-concert/
LOCATION:Trowbridge Park\, Waseca\, MN\, 56093\, United States
CATEGORIES:Adult Events,All ages
GEO:44.0770411;-93.5083843
END:VEVENT
BEGIN:VEVENT
DTSTART;TZID=America/Chicago:20250625T103000
DTEND;TZID=America/Chicago:20250625T113000
DTSTAMP:20260422T235118
CREATED:20250527T210230Z
LAST-MODIFIED:20250731T162414Z
UID:10011646-1750847400-1750851000@wasecalesueurlibraries.com
SUMMARY:Romp and Rhyme Story Time
DESCRIPTION:New Richland Public Library holds Romp and Rhyme story times. From puppets to pumping music\, from bubble machines to banging bands\, these are not your average story time. The Library uses movement\, STEAM activities\, curiosity\, imaginative play\, and active learning to keep kids engaged. Free and open to the public.
URL:https://wasecalesueurlibraries.com/event/romp-and-rhyme-story-time-117/2025-06-25/
LOCATION:New Richland Public Library\, 129 Broadway Ave S\, New Richland\, MN\, 56072\, United States
CATEGORIES:Children's Events,Story Times
GEO:43.8935599;-93.4938211
X-APPLE-STRUCTURED-LOCATION;VALUE=URI;X-ADDRESS=New Richland Public Library 129 Broadway Ave S New Richland MN 56072 United States;X-APPLE-RADIUS=500;X-TITLE=129 Broadway Ave S:geo:-93.4938211,43.8935599
END:VEVENT
BEGIN:VEVENT
DTSTART;TZID=America/Chicago:20250625T150000
DTEND;TZID=America/Chicago:20250625T160000
DTSTAMP:20260422T235118
CREATED:20250527T204343Z
LAST-MODIFIED:20250527T204343Z
UID:10011574-1750863600-1750867200@wasecalesueurlibraries.com
SUMMARY:Inside Out Party
DESCRIPTION:Explore colors and emotions with Joy\, Anxiety\, Sadness\, and other Inside Out characters. Ages 4-7.
URL:https://wasecalesueurlibraries.com/event/inside-out-party-3/
LOCATION:Waterville Public Library\, 210 Paquin St\, Waterville\, MN\, 56096\, United States
CATEGORIES:Children's Events
GEO:44.2177999;-93.5709706
X-APPLE-STRUCTURED-LOCATION;VALUE=URI;X-ADDRESS=Waterville Public Library 210 Paquin St Waterville MN 56096 United States;X-APPLE-RADIUS=500;X-TITLE=210 Paquin St:geo:-93.5709706,44.2177999
END:VEVENT
BEGIN:VEVENT
DTSTART;VALUE=DATE:20250626
DTEND;VALUE=DATE:20250701
DTSTAMP:20260422T235118
CREATED:20250527T211803Z
LAST-MODIFIED:20250527T211803Z
UID:10011654-1750896000-1751327999@wasecalesueurlibraries.com
SUMMARY:Stuffed Animal Weekend Sleepover
DESCRIPTION:Janesville’s stuffed animals will also get travel around town together and then have a sleepover at the library! All ages of stuffed animals welcome. \nDrop off: June 26th        9 am-12 pm\, 1-6 pm\nPick up: June 30th          1-6 pm \n 
URL:https://wasecalesueurlibraries.com/event/stuffed-animal-weekend-sleepover/
LOCATION:Janesville Public Library\, 100 W 2nd St\, Janesville\, MN\, 56048\, United States
CATEGORIES:Children's Events
GEO:44.1173302;-93.7075406
X-APPLE-STRUCTURED-LOCATION;VALUE=URI;X-ADDRESS=Janesville Public Library 100 W 2nd St Janesville MN 56048 United States;X-APPLE-RADIUS=500;X-TITLE=100 W 2nd St:geo:-93.7075406,44.1173302
END:VEVENT
BEGIN:VEVENT
DTSTART;TZID=America/Chicago:20250626T093000
DTEND;TZID=America/Chicago:20250626T103000
DTSTAMP:20260422T235118
CREATED:20250527T204814Z
LAST-MODIFIED:20250527T204814Z
UID:10011578-1750930200-1750933800@wasecalesueurlibraries.com
SUMMARY:Alphabet Craft Series
DESCRIPTION:Join us for a colorful and creative journey through the alphabet! Each week will cover new letters! Ages 2-5. \nThursdays at 9:30 am from June 12th-July 24th \n 
URL:https://wasecalesueurlibraries.com/event/alphabet-craft-series/2025-06-26/
LOCATION:Janesville Public Library\, 100 W 2nd St\, Janesville\, MN\, 56048\, United States
CATEGORIES:Children's Events
GEO:44.1173302;-93.7075406
X-APPLE-STRUCTURED-LOCATION;VALUE=URI;X-ADDRESS=Janesville Public Library 100 W 2nd St Janesville MN 56048 United States;X-APPLE-RADIUS=500;X-TITLE=100 W 2nd St:geo:-93.7075406,44.1173302
END:VEVENT
BEGIN:VEVENT
DTSTART;TZID=America/Chicago:20250626T093000
DTEND;TZID=America/Chicago:20250626T103000
DTSTAMP:20260422T235118
CREATED:20250626T193446Z
LAST-MODIFIED:20250626T193446Z
UID:10011748-1750930200-1750933800@wasecalesueurlibraries.com
SUMMARY:Alphabet Craft Series
DESCRIPTION:Join us for a colorful and creative journey through the alphabet! Each week will cover new letters! Ages 2-5. \nThursdays at 9:30 am from June 12th-July 24th \n 
URL:https://wasecalesueurlibraries.com/event/alphabet-craft-series-2/2025-06-26/
LOCATION:Janesville Public Library\, 100 W 2nd St\, Janesville\, MN\, 56048\, United States
CATEGORIES:Children's Events
GEO:44.1173302;-93.7075406
X-APPLE-STRUCTURED-LOCATION;VALUE=URI;X-ADDRESS=Janesville Public Library 100 W 2nd St Janesville MN 56048 United States;X-APPLE-RADIUS=500;X-TITLE=100 W 2nd St:geo:-93.7075406,44.1173302
END:VEVENT
BEGIN:VEVENT
DTSTART;TZID=America/Chicago:20250626T100000
DTEND;TZID=America/Chicago:20250626T110000
DTSTAMP:20260422T235118
CREATED:20250227T152943Z
LAST-MODIFIED:20250731T162248Z
UID:10011638-1750932000-1750935600@wasecalesueurlibraries.com
SUMMARY:Romp and Rhyme Story Time
DESCRIPTION:Montgomery Public Library holds Romp and Rhyme story times. From puppets to pumping music\, from bubble machines to banging bands\, these are not your average story time. The Library uses movement\, STEAM activities\, curiosity\, imaginative play\, and active learning to keep kids engaged. Free and open to the public.
URL:https://wasecalesueurlibraries.com/event/romp-and-rhyme-story-time-111/2025-06-26/
LOCATION:Montgomery Public Library\, 104 Oak Ave SE\, Montgomery\, MN\, 56069\, United States
CATEGORIES:Children's Events,Story Times
GEO:44.4355889;-93.5810028
X-APPLE-STRUCTURED-LOCATION;VALUE=URI;X-ADDRESS=Montgomery Public Library 104 Oak Ave SE Montgomery MN 56069 United States;X-APPLE-RADIUS=500;X-TITLE=104 Oak Ave SE:geo:-93.5810028,44.4355889
END:VEVENT
BEGIN:VEVENT
DTSTART;TZID=America/Chicago:20250626T180000
DTEND;TZID=America/Chicago:20250626T190000
DTSTAMP:20260422T235118
CREATED:20250527T180419Z
LAST-MODIFIED:20250527T180419Z
UID:10011534-1750960800-1750964400@wasecalesueurlibraries.com
SUMMARY:Minnesota Birds Block Printing
DESCRIPTION:Parcel Arts will teach participants how to carve\, ink\, and print their very own loon or cardinal. Geared for adults. Register now! \nThis program was made possible in part with a grant from the Arts & Cultural Heritage Fund of the Minnesota Clean Water\, Land\, and Legacy Amendment through the Traverse des Sioux Library System. \n 
URL:https://wasecalesueurlibraries.com/event/minnesota-birds-block-printing-2/
LOCATION:Le Sueur Public Library\, 118 Ferry St\, Le Sueur\, MN\, 56058\, United States
CATEGORIES:Adult Events
GEO:44.4601702;-93.9161364
X-APPLE-STRUCTURED-LOCATION;VALUE=URI;X-ADDRESS=Le Sueur Public Library 118 Ferry St Le Sueur MN 56058 United States;X-APPLE-RADIUS=500;X-TITLE=118 Ferry St:geo:-93.9161364,44.4601702
END:VEVENT
BEGIN:VEVENT
DTSTART;TZID=America/Chicago:20250627T110000
DTEND;TZID=America/Chicago:20250627T130000
DTSTAMP:20260422T235118
CREATED:20250527T163407Z
LAST-MODIFIED:20250626T181839Z
UID:10011518-1751022000-1751029200@wasecalesueurlibraries.com
SUMMARY:Waseca Water Carnival
DESCRIPTION:Join us for an exciting\, water-filled event! Activities include a dunk tank\, an inflatable obstacle course\, a waterslide\, water balloon games\, face painting\, art projects\, a waterwall\, and more! FREE LUNCH! \nSponsored by the City of Waseca\, the E.F. Johnson Foundation\, and the Friends of the Waseca Public Library. \n 
URL:https://wasecalesueurlibraries.com/event/waseca-water-carnival-7/
LOCATION:Trowbridge Park\, Waseca\, MN\, 56093\, United States
CATEGORIES:Adult Events,All ages,Children's Events,Family,Teen Events,Tweens
ATTACH;FMTTYPE=image/jpeg:https://wasecalesueurlibraries.com/wp-content/uploads/2025/05/Waseca-Water-Carnival.jpg
GEO:44.0770411;-93.5083843
END:VEVENT
BEGIN:VEVENT
DTSTART;TZID=America/Chicago:20250628T103000
DTEND;TZID=America/Chicago:20250628T113000
DTSTAMP:20260422T235118
CREATED:20250527T213733Z
LAST-MODIFIED:20250527T213733Z
UID:10011666-1751106600-1751110200@wasecalesueurlibraries.com
SUMMARY:Flower Painting
DESCRIPTION:Create a layered collage flower painting. Ages 13-18. \n 
URL:https://wasecalesueurlibraries.com/event/flower-painting-2/
LOCATION:Elysian Public Library\, 202 E Main St\, Elysian\, MN\, 56028\, United States
CATEGORIES:Teen Events
GEO:44.198703;-93.6724641
X-APPLE-STRUCTURED-LOCATION;VALUE=URI;X-ADDRESS=Elysian Public Library 202 E Main St Elysian MN 56028 United States;X-APPLE-RADIUS=500;X-TITLE=202 E Main St:geo:-93.6724641,44.198703
END:VEVENT
BEGIN:VEVENT
DTSTART;VALUE=DATE:20250630
DTEND;VALUE=DATE:20250706
DTSTAMP:20260422T235118
CREATED:20250527T215714Z
LAST-MODIFIED:20250623T200111Z
UID:10011674-1751241600-1751759999@wasecalesueurlibraries.com
SUMMARY:Book Sale
DESCRIPTION:Our Friends of the Library groups are selling books for all ages. Help us raise money for our libraries while finding new treasures! \nJune 30th-July 5th during open hours \n 
URL:https://wasecalesueurlibraries.com/event/book-sale-18/
LOCATION:Elysian Public Library\, 202 E Main St\, Elysian\, MN\, 56028\, United States
CATEGORIES:Book Clubs,Book Sales,Friends of the Library Event
GEO:44.198703;-93.6724641
X-APPLE-STRUCTURED-LOCATION;VALUE=URI;X-ADDRESS=Elysian Public Library 202 E Main St Elysian MN 56028 United States;X-APPLE-RADIUS=500;X-TITLE=202 E Main St:geo:-93.6724641,44.198703
END:VEVENT
BEGIN:VEVENT
DTSTART;TZID=America/Chicago:20250630T100000
DTEND;TZID=America/Chicago:20250630T110000
DTSTAMP:20260422T235118
CREATED:20250527T174559Z
LAST-MODIFIED:20250527T174559Z
UID:10011526-1751277600-1751281200@wasecalesueurlibraries.com
SUMMARY:Feathers & Strings
DESCRIPTION:An assortment of intricate marionettes are the featured performers in this delightful\, amusing\, and eclectic Hunter Marionettes showcase. All ages. \nThis event is made possible by the voters of Minnesota through a grant provided by the Traverse des Sioux Library Cooperative\, thanks to a legislative appropriation from the arts and cultural heritage fund.
URL:https://wasecalesueurlibraries.com/event/feathers-strings-5/
LOCATION:Le Sueur Public Library\, 118 Ferry St\, Le Sueur\, MN\, 56058\, United States
CATEGORIES:All ages,Children's Events
GEO:44.4601702;-93.9161364
X-APPLE-STRUCTURED-LOCATION;VALUE=URI;X-ADDRESS=Le Sueur Public Library 118 Ferry St Le Sueur MN 56058 United States;X-APPLE-RADIUS=500;X-TITLE=118 Ferry St:geo:-93.9161364,44.4601702
END:VEVENT
BEGIN:VEVENT
DTSTART;TZID=America/Chicago:20250630T130000
DTEND;TZID=America/Chicago:20250630T150000
DTSTAMP:20260422T235118
CREATED:20250527T163520Z
LAST-MODIFIED:20250527T163520Z
UID:10011519-1751288400-1751295600@wasecalesueurlibraries.com
SUMMARY:Library Carnival
DESCRIPTION:Enjoy an afternoon of carnival games\, a balloon artist\, face painting by JWP Honor Society\, and live music by Melissa Schultz. All ages. \nSponsored by Friends of the Janesville Public Library\, Janesville Area Foundation\, the Pope Family Fund\, JWP Honor Society\, and Simply Saved Thrift Store. \n 
URL:https://wasecalesueurlibraries.com/event/library-carnival-2/
LOCATION:Janesville Public Library\, 100 W 2nd St\, Janesville\, MN\, 56048\, United States
CATEGORIES:All ages,Children's Events,Family,Tweens
GEO:44.1173302;-93.7075406
X-APPLE-STRUCTURED-LOCATION;VALUE=URI;X-ADDRESS=Janesville Public Library 100 W 2nd St Janesville MN 56048 United States;X-APPLE-RADIUS=500;X-TITLE=100 W 2nd St:geo:-93.7075406,44.1173302
END:VEVENT
BEGIN:VEVENT
DTSTART;TZID=America/Chicago:20250630T140000
DTEND;TZID=America/Chicago:20250630T150000
DTSTAMP:20260422T235118
CREATED:20250527T174639Z
LAST-MODIFIED:20250527T174639Z
UID:10011527-1751292000-1751295600@wasecalesueurlibraries.com
SUMMARY:Feathers & Strings
DESCRIPTION:An assortment of intricate marionettes are the featured performers in this delightful\, amusing\, and eclectic Hunter Marionettes showcase. All ages. \nThis event is made possible by the voters of Minnesota through a grant provided by the Traverse des Sioux Library Cooperative\, thanks to a legislative appropriation from the arts and cultural heritage fund.
URL:https://wasecalesueurlibraries.com/event/feathers-strings-6/
LOCATION:Le Center Public Library\, 10 W Tyrone St\, Le Center\, MN\, 56057\, United States
CATEGORIES:All ages,Children's Events
GEO:44.3907505;-93.7316339
X-APPLE-STRUCTURED-LOCATION;VALUE=URI;X-ADDRESS=Le Center Public Library 10 W Tyrone St Le Center MN 56057 United States;X-APPLE-RADIUS=500;X-TITLE=10 W Tyrone St:geo:-93.7316339,44.3907505
END:VEVENT
BEGIN:VEVENT
DTSTART;TZID=America/Chicago:20250701T100000
DTEND;TZID=America/Chicago:20250701T103000
DTSTAMP:20260422T235118
CREATED:20250509T195051Z
LAST-MODIFIED:20250731T162139Z
UID:10011362-1751364000-1751365800@wasecalesueurlibraries.com
SUMMARY:Romp and Rhyme Story Time
DESCRIPTION:Le Center Public Library holds Romp and Rhyme story times on Tuesdays at 10 am. From puppets to pumping music\, from bubble machines to banging bands\, these are not your average story time. The Library uses movement\, STEAM activities\, curiosity\, imaginative play\, and active learning to keep kids engaged. Free and open to the public.
URL:https://wasecalesueurlibraries.com/event/romp-and-rhyme-story-time-113/2025-07-01/
LOCATION:Le Center Public Library\, 10 W Tyrone St\, Le Center\, MN\, 56057\, United States
CATEGORIES:Children's Events,Story Times
GEO:44.3907505;-93.7316339
X-APPLE-STRUCTURED-LOCATION;VALUE=URI;X-ADDRESS=Le Center Public Library 10 W Tyrone St Le Center MN 56057 United States;X-APPLE-RADIUS=500;X-TITLE=10 W Tyrone St:geo:-93.7316339,44.3907505
END:VEVENT
BEGIN:VEVENT
DTSTART;TZID=America/Chicago:20250701T130000
DTEND;TZID=America/Chicago:20250701T140000
DTSTAMP:20260422T235118
CREATED:20250626T195826Z
LAST-MODIFIED:20250626T195826Z
UID:10011763-1751374800-1751378400@wasecalesueurlibraries.com
SUMMARY:The Summer I Turned Pretty Party
DESCRIPTION:Make team pennants\, create banana splits\, design an arrangement from our flower bar\, play carnival games\, and more. Ages 13-18. \nThis event is made possible by the voters of Minnesota through a grant provided by the Traverse des Sioux Library Cooperative\, thanks to a legislative appropriation from the arts and cultural heritage fund. \n 
URL:https://wasecalesueurlibraries.com/event/the-summer-i-turned-pretty-party/
LOCATION:Le Sueur Public Library\, 118 Ferry St\, Le Sueur\, MN\, 56058\, United States
CATEGORIES:Teen Events
GEO:44.4601702;-93.9161364
X-APPLE-STRUCTURED-LOCATION;VALUE=URI;X-ADDRESS=Le Sueur Public Library 118 Ferry St Le Sueur MN 56058 United States;X-APPLE-RADIUS=500;X-TITLE=118 Ferry St:geo:-93.9161364,44.4601702
END:VEVENT
BEGIN:VEVENT
DTSTART;TZID=America/Chicago:20250701T130000
DTEND;TZID=America/Chicago:20250701T140000
DTSTAMP:20260422T235118
CREATED:20250626T201056Z
LAST-MODIFIED:20250626T201056Z
UID:10011778-1751374800-1751378400@wasecalesueurlibraries.com
SUMMARY:Watercolor Pinwheels
DESCRIPTION:Create pinwheels using watercolor paint. Ages 13-18. \nSponsored by E. F. Johnson Foundation \n 
URL:https://wasecalesueurlibraries.com/event/watercolor-pinwheels/
LOCATION:Waseca Public Library\, 408 N State St\, Waseca\, MN\, 56093\, United States
CATEGORIES:Teen Events
GEO:44.0809183;-93.5069008
X-APPLE-STRUCTURED-LOCATION;VALUE=URI;X-ADDRESS=Waseca Public Library 408 N State St Waseca MN 56093 United States;X-APPLE-RADIUS=500;X-TITLE=408 N State St:geo:-93.5069008,44.0809183
END:VEVENT
BEGIN:VEVENT
DTSTART;TZID=America/Chicago:20250701T140000
DTEND;TZID=America/Chicago:20250701T150000
DTSTAMP:20260422T235118
CREATED:20250626T190515Z
LAST-MODIFIED:20250626T190515Z
UID:10011726-1751378400-1751382000@wasecalesueurlibraries.com
SUMMARY:CD Scratch Art
DESCRIPTION:Upcycle old CDs into colorful art. Create a mobile\, hang in the garden\, or hang them on a wall. Ages 7-12.
URL:https://wasecalesueurlibraries.com/event/cd-scratch-art-3/
LOCATION:Waldorf Public Library\, 119 S Main St\, Waldorf\, MN\, 56091\, United States
CATEGORIES:Children's Events
GEO:43.9365286;-93.697592
X-APPLE-STRUCTURED-LOCATION;VALUE=URI;X-ADDRESS=Waldorf Public Library 119 S Main St Waldorf MN 56091 United States;X-APPLE-RADIUS=500;X-TITLE=119 S Main St:geo:-93.697592,43.9365286
END:VEVENT
BEGIN:VEVENT
DTSTART;TZID=America/Chicago:20250701T140000
DTEND;TZID=America/Chicago:20250701T150000
DTSTAMP:20260422T235118
CREATED:20250626T201003Z
LAST-MODIFIED:20250626T201003Z
UID:10011777-1751378400-1751382000@wasecalesueurlibraries.com
SUMMARY:DIY Photo Projects
DESCRIPTION:These rock and wire photo holders bring unique height and color to your photo display. Then highlight your snapshots with a unique wood frame magnet. Ages 13+.
URL:https://wasecalesueurlibraries.com/event/diy-photo-projects-4/
LOCATION:Le Center Public Library\, 10 W Tyrone St\, Le Center\, MN\, 56057\, United States
CATEGORIES:Teen Events
GEO:44.3907505;-93.7316339
X-APPLE-STRUCTURED-LOCATION;VALUE=URI;X-ADDRESS=Le Center Public Library 10 W Tyrone St Le Center MN 56057 United States;X-APPLE-RADIUS=500;X-TITLE=10 W Tyrone St:geo:-93.7316339,44.3907505
END:VEVENT
BEGIN:VEVENT
DTSTART;TZID=America/Chicago:20250701T150000
DTEND;TZID=America/Chicago:20250701T160000
DTSTAMP:20260422T235118
CREATED:20250626T200246Z
LAST-MODIFIED:20250626T200246Z
UID:10011769-1751382000-1751385600@wasecalesueurlibraries.com
SUMMARY:Poetry Rx
DESCRIPTION:Sometimes words of encouragement are all you really need to get through your heartbreak\, to boost your confidence\, or to get you in the mindset for plotting revenge. Fill your pill bottles with lyrics/poetry/quotes and more. Ages 13-18.
URL:https://wasecalesueurlibraries.com/event/poetry-rx-3/
LOCATION:Janesville Public Library\, 100 W 2nd St\, Janesville\, MN\, 56048\, United States
CATEGORIES:Teen Events
GEO:44.1173302;-93.7075406
X-APPLE-STRUCTURED-LOCATION;VALUE=URI;X-ADDRESS=Janesville Public Library 100 W 2nd St Janesville MN 56048 United States;X-APPLE-RADIUS=500;X-TITLE=100 W 2nd St:geo:-93.7075406,44.1173302
END:VEVENT
BEGIN:VEVENT
DTSTART;TZID=America/Chicago:20250701T160000
DTEND;TZID=America/Chicago:20250701T170000
DTSTAMP:20260422T235118
CREATED:20250626T200825Z
LAST-MODIFIED:20250626T200825Z
UID:10011775-1751385600-1751389200@wasecalesueurlibraries.com
SUMMARY:Marbled Coasters
DESCRIPTION:Create a chic and colorful spin on marbled coasters. Ages 13-18. \nSponsored by E. F. Johnson Foundation \n 
URL:https://wasecalesueurlibraries.com/event/marbled-coasters-4/
LOCATION:Waterville Public Library\, 210 Paquin St\, Waterville\, MN\, 56096\, United States
CATEGORIES:Teen Events
GEO:44.2177999;-93.5709706
X-APPLE-STRUCTURED-LOCATION;VALUE=URI;X-ADDRESS=Waterville Public Library 210 Paquin St Waterville MN 56096 United States;X-APPLE-RADIUS=500;X-TITLE=210 Paquin St:geo:-93.5709706,44.2177999
END:VEVENT
BEGIN:VEVENT
DTSTART;TZID=America/Chicago:20250701T170000
DTEND;TZID=America/Chicago:20250701T190000
DTSTAMP:20260422T235118
CREATED:20250626T183852Z
LAST-MODIFIED:20250626T183852Z
UID:10011705-1751389200-1751396400@wasecalesueurlibraries.com
SUMMARY:Laser-Engraved Cutting Boards
DESCRIPTION:Personalize a cutting board with a sweet or funny engraving to create a unique gift or family heirloom. Geared for adults. Register today! \nSponsored by Janesville Area Foundation and Pope Family Fund \n 
URL:https://wasecalesueurlibraries.com/event/laser-engraved-cutting-boards/
LOCATION:Janesville Public Library\, 100 W 2nd St\, Janesville\, MN\, 56048\, United States
CATEGORIES:Adult Events
GEO:44.1173302;-93.7075406
X-APPLE-STRUCTURED-LOCATION;VALUE=URI;X-ADDRESS=Janesville Public Library 100 W 2nd St Janesville MN 56048 United States;X-APPLE-RADIUS=500;X-TITLE=100 W 2nd St:geo:-93.7075406,44.1173302
END:VEVENT
BEGIN:VEVENT
DTSTART;TZID=America/Chicago:20250701T170000
DTEND;TZID=America/Chicago:20250701T200000
DTSTAMP:20260422T235118
CREATED:20250626T184156Z
LAST-MODIFIED:20250626T184156Z
UID:10011707-1751389200-1751400000@wasecalesueurlibraries.com
SUMMARY:Stenciled Book Edges
DESCRIPTION:Jump into the world of book artistry by stenciling the edges of a popular book for your home library. Books and supplies provided. Geared for adults. \nThis event is made possible in part with a grant from the Arts & Cultural Heritage Fund of the Minnesota Clean Water\, Land\, and Legacy Amendment through the Traverse des Sioux Library System.
URL:https://wasecalesueurlibraries.com/event/stenciled-book-edges-7/
LOCATION:Montgomery Public Library\, 104 Oak Ave SE\, Montgomery\, MN\, 56069\, United States
CATEGORIES:Adult Events
GEO:44.4355889;-93.5810028
X-APPLE-STRUCTURED-LOCATION;VALUE=URI;X-ADDRESS=Montgomery Public Library 104 Oak Ave SE Montgomery MN 56069 United States;X-APPLE-RADIUS=500;X-TITLE=104 Oak Ave SE:geo:-93.5810028,44.4355889
END:VEVENT
BEGIN:VEVENT
DTSTART;TZID=America/Chicago:20250701T180000
DTEND;TZID=America/Chicago:20250701T190000
DTSTAMP:20260422T235118
CREATED:20250626T201501Z
LAST-MODIFIED:20250626T201501Z
UID:10011782-1751392800-1751396400@wasecalesueurlibraries.com
SUMMARY:The Plot Thickens
DESCRIPTION:Join this hybrid book club where we alternate monthly from a group read to a “choose your own” genre-specific book. There will be treats! Ages 18+ This month’s book is The Heaven and Earth Grocery Story by Alix Harrow.
URL:https://wasecalesueurlibraries.com/event/the-plot-thickens-7/
LOCATION:Le Sueur Public Library\, 118 Ferry St\, Le Sueur\, MN\, 56058\, United States
CATEGORIES:Adult Events,Book Clubs
GEO:44.4601702;-93.9161364
X-APPLE-STRUCTURED-LOCATION;VALUE=URI;X-ADDRESS=Le Sueur Public Library 118 Ferry St Le Sueur MN 56058 United States;X-APPLE-RADIUS=500;X-TITLE=118 Ferry St:geo:-93.9161364,44.4601702
END:VEVENT
BEGIN:VEVENT
DTSTART;TZID=America/Chicago:20250702T100000
DTEND;TZID=America/Chicago:20250702T110000
DTSTAMP:20260422T235118
CREATED:20250626T192912Z
LAST-MODIFIED:20250626T192912Z
UID:10011741-1751450400-1751454000@wasecalesueurlibraries.com
SUMMARY:The Great Rainbow Party
DESCRIPTION:This colorful event is full of prisms\, pattern building\, color mixing\, sorting\, and crafting. Ages 3-6.
URL:https://wasecalesueurlibraries.com/event/the-great-rainbow-party-4/
LOCATION:New Richland Public Library\, 129 Broadway Ave S\, New Richland\, MN\, 56072\, United States
CATEGORIES:Children's Events
GEO:43.8935599;-93.4938211
X-APPLE-STRUCTURED-LOCATION;VALUE=URI;X-ADDRESS=New Richland Public Library 129 Broadway Ave S New Richland MN 56072 United States;X-APPLE-RADIUS=500;X-TITLE=129 Broadway Ave S:geo:-93.4938211,43.8935599
END:VEVENT
BEGIN:VEVENT
DTSTART;TZID=America/Chicago:20250702T130000
DTEND;TZID=America/Chicago:20250702T140000
DTSTAMP:20260422T235118
CREATED:20250626T191218Z
LAST-MODIFIED:20250626T191218Z
UID:10011730-1751461200-1751464800@wasecalesueurlibraries.com
SUMMARY:Tween Crafternoon
DESCRIPTION:Join us for a series of exciting crafting sessions just for tweens! Our Crafternoons will ignite creativity and foster friendship! Ages 8-12. \nFriendship Keychains: July 2nd\nPainted Pinecones: July 16th\nBoba Slime: July 30th \n 
URL:https://wasecalesueurlibraries.com/event/tween-crafternoon-7/
LOCATION:Le Sueur Public Library\, 118 Ferry St\, Le Sueur\, MN\, 56058\, United States
CATEGORIES:Tweens
GEO:44.4601702;-93.9161364
X-APPLE-STRUCTURED-LOCATION;VALUE=URI;X-ADDRESS=Le Sueur Public Library 118 Ferry St Le Sueur MN 56058 United States;X-APPLE-RADIUS=500;X-TITLE=118 Ferry St:geo:-93.9161364,44.4601702
END:VEVENT
BEGIN:VEVENT
DTSTART;TZID=America/Chicago:20250703T093000
DTEND;TZID=America/Chicago:20250703T103000
DTSTAMP:20260422T235119
CREATED:20250626T193446Z
LAST-MODIFIED:20250626T193446Z
UID:10011749-1751535000-1751538600@wasecalesueurlibraries.com
SUMMARY:Alphabet Craft Series
DESCRIPTION:Join us for a colorful and creative journey through the alphabet! Each week will cover new letters! Ages 2-5. \nThursdays at 9:30 am from June 12th-July 24th \n 
URL:https://wasecalesueurlibraries.com/event/alphabet-craft-series-2/2025-07-03/
LOCATION:Janesville Public Library\, 100 W 2nd St\, Janesville\, MN\, 56048\, United States
CATEGORIES:Children's Events
GEO:44.1173302;-93.7075406
X-APPLE-STRUCTURED-LOCATION;VALUE=URI;X-ADDRESS=Janesville Public Library 100 W 2nd St Janesville MN 56048 United States;X-APPLE-RADIUS=500;X-TITLE=100 W 2nd St:geo:-93.7075406,44.1173302
END:VEVENT
BEGIN:VEVENT
DTSTART;TZID=America/Chicago:20250705T093000
DTEND;TZID=America/Chicago:20250705T133000
DTSTAMP:20260422T235119
CREATED:20250527T215002Z
LAST-MODIFIED:20250626T201549Z
UID:10011783-1751707800-1751722200@wasecalesueurlibraries.com
SUMMARY:Books & Bagels
DESCRIPTION:Bagels\, coffee\, juice\, and community. Stop in at the library to talk about books. All ages. \nSponsored by Montgomery Area Friends of the Library \n 
URL:https://wasecalesueurlibraries.com/event/books-bagels-5/2025-07-05/
LOCATION:Montgomery Public Library\, 104 Oak Ave SE\, Montgomery\, MN\, 56069\, United States
CATEGORIES:Adult Events,All ages
GEO:44.4355889;-93.5810028
X-APPLE-STRUCTURED-LOCATION;VALUE=URI;X-ADDRESS=Montgomery Public Library 104 Oak Ave SE Montgomery MN 56069 United States;X-APPLE-RADIUS=500;X-TITLE=104 Oak Ave SE:geo:-93.5810028,44.4355889
END:VEVENT
BEGIN:VEVENT
DTSTART;TZID=America/Chicago:20250707T100000
DTEND;TZID=America/Chicago:20250707T110000
DTSTAMP:20260422T235119
CREATED:20250626T174628Z
LAST-MODIFIED:20250626T175527Z
UID:10011679-1751882400-1751886000@wasecalesueurlibraries.com
SUMMARY:Pan-Handlers Concert
DESCRIPTION:Experience the sweet\, lively sound of the steel drums\, which evolved from old oil barrels to the beautiful instruments we love today. Enjoy traditional steel pan tunes along with popular songs from The Beatles\, Guns N’ Roses\, and Prince. All ages. \nThis event is made possible by the voters of Minnesota through a grant provided by the Traverse des Sioux Library Cooperative\, thanks to a legislative appropriation from the arts and cultural heritage fund.
URL:https://wasecalesueurlibraries.com/event/pan-handlers-concert/
LOCATION:Le Sueur Legion Park\, S 6th St\, Le Sueur\, MN\, 56058\, United States
CATEGORIES:All ages,Children's Events,Concert
GEO:44.4554838;-93.9118623
X-APPLE-STRUCTURED-LOCATION;VALUE=URI;X-ADDRESS=Le Sueur Legion Park S 6th St Le Sueur MN 56058 United States;X-APPLE-RADIUS=500;X-TITLE=S 6th St:geo:-93.9118623,44.4554838
END:VEVENT
BEGIN:VEVENT
DTSTART;TZID=America/Chicago:20250707T100000
DTEND;TZID=America/Chicago:20250707T110000
DTSTAMP:20260422T235119
CREATED:20250626T181932Z
LAST-MODIFIED:20250626T181932Z
UID:10011687-1751882400-1751886000@wasecalesueurlibraries.com
SUMMARY:Feathers & Strings
DESCRIPTION:An assortment of intricate marionettes are the featured performers in this delightful\, amusing\, and eclectic Hunter Marionettes showcase. All ages. \nThis event is made possible by the voters of Minnesota through a grant provided by the Traverse des Sioux Library Cooperative\, thanks to a legislative appropriation from the arts and cultural heritage fund.
URL:https://wasecalesueurlibraries.com/event/feathers-strings-7/
LOCATION:Montgomery Public Library\, 104 Oak Ave SE\, Montgomery\, MN\, 56069\, United States
CATEGORIES:All ages,Children's Events
GEO:44.4355889;-93.5810028
X-APPLE-STRUCTURED-LOCATION;VALUE=URI;X-ADDRESS=Montgomery Public Library 104 Oak Ave SE Montgomery MN 56069 United States;X-APPLE-RADIUS=500;X-TITLE=104 Oak Ave SE:geo:-93.5810028,44.4355889
END:VEVENT
END:VCALENDAR