BEGIN:VCALENDAR
VERSION:2.0
PRODID:-//Waseca-Le Sueur Library - ECPv6.15.20//NONSGML v1.0//EN
CALSCALE:GREGORIAN
METHOD:PUBLISH
X-WR-CALNAME:Waseca-Le Sueur Library
X-ORIGINAL-URL:https://wasecalesueurlibraries.com
X-WR-CALDESC:Events for Waseca-Le Sueur Library
REFRESH-INTERVAL;VALUE=DURATION:PT1H
X-Robots-Tag:noindex
X-PUBLISHED-TTL:PT1H
BEGIN:VTIMEZONE
TZID:America/Chicago
BEGIN:DAYLIGHT
TZOFFSETFROM:-0600
TZOFFSETTO:-0500
TZNAME:CDT
DTSTART:20240310T080000
END:DAYLIGHT
BEGIN:STANDARD
TZOFFSETFROM:-0500
TZOFFSETTO:-0600
TZNAME:CST
DTSTART:20241103T070000
END:STANDARD
BEGIN:DAYLIGHT
TZOFFSETFROM:-0600
TZOFFSETTO:-0500
TZNAME:CDT
DTSTART:20250309T080000
END:DAYLIGHT
BEGIN:STANDARD
TZOFFSETFROM:-0500
TZOFFSETTO:-0600
TZNAME:CST
DTSTART:20251102T070000
END:STANDARD
BEGIN:DAYLIGHT
TZOFFSETFROM:-0600
TZOFFSETTO:-0500
TZNAME:CDT
DTSTART:20260308T080000
END:DAYLIGHT
BEGIN:STANDARD
TZOFFSETFROM:-0500
TZOFFSETTO:-0600
TZNAME:CST
DTSTART:20261101T070000
END:STANDARD
END:VTIMEZONE
BEGIN:VEVENT
DTSTART;TZID=America/Chicago:20250930T170000
DTEND;TZID=America/Chicago:20250930T190000
DTSTAMP:20260422T105116
CREATED:20250827T213241Z
LAST-MODIFIED:20250827T213241Z
UID:10011833-1759251600-1759258800@wasecalesueurlibraries.com
SUMMARY:Laser-Engraved Necklace
DESCRIPTION:Personalize a metal necklace. Learn the basics of laser engraving\, use templates or create your own artwork. Ages 18+. \nRegister now. \nSponsored by Janesville Area Foundation and Pope Family Fund.
URL:https://wasecalesueurlibraries.com/event/laser-engraved-necklace/
LOCATION:Janesville Public Library\, 100 W 2nd St\, Janesville\, MN\, 56048\, United States
CATEGORIES:Adult Events
GEO:44.1173302;-93.7075406
X-APPLE-STRUCTURED-LOCATION;VALUE=URI;X-ADDRESS=Janesville Public Library 100 W 2nd St Janesville MN 56048 United States;X-APPLE-RADIUS=500;X-TITLE=100 W 2nd St:geo:-93.7075406,44.1173302
END:VEVENT
BEGIN:VEVENT
DTSTART;TZID=America/Chicago:20250930T153000
DTEND;TZID=America/Chicago:20250930T163000
DTSTAMP:20260422T105116
CREATED:20250831T003529Z
LAST-MODIFIED:20250831T003529Z
UID:10011875-1759246200-1759249800@wasecalesueurlibraries.com
SUMMARY:Macramé Ghosts
DESCRIPTION:In this spooky twist on a classic craft\, teens will create their own macramé ghosts. Whether you’re a total beginner or a macramé wizard\, this hands-on workshop will guide you step by step to making your own boho-chic decor. Ages 13-18.
URL:https://wasecalesueurlibraries.com/event/macrame-ghosts/
LOCATION:Le Center Public Library\, 10 W Tyrone St\, Le Center\, MN\, 56057\, United States
CATEGORIES:Teen Events
GEO:44.3907505;-93.7316339
X-APPLE-STRUCTURED-LOCATION;VALUE=URI;X-ADDRESS=Le Center Public Library 10 W Tyrone St Le Center MN 56057 United States;X-APPLE-RADIUS=500;X-TITLE=10 W Tyrone St:geo:-93.7316339,44.3907505
END:VEVENT
BEGIN:VEVENT
DTSTART;TZID=America/Chicago:20250930T103000
DTEND;TZID=America/Chicago:20250930T110000
DTSTAMP:20260422T105116
CREATED:20250831T004956Z
LAST-MODIFIED:20251204T170714Z
UID:10012351-1759228200-1759230000@wasecalesueurlibraries.com
SUMMARY:Romp and Rhyme Baby Lapsit Story Time
DESCRIPTION:Waseca Public Library holds Romp and Rhyme Baby Lapsit story times. From puppets to pumping music\, from bubble machines to banging bands\, these are not your average story time. The Library uses movement\, STEAM activities\, curiosity\, imaginative play\, and active learning to keep kids engaged. Free and open to the public.
URL:https://wasecalesueurlibraries.com/event/romp-and-rhyme-story-time-120/2025-09-30/
LOCATION:Waseca Public Library\, 408 N State St\, Waseca\, MN\, 56093\, United States
CATEGORIES:Children's Events,Story Times
GEO:44.0809183;-93.5069008
X-APPLE-STRUCTURED-LOCATION;VALUE=URI;X-ADDRESS=Waseca Public Library 408 N State St Waseca MN 56093 United States;X-APPLE-RADIUS=500;X-TITLE=408 N State St:geo:-93.5069008,44.0809183
END:VEVENT
BEGIN:VEVENT
DTSTART;TZID=America/Chicago:20250930T100000
DTEND;TZID=America/Chicago:20250930T110000
DTSTAMP:20260422T105116
CREATED:20250831T004750Z
LAST-MODIFIED:20251204T170634Z
UID:10011888-1759226400-1759230000@wasecalesueurlibraries.com
SUMMARY:Romp and Rhyme Story Time
DESCRIPTION:Le Sueur Public Library holds Romp and Rhyme story times. From puppets to pumping music\, from bubble machines to banging bands\, these are not your average story time. The Library uses movement\, STEAM activities\, curiosity\, imaginative play\, and active learning to keep kids engaged. Free and open to the public.
URL:https://wasecalesueurlibraries.com/event/romp-and-rhyme-story-time-114/2025-09-30/
LOCATION:Le Sueur Public Library\, 118 Ferry St\, Le Sueur\, MN\, 56058\, United States
CATEGORIES:Children's Events,Story Times
GEO:44.4601702;-93.9161364
X-APPLE-STRUCTURED-LOCATION;VALUE=URI;X-ADDRESS=Le Sueur Public Library 118 Ferry St Le Sueur MN 56058 United States;X-APPLE-RADIUS=500;X-TITLE=118 Ferry St:geo:-93.9161364,44.4601702
END:VEVENT
BEGIN:VEVENT
DTSTART;TZID=America/Chicago:20250929T180000
DTEND;TZID=America/Chicago:20250929T190000
DTSTAMP:20260422T105116
CREATED:20250831T003859Z
LAST-MODIFIED:20250831T003859Z
UID:10011878-1759168800-1759172400@wasecalesueurlibraries.com
SUMMARY:True Crime Challenge
DESCRIPTION:Gather a team of up to 4 people and put your sleuthing to the test as you face off against other true crime aficionados to see who can solve the case first! Ages 18+.
URL:https://wasecalesueurlibraries.com/event/true-crime-challenge/
LOCATION:Le Center Public Library\, 10 W Tyrone St\, Le Center\, MN\, 56057\, United States
CATEGORIES:Adult Events
GEO:44.3907505;-93.7316339
X-APPLE-STRUCTURED-LOCATION;VALUE=URI;X-ADDRESS=Le Center Public Library 10 W Tyrone St Le Center MN 56057 United States;X-APPLE-RADIUS=500;X-TITLE=10 W Tyrone St:geo:-93.7316339,44.3907505
END:VEVENT
BEGIN:VEVENT
DTSTART;TZID=America/Chicago:20250929T180000
DTEND;TZID=America/Chicago:20250929T190000
DTSTAMP:20260422T105116
CREATED:20250831T001324Z
LAST-MODIFIED:20250831T001324Z
UID:10011863-1759168800-1759172400@wasecalesueurlibraries.com
SUMMARY:Cook the Book
DESCRIPTION:Try this new spin on a book club! Visit the library to choose a recipe from the selected cookbook. Then bring the finished dish to the event. It’s a great way to share cooking tips and try out delicious food. \nThis month’s book: Brilliant Bites by Maegan Brown
URL:https://wasecalesueurlibraries.com/event/cook-the-book-46/
LOCATION:Waterville Public Library\, 210 Paquin St\, Waterville\, MN\, 56096\, United States
CATEGORIES:Author Event
GEO:44.2177999;-93.5709706
X-APPLE-STRUCTURED-LOCATION;VALUE=URI;X-ADDRESS=Waterville Public Library 210 Paquin St Waterville MN 56096 United States;X-APPLE-RADIUS=500;X-TITLE=210 Paquin St:geo:-93.5709706,44.2177999
END:VEVENT
BEGIN:VEVENT
DTSTART;VALUE=DATE:20250929
DTEND;VALUE=DATE:20251002
DTSTAMP:20260422T105116
CREATED:20250827T221542Z
LAST-MODIFIED:20250827T221542Z
UID:10011856-1759104000-1759363199@wasecalesueurlibraries.com
SUMMARY:Paper Ghosts
DESCRIPTION:Create a stylish\, dapper ghost using pages from a book and googly eyes! Will it wear a bow tie? A little hair\nbow? Use your imagination and give your ghost a unique personality. Ages 7-12.
URL:https://wasecalesueurlibraries.com/event/paper-ghosts-2/
LOCATION:Waterville Public Library\, 210 Paquin St\, Waterville\, MN\, 56096\, United States
CATEGORIES:Children's Events
GEO:44.2177999;-93.5709706
X-APPLE-STRUCTURED-LOCATION;VALUE=URI;X-ADDRESS=Waterville Public Library 210 Paquin St Waterville MN 56096 United States;X-APPLE-RADIUS=500;X-TITLE=210 Paquin St:geo:-93.5709706,44.2177999
END:VEVENT
BEGIN:VEVENT
DTSTART;VALUE=DATE:20250929
DTEND;VALUE=DATE:20251002
DTSTAMP:20260422T105116
CREATED:20250827T221506Z
LAST-MODIFIED:20250827T221506Z
UID:10011855-1759104000-1759363199@wasecalesueurlibraries.com
SUMMARY:Paper Ghosts
DESCRIPTION:Create a stylish\, dapper ghost using pages from a book and googly eyes! Will it wear a bow tie? A little hair\nbow? Use your imagination and give your ghost a unique personality. Ages 7-12.
URL:https://wasecalesueurlibraries.com/event/paper-ghosts/
LOCATION:Elysian Public Library\, 202 E Main St\, Elysian\, MN\, 56028\, United States
CATEGORIES:Children's Events
GEO:44.198703;-93.6724641
X-APPLE-STRUCTURED-LOCATION;VALUE=URI;X-ADDRESS=Elysian Public Library 202 E Main St Elysian MN 56028 United States;X-APPLE-RADIUS=500;X-TITLE=202 E Main St:geo:-93.6724641,44.198703
END:VEVENT
BEGIN:VEVENT
DTSTART;TZID=America/Chicago:20250927T160000
DTEND;TZID=America/Chicago:20250927T170000
DTSTAMP:20260422T105116
CREATED:20250925T205904Z
LAST-MODIFIED:20250925T205904Z
UID:10012304-1758988800-1758992400@wasecalesueurlibraries.com
SUMMARY:CD Scratch Art
DESCRIPTION:Upcycle old CDs into colorful art. Create a mobile\, hang in the garden\, or hang them on a wall. Ages 7-12.
URL:https://wasecalesueurlibraries.com/event/cd-scratch-art-5/
LOCATION:Janesville Public Library\, 100 W 2nd St\, Janesville\, MN\, 56048\, United States
CATEGORIES:Children's Events
GEO:44.1173302;-93.7075406
X-APPLE-STRUCTURED-LOCATION;VALUE=URI;X-ADDRESS=Janesville Public Library 100 W 2nd St Janesville MN 56048 United States;X-APPLE-RADIUS=500;X-TITLE=100 W 2nd St:geo:-93.7075406,44.1173302
END:VEVENT
BEGIN:VEVENT
DTSTART;TZID=America/Chicago:20250926T160000
DTEND;TZID=America/Chicago:20250926T170000
DTSTAMP:20260422T105116
CREATED:20250831T005645Z
LAST-MODIFIED:20251204T171201Z
UID:10012133-1758902400-1758906000@wasecalesueurlibraries.com
SUMMARY:Romp and Rhyme Story Time
DESCRIPTION:Waldorf Public Library holds Romp and Rhyme storytimes for ages 0-6 on Fridays at 4 pm. From puppets to pumping music\, from bubble machines to banging bands\, these are not your average story time. The Library uses movement\, STEAM activities\, curiosity\, imaginative play\, and active learning to keep kids engaged. Free and open to the public.
URL:https://wasecalesueurlibraries.com/event/romp-and-rhyme-story-time-123/2025-09-26/
LOCATION:Waldorf Public Library\, 119 S Main St\, Waldorf\, MN\, 56091\, United States
CATEGORIES:Children's Events,Story Times
GEO:43.9365286;-93.697592
X-APPLE-STRUCTURED-LOCATION;VALUE=URI;X-ADDRESS=Waldorf Public Library 119 S Main St Waldorf MN 56091 United States;X-APPLE-RADIUS=500;X-TITLE=119 S Main St:geo:-93.697592,43.9365286
END:VEVENT
BEGIN:VEVENT
DTSTART;TZID=America/Chicago:20250926T143000
DTEND;TZID=America/Chicago:20250926T153000
DTSTAMP:20260422T105116
CREATED:20250831T005817Z
LAST-MODIFIED:20251204T171103Z
UID:10012197-1758897000-1758900600@wasecalesueurlibraries.com
SUMMARY:Baby Lapsit Romp and Rhyme Story Time
DESCRIPTION:Waldorf Public Library holds Romp and Rhyme storytimes for ages 0-3 on Fridays at 2:30 pm. From puppets to pumping music\, from bubble machines to banging bands\, these are not your average story time. The Library uses movement\, STEAM activities\, curiosity\, imaginative play\, and active learning to keep kids engaged. Free and open to the public.
URL:https://wasecalesueurlibraries.com/event/baby-lapsit-romp-and-rhyme-story-time-8/2025-09-26/
LOCATION:Waldorf Public Library\, 119 S Main St\, Waldorf\, MN\, 56091\, United States
CATEGORIES:Children's Events,Story Times
GEO:43.9365286;-93.697592
X-APPLE-STRUCTURED-LOCATION;VALUE=URI;X-ADDRESS=Waldorf Public Library 119 S Main St Waldorf MN 56091 United States;X-APPLE-RADIUS=500;X-TITLE=119 S Main St:geo:-93.697592,43.9365286
END:VEVENT
BEGIN:VEVENT
DTSTART;TZID=America/Chicago:20250925T170000
DTEND;TZID=America/Chicago:20250925T183000
DTSTAMP:20260422T105116
CREATED:20250827T214853Z
LAST-MODIFIED:20250827T214853Z
UID:10011843-1758819600-1758825000@wasecalesueurlibraries.com
SUMMARY:Family Literacy Fair
DESCRIPTION:Join Le Sueur Public Library and Le Sueur Community Education as we celebrate the love of reading and the importance of literacy in developing minds. Enjoy a free meal (served at 5:15 pm)\, bounce house\, free books\, and more. Learn more about local literacy efforts and resources to help area families and kids embrace the love of reading! \nSponsored by City of Le Sueur\, Friends of the Le Sueur Public Library\, and Cambria
URL:https://wasecalesueurlibraries.com/event/family-literacy-fair-2/
LOCATION:Le Sueur Public Library\, 118 Ferry St\, Le Sueur\, MN\, 56058\, United States
CATEGORIES:Children's Events,Family
GEO:44.4601702;-93.9161364
X-APPLE-STRUCTURED-LOCATION;VALUE=URI;X-ADDRESS=Le Sueur Public Library 118 Ferry St Le Sueur MN 56058 United States;X-APPLE-RADIUS=500;X-TITLE=118 Ferry St:geo:-93.9161364,44.4601702
END:VEVENT
BEGIN:VEVENT
DTSTART;TZID=America/Chicago:20250925T160000
DTEND;TZID=America/Chicago:20250925T170000
DTSTAMP:20260422T105116
CREATED:20250831T003734Z
LAST-MODIFIED:20251204T165842Z
UID:10011877-1758816000-1758819600@wasecalesueurlibraries.com
SUMMARY:Drawing Club
DESCRIPTION:Join our drawing club for teen artists! Learn new techniques and practice your drawing skills. We’ll sample a variety of drawing styles\, including fashion\, anime\, nature\, objects\, illustration\, doodles\, portraits\, and more. Exclusively for ages 12-18. All skill levels welcome! \nSponsored by Janesville Area Foundation and The Pope Family Fund
URL:https://wasecalesueurlibraries.com/event/drawing-club-3/2025-09-25/
LOCATION:Janesville Public Library\, 100 W 2nd St\, Janesville\, MN\, 56048\, United States
CATEGORIES:Teen Events
GEO:44.1173302;-93.7075406
X-APPLE-STRUCTURED-LOCATION;VALUE=URI;X-ADDRESS=Janesville Public Library 100 W 2nd St Janesville MN 56048 United States;X-APPLE-RADIUS=500;X-TITLE=100 W 2nd St:geo:-93.7075406,44.1173302
END:VEVENT
BEGIN:VEVENT
DTSTART;TZID=America/Chicago:20250925T160000
DTEND;TZID=America/Chicago:20250925T170000
DTSTAMP:20260422T105116
CREATED:20250831T003402Z
LAST-MODIFIED:20250831T003402Z
UID:10011874-1758816000-1758819600@wasecalesueurlibraries.com
SUMMARY:How About Them Apples?
DESCRIPTION:Discover a variety of apples as we hold a tasting with local varieties and toppings. Ages 13-18.
URL:https://wasecalesueurlibraries.com/event/how-about-them-apples-3/
LOCATION:New Richland Public Library\, 129 Broadway Ave S\, New Richland\, MN\, 56072\, United States
CATEGORIES:Teen Events
GEO:43.8935599;-93.4938211
X-APPLE-STRUCTURED-LOCATION;VALUE=URI;X-ADDRESS=New Richland Public Library 129 Broadway Ave S New Richland MN 56072 United States;X-APPLE-RADIUS=500;X-TITLE=129 Broadway Ave S:geo:-93.4938211,43.8935599
END:VEVENT
BEGIN:VEVENT
DTSTART;TZID=America/Chicago:20250925T160000
DTEND;TZID=America/Chicago:20250925T170000
DTSTAMP:20260422T105116
CREATED:20250827T221332Z
LAST-MODIFIED:20250827T221332Z
UID:10011854-1758816000-1758819600@wasecalesueurlibraries.com
SUMMARY:Create Your Own Shrinky Dinks
DESCRIPTION:Design a bracelet\, necklace\, or keychain charm to fit your personal style. Ages 7-12.
URL:https://wasecalesueurlibraries.com/event/create-your-own-shrinky-dinks-11/
LOCATION:Montgomery Public Library\, 104 Oak Ave SE\, Montgomery\, MN\, 56069\, United States
CATEGORIES:Children's Events
GEO:44.4355889;-93.5810028
X-APPLE-STRUCTURED-LOCATION;VALUE=URI;X-ADDRESS=Montgomery Public Library 104 Oak Ave SE Montgomery MN 56069 United States;X-APPLE-RADIUS=500;X-TITLE=104 Oak Ave SE:geo:-93.5810028,44.4355889
END:VEVENT
BEGIN:VEVENT
DTSTART;TZID=America/Chicago:20250925T153000
DTEND;TZID=America/Chicago:20250925T163000
DTSTAMP:20260422T105116
CREATED:20250831T003038Z
LAST-MODIFIED:20250831T003038Z
UID:10011870-1758814200-1758817800@wasecalesueurlibraries.com
SUMMARY:Spotify Bookmarks
DESCRIPTION:Obsessed with music as much as books? Create Spotify-style bookmarks to capture your favorite song lyrics or album artwork. Ages 13-18.
URL:https://wasecalesueurlibraries.com/event/spotify-bookmarks/
LOCATION:Le Center Public Library\, 10 W Tyrone St\, Le Center\, MN\, 56057\, United States
CATEGORIES:Teen Events
GEO:44.3907505;-93.7316339
X-APPLE-STRUCTURED-LOCATION;VALUE=URI;X-ADDRESS=Le Center Public Library 10 W Tyrone St Le Center MN 56057 United States;X-APPLE-RADIUS=500;X-TITLE=10 W Tyrone St:geo:-93.7316339,44.3907505
END:VEVENT
BEGIN:VEVENT
DTSTART;TZID=America/Chicago:20250925T150000
DTEND;TZID=America/Chicago:20250925T160000
DTSTAMP:20260422T105116
CREATED:20250831T004327Z
LAST-MODIFIED:20250831T004327Z
UID:10011883-1758812400-1758816000@wasecalesueurlibraries.com
SUMMARY:Adult Bingo
DESCRIPTION:It’s BINGO time! Prizes for winners but fun for all. Registration required. \nPrizes sponsored by Friends of the Library groups
URL:https://wasecalesueurlibraries.com/event/adult-bingo-7/
LOCATION:Waterville Public Library\, 210 Paquin St\, Waterville\, MN\, 56096\, United States
CATEGORIES:Adult Events
GEO:44.2177999;-93.5709706
X-APPLE-STRUCTURED-LOCATION;VALUE=URI;X-ADDRESS=Waterville Public Library 210 Paquin St Waterville MN 56096 United States;X-APPLE-RADIUS=500;X-TITLE=210 Paquin St:geo:-93.5709706,44.2177999
END:VEVENT
BEGIN:VEVENT
DTSTART;TZID=America/Chicago:20250925T130000
DTEND;TZID=America/Chicago:20250925T140000
DTSTAMP:20260422T105116
CREATED:20250831T004256Z
LAST-MODIFIED:20251027T193915Z
UID:10011882-1758805200-1758808800@wasecalesueurlibraries.com
SUMMARY:Adult Bingo
DESCRIPTION:It’s BINGO time! Prizes for winners but fun for all. Registration required. \nPrizes sponsored by Friends of the Library groups
URL:https://wasecalesueurlibraries.com/event/adult-bingo-6/2025-09-25/
LOCATION:Le Sueur Public Library\, 118 Ferry St\, Le Sueur\, MN\, 56058\, United States
CATEGORIES:Adult Events
GEO:44.4601702;-93.9161364
X-APPLE-STRUCTURED-LOCATION;VALUE=URI;X-ADDRESS=Le Sueur Public Library 118 Ferry St Le Sueur MN 56058 United States;X-APPLE-RADIUS=500;X-TITLE=118 Ferry St:geo:-93.9161364,44.4601702
END:VEVENT
BEGIN:VEVENT
DTSTART;TZID=America/Chicago:20250925T100000
DTEND;TZID=America/Chicago:20250925T110000
DTSTAMP:20260422T105116
CREATED:20250831T005442Z
LAST-MODIFIED:20251204T170842Z
UID:10012069-1758794400-1758798000@wasecalesueurlibraries.com
SUMMARY:Romp and Rhyme Story Time
DESCRIPTION:Montgomery Public Library holds Romp and Rhyme story times. From puppets to pumping music\, from bubble machines to banging bands\, these are not your average story time. The Library uses movement\, STEAM activities\, curiosity\, imaginative play\, and active learning to keep kids engaged. Free and open to the public.
URL:https://wasecalesueurlibraries.com/event/romp-and-rhyme-story-time-122/2025-09-25/
LOCATION:Montgomery Public Library\, 104 Oak Ave SE\, Montgomery\, MN\, 56069\, United States
CATEGORIES:Children's Events,Story Times
GEO:44.4355889;-93.5810028
X-APPLE-STRUCTURED-LOCATION;VALUE=URI;X-ADDRESS=Montgomery Public Library 104 Oak Ave SE Montgomery MN 56069 United States;X-APPLE-RADIUS=500;X-TITLE=104 Oak Ave SE:geo:-93.5810028,44.4355889
END:VEVENT
BEGIN:VEVENT
DTSTART;TZID=America/Chicago:20250925T093000
DTEND;TZID=America/Chicago:20250925T103000
DTSTAMP:20260422T105116
CREATED:20250831T005230Z
LAST-MODIFIED:20250926T135428Z
UID:10012008-1758792600-1758796200@wasecalesueurlibraries.com
SUMMARY:Romp and Rhyme Story Time
DESCRIPTION:Janesville Public Library holds Romp and Rhyme story times on Thursdays at 9:30 am. From puppets to pumping music\, from bubble machines to banging bands\, these are not your average story time. The Library uses movement\, STEAM activities\, curiosity\, imaginative play\, and active learning to keep kids engaged. Free and open to the public.
URL:https://wasecalesueurlibraries.com/event/romp-and-rhyme-story-time-121/2025-09-25/
LOCATION:Janesville Public Library\, 100 W 2nd St\, Janesville\, MN\, 56048\, United States
CATEGORIES:Children's Events,Story Times
GEO:44.1173302;-93.7075406
X-APPLE-STRUCTURED-LOCATION;VALUE=URI;X-ADDRESS=Janesville Public Library 100 W 2nd St Janesville MN 56048 United States;X-APPLE-RADIUS=500;X-TITLE=100 W 2nd St:geo:-93.7075406,44.1173302
END:VEVENT
BEGIN:VEVENT
DTSTART;TZID=America/Chicago:20250924T160000
DTEND;TZID=America/Chicago:20250924T170000
DTSTAMP:20260422T105116
CREATED:20250831T003632Z
LAST-MODIFIED:20250831T003632Z
UID:10011876-1758729600-1758733200@wasecalesueurlibraries.com
SUMMARY:Beaded Botanicals
DESCRIPTION:Join us for a hands-on craft session where you’ll learn how to make your own miniature beaded plants. No green thumbs needed as you bring plants alive using colorful beads. Ages 13-18. \nSponsored by Friends of the Le Sueur Public Library
URL:https://wasecalesueurlibraries.com/event/beaded-botanicals/
LOCATION:Le Sueur Public Library\, 118 Ferry St\, Le Sueur\, MN\, 56058\, United States
CATEGORIES:Teen Events
GEO:44.4601702;-93.9161364
X-APPLE-STRUCTURED-LOCATION;VALUE=URI;X-ADDRESS=Le Sueur Public Library 118 Ferry St Le Sueur MN 56058 United States;X-APPLE-RADIUS=500;X-TITLE=118 Ferry St:geo:-93.9161364,44.4601702
END:VEVENT
BEGIN:VEVENT
DTSTART;TZID=America/Chicago:20250924T160000
DTEND;TZID=America/Chicago:20250924T170000
DTSTAMP:20260422T105116
CREATED:20250827T215856Z
LAST-MODIFIED:20250827T215856Z
UID:10011848-1758729600-1758733200@wasecalesueurlibraries.com
SUMMARY:Trains!
DESCRIPTION:Put on your conductor hat while we get to work on the railroad’s newest projects. Kids will build trains\, sort cargo\, draw tracks\, name trains\, and more! Ages 3-6.
URL:https://wasecalesueurlibraries.com/event/trains-2/
LOCATION:Waldorf Public Library\, 119 S Main St\, Waldorf\, MN\, 56091\, United States
CATEGORIES:Children's Events
GEO:43.9365286;-93.697592
X-APPLE-STRUCTURED-LOCATION;VALUE=URI;X-ADDRESS=Waldorf Public Library 119 S Main St Waldorf MN 56091 United States;X-APPLE-RADIUS=500;X-TITLE=119 S Main St:geo:-93.697592,43.9365286
END:VEVENT
BEGIN:VEVENT
DTSTART;TZID=America/Chicago:20250923T180000
DTEND;TZID=America/Chicago:20250923T190000
DTSTAMP:20260422T105116
CREATED:20250827T211543Z
LAST-MODIFIED:20250827T211543Z
UID:10011827-1758650400-1758654000@wasecalesueurlibraries.com
SUMMARY:Minnesota's Hooded History
DESCRIPTION:Local historian and librarian\, Nancy Vaillancourt\, has spent years researching the presence of the Ku Klux Klan in Southeast Minnesota. Learn about this forgotten history and the organized traditions of prejudice and nativism in our region. \nThis event is made possible in part with a grant from the Arts & Cultural Heritage Fund of the Minnesota Clean Water\, Land\,\nand Legacy Amendment through the Traverse des Sioux Library System.
URL:https://wasecalesueurlibraries.com/event/minnesotas-hooded-history-3/
LOCATION:Waseca Public Library\, 408 N State St\, Waseca\, MN\, 56093\, United States
CATEGORIES:Adult Events
GEO:44.0809183;-93.5069008
X-APPLE-STRUCTURED-LOCATION;VALUE=URI;X-ADDRESS=Waseca Public Library 408 N State St Waseca MN 56093 United States;X-APPLE-RADIUS=500;X-TITLE=408 N State St:geo:-93.5069008,44.0809183
END:VEVENT
BEGIN:VEVENT
DTSTART;TZID=America/Chicago:20250923T160000
DTEND;TZID=America/Chicago:20250923T170000
DTSTAMP:20260422T105116
CREATED:20250831T003328Z
LAST-MODIFIED:20250831T003328Z
UID:10011873-1758643200-1758646800@wasecalesueurlibraries.com
SUMMARY:How About Them Apples?
DESCRIPTION:Discover a variety of apples as we hold a tasting with local varieties and toppings. Ages 13-18.
URL:https://wasecalesueurlibraries.com/event/how-about-them-apples-2/
LOCATION:Janesville Public Library\, 100 W 2nd St\, Janesville\, MN\, 56048\, United States
CATEGORIES:Teen Events
GEO:44.1173302;-93.7075406
X-APPLE-STRUCTURED-LOCATION;VALUE=URI;X-ADDRESS=Janesville Public Library 100 W 2nd St Janesville MN 56048 United States;X-APPLE-RADIUS=500;X-TITLE=100 W 2nd St:geo:-93.7075406,44.1173302
END:VEVENT
BEGIN:VEVENT
DTSTART;TZID=America/Chicago:20250923T160000
DTEND;TZID=America/Chicago:20250923T170000
DTSTAMP:20260422T105116
CREATED:20250827T221205Z
LAST-MODIFIED:20250827T221205Z
UID:10011853-1758643200-1758646800@wasecalesueurlibraries.com
SUMMARY:Rainbow Loom Bands
DESCRIPTION:Create colorful bracelets with unique patterns! Ages 7-12.
URL:https://wasecalesueurlibraries.com/event/rainbow-loom-bands-3/
LOCATION:Le Sueur Public Library\, 118 Ferry St\, Le Sueur\, MN\, 56058\, United States
CATEGORIES:Children's Events
GEO:44.4601702;-93.9161364
X-APPLE-STRUCTURED-LOCATION;VALUE=URI;X-ADDRESS=Le Sueur Public Library 118 Ferry St Le Sueur MN 56058 United States;X-APPLE-RADIUS=500;X-TITLE=118 Ferry St:geo:-93.9161364,44.4601702
END:VEVENT
BEGIN:VEVENT
DTSTART;TZID=America/Chicago:20250923T103000
DTEND;TZID=America/Chicago:20250923T113000
DTSTAMP:20260422T105116
CREATED:20250831T010236Z
LAST-MODIFIED:20260116T223602Z
UID:10012260-1758623400-1758627000@wasecalesueurlibraries.com
SUMMARY:Romp and Rhyme Story Time
DESCRIPTION:New Richland Public Library holds Romp and Rhyme story times. From puppets to pumping music\, from bubble machines to banging bands\, these are not your average story time. The Library uses movement\, STEAM activities\, curiosity\, imaginative play\, and active learning to keep kids engaged. Free and open to the public.
URL:https://wasecalesueurlibraries.com/event/romp-and-rhyme-story-time-126/2025-09-23/
LOCATION:New Richland Public Library\, 129 Broadway Ave S\, New Richland\, MN\, 56072\, United States
CATEGORIES:Children's Events,Story Times
GEO:43.8935599;-93.4938211
X-APPLE-STRUCTURED-LOCATION;VALUE=URI;X-ADDRESS=New Richland Public Library 129 Broadway Ave S New Richland MN 56072 United States;X-APPLE-RADIUS=500;X-TITLE=129 Broadway Ave S:geo:-93.4938211,43.8935599
END:VEVENT
BEGIN:VEVENT
DTSTART;TZID=America/Chicago:20250923T103000
DTEND;TZID=America/Chicago:20250923T110000
DTSTAMP:20260422T105116
CREATED:20250831T004956Z
LAST-MODIFIED:20251204T170714Z
UID:10012350-1758623400-1758625200@wasecalesueurlibraries.com
SUMMARY:Romp and Rhyme Baby Lapsit Story Time
DESCRIPTION:Waseca Public Library holds Romp and Rhyme Baby Lapsit story times. From puppets to pumping music\, from bubble machines to banging bands\, these are not your average story time. The Library uses movement\, STEAM activities\, curiosity\, imaginative play\, and active learning to keep kids engaged. Free and open to the public.
URL:https://wasecalesueurlibraries.com/event/romp-and-rhyme-story-time-120/2025-09-23/
LOCATION:Waseca Public Library\, 408 N State St\, Waseca\, MN\, 56093\, United States
CATEGORIES:Children's Events,Story Times
GEO:44.0809183;-93.5069008
X-APPLE-STRUCTURED-LOCATION;VALUE=URI;X-ADDRESS=Waseca Public Library 408 N State St Waseca MN 56093 United States;X-APPLE-RADIUS=500;X-TITLE=408 N State St:geo:-93.5069008,44.0809183
END:VEVENT
BEGIN:VEVENT
DTSTART;TZID=America/Chicago:20250923T100000
DTEND;TZID=America/Chicago:20250923T110000
DTSTAMP:20260422T105116
CREATED:20250831T004750Z
LAST-MODIFIED:20251204T170634Z
UID:10011887-1758621600-1758625200@wasecalesueurlibraries.com
SUMMARY:Romp and Rhyme Story Time
DESCRIPTION:Le Sueur Public Library holds Romp and Rhyme story times. From puppets to pumping music\, from bubble machines to banging bands\, these are not your average story time. The Library uses movement\, STEAM activities\, curiosity\, imaginative play\, and active learning to keep kids engaged. Free and open to the public.
URL:https://wasecalesueurlibraries.com/event/romp-and-rhyme-story-time-114/2025-09-23/
LOCATION:Le Sueur Public Library\, 118 Ferry St\, Le Sueur\, MN\, 56058\, United States
CATEGORIES:Children's Events,Story Times
GEO:44.4601702;-93.9161364
X-APPLE-STRUCTURED-LOCATION;VALUE=URI;X-ADDRESS=Le Sueur Public Library 118 Ferry St Le Sueur MN 56058 United States;X-APPLE-RADIUS=500;X-TITLE=118 Ferry St:geo:-93.9161364,44.4601702
END:VEVENT
BEGIN:VEVENT
DTSTART;TZID=America/Chicago:20250922T160000
DTEND;TZID=America/Chicago:20250922T170000
DTSTAMP:20260422T105116
CREATED:20250827T221832Z
LAST-MODIFIED:20250827T221832Z
UID:10011857-1758556800-1758560400@wasecalesueurlibraries.com
SUMMARY:The Wild Robot Party
DESCRIPTION:Build a friendly robot\, learn survival skills\, take the camouflage challenge\, and more while celebrating the extraordinary story of Roz\, a robot learning to live in the wilderness. Ages 7-12.
URL:https://wasecalesueurlibraries.com/event/the-wild-robot-party-7/
LOCATION:Le Center Public Library\, 10 W Tyrone St\, Le Center\, MN\, 56057\, United States
CATEGORIES:Children's Events
GEO:44.3907505;-93.7316339
X-APPLE-STRUCTURED-LOCATION;VALUE=URI;X-ADDRESS=Le Center Public Library 10 W Tyrone St Le Center MN 56057 United States;X-APPLE-RADIUS=500;X-TITLE=10 W Tyrone St:geo:-93.7316339,44.3907505
END:VEVENT
BEGIN:VEVENT
DTSTART;TZID=America/Chicago:20250920T160000
DTEND;TZID=America/Chicago:20250920T170000
DTSTAMP:20260422T105116
CREATED:20250831T002621Z
LAST-MODIFIED:20250831T002621Z
UID:10011868-1758384000-1758387600@wasecalesueurlibraries.com
SUMMARY:Books and Brews
DESCRIPTION:It’s the perfect combo of bookworm babble and beer. Pick up a copy of the book at the library\, then meet us out to discuss the book. \nHeartwood by Amity Gage at Half Pint Brewing Company\, Waseca \nFood and drinks not provided but can be purchased.
URL:https://wasecalesueurlibraries.com/event/books-and-brews-34/
LOCATION:Half-Pint Brewery\, 40099 150th St\, Waseca\, MN\, 56093\, United States
CATEGORIES:Adult Events,Book Clubs
GEO:44.1393696;-93.4682239
X-APPLE-STRUCTURED-LOCATION;VALUE=URI;X-ADDRESS=Half-Pint Brewery 40099 150th St Waseca MN 56093 United States;X-APPLE-RADIUS=500;X-TITLE=40099 150th St:geo:-93.4682239,44.1393696
END:VEVENT
END:VCALENDAR