BEGIN:VCALENDAR
VERSION:2.0
PRODID:-//Waseca-Le Sueur Library - ECPv6.15.18//NONSGML v1.0//EN
CALSCALE:GREGORIAN
METHOD:PUBLISH
X-WR-CALNAME:Waseca-Le Sueur Library
X-ORIGINAL-URL:https://wasecalesueurlibraries.com
X-WR-CALDESC:Events for Waseca-Le Sueur Library
REFRESH-INTERVAL;VALUE=DURATION:PT1H
X-Robots-Tag:noindex
X-PUBLISHED-TTL:PT1H
BEGIN:VTIMEZONE
TZID:America/Chicago
BEGIN:DAYLIGHT
TZOFFSETFROM:-0600
TZOFFSETTO:-0500
TZNAME:CDT
DTSTART:20230312T080000
END:DAYLIGHT
BEGIN:STANDARD
TZOFFSETFROM:-0500
TZOFFSETTO:-0600
TZNAME:CST
DTSTART:20231105T070000
END:STANDARD
BEGIN:DAYLIGHT
TZOFFSETFROM:-0600
TZOFFSETTO:-0500
TZNAME:CDT
DTSTART:20240310T080000
END:DAYLIGHT
BEGIN:STANDARD
TZOFFSETFROM:-0500
TZOFFSETTO:-0600
TZNAME:CST
DTSTART:20241103T070000
END:STANDARD
BEGIN:DAYLIGHT
TZOFFSETFROM:-0600
TZOFFSETTO:-0500
TZNAME:CDT
DTSTART:20250309T080000
END:DAYLIGHT
BEGIN:STANDARD
TZOFFSETFROM:-0500
TZOFFSETTO:-0600
TZNAME:CST
DTSTART:20251102T070000
END:STANDARD
END:VTIMEZONE
BEGIN:VEVENT
DTSTART;VALUE=DATE:20241022
DTEND;VALUE=DATE:20241023
DTSTAMP:20260419T120051
CREATED:20240929T204624Z
LAST-MODIFIED:20240929T204624Z
UID:10008889-1729555200-1729641599@wasecalesueurlibraries.com
SUMMARY:Kusudama
DESCRIPTION:Learn how to make these stunning paper origami flower balls that were originally used in Japan for incense and potpourri. Geared for adults.
URL:https://wasecalesueurlibraries.com/event/kusudama-2/
LOCATION:Waseca Public Library\, 408 N State St\, Waseca\, MN\, 56093\, United States
CATEGORIES:Adult Events
GEO:44.0809183;-93.5069008
X-APPLE-STRUCTURED-LOCATION;VALUE=URI;X-ADDRESS=Waseca Public Library 408 N State St Waseca MN 56093 United States;X-APPLE-RADIUS=500;X-TITLE=408 N State St:geo:-93.5069008,44.0809183
END:VEVENT
BEGIN:VEVENT
DTSTART;TZID=America/Chicago:20241021T180000
DTEND;TZID=America/Chicago:20241021T190000
DTSTAMP:20260419T120051
CREATED:20240929T204844Z
LAST-MODIFIED:20240929T204844Z
UID:10008891-1729533600-1729537200@wasecalesueurlibraries.com
SUMMARY:Doodle-along
DESCRIPTION:Learn how to draw ordinary objects and add splashes of color through prompts and demonstrations. Geared for teens and adults.
URL:https://wasecalesueurlibraries.com/event/doodle-along-7/
LOCATION:Elysian Public Library\, 202 E Main St\, Elysian\, MN\, 56028\, United States
CATEGORIES:Adult Events,Teen Events
GEO:44.198703;-93.6724641
X-APPLE-STRUCTURED-LOCATION;VALUE=URI;X-ADDRESS=Elysian Public Library 202 E Main St Elysian MN 56028 United States;X-APPLE-RADIUS=500;X-TITLE=202 E Main St:geo:-93.6724641,44.198703
END:VEVENT
BEGIN:VEVENT
DTSTART;TZID=America/Chicago:20241021T163000
DTEND;TZID=America/Chicago:20241021T173000
DTSTAMP:20260419T120051
CREATED:20240929T211738Z
LAST-MODIFIED:20240929T211738Z
UID:10010988-1729528200-1729531800@wasecalesueurlibraries.com
SUMMARY:Deep Etch Die Ghost and Candy Corn Class
DESCRIPTION:Learn how to sew by creating some simple\, but adorable Halloween decorations. Geared for ages 10-18. \nRegister now.
URL:https://wasecalesueurlibraries.com/event/deep-etch-die-ghost-and-candy-corn-class/
LOCATION:Janesville Public Library\, 100 W 2nd St\, Janesville\, MN\, 56048\, United States
CATEGORIES:Teen Events,Tweens
GEO:44.1173302;-93.7075406
X-APPLE-STRUCTURED-LOCATION;VALUE=URI;X-ADDRESS=Janesville Public Library 100 W 2nd St Janesville MN 56048 United States;X-APPLE-RADIUS=500;X-TITLE=100 W 2nd St:geo:-93.7075406,44.1173302
END:VEVENT
BEGIN:VEVENT
DTSTART;TZID=America/Chicago:20241021T160000
DTEND;TZID=America/Chicago:20241021T170000
DTSTAMP:20260419T120051
CREATED:20240929T212201Z
LAST-MODIFIED:20240929T212201Z
UID:10010990-1729526400-1729530000@wasecalesueurlibraries.com
SUMMARY:Hot Glue Art
DESCRIPTION:Use a hot glue gun to create an outline\, then paint over it to create a unique\, 3D piece of art! Geared for\nages 7-12.
URL:https://wasecalesueurlibraries.com/event/hot-glue-art-3/
LOCATION:Le Center Public Library\, 10 W Tyrone St\, Le Center\, MN\, 56057\, United States
CATEGORIES:Children's Events
GEO:44.3907505;-93.7316339
X-APPLE-STRUCTURED-LOCATION;VALUE=URI;X-ADDRESS=Le Center Public Library 10 W Tyrone St Le Center MN 56057 United States;X-APPLE-RADIUS=500;X-TITLE=10 W Tyrone St:geo:-93.7316339,44.3907505
END:VEVENT
BEGIN:VEVENT
DTSTART;TZID=America/Chicago:20241019T160000
DTEND;TZID=America/Chicago:20241019T170000
DTSTAMP:20260419T120051
CREATED:20240929T221422Z
LAST-MODIFIED:20240929T221422Z
UID:10008931-1729353600-1729357200@wasecalesueurlibraries.com
SUMMARY:Books and Brews
DESCRIPTION:It’s the perfect combo of bookworm babble and beer. Pick up a copy of Night Watching by Tracy Sierra at\nWaseca Public Library and discuss it at Half Pint Brewing Company. \nFood and drinks not provided but can be purchased.
URL:https://wasecalesueurlibraries.com/event/books-and-brews-31/
LOCATION:Half-Pint Brewery\, 40099 150th St\, Waseca\, MN\, 56093\, United States
CATEGORIES:Adult Events,Book Clubs
GEO:44.1393696;-93.4682239
X-APPLE-STRUCTURED-LOCATION;VALUE=URI;X-ADDRESS=Half-Pint Brewery 40099 150th St Waseca MN 56093 United States;X-APPLE-RADIUS=500;X-TITLE=40099 150th St:geo:-93.4682239,44.1393696
END:VEVENT
BEGIN:VEVENT
DTSTART;TZID=America/Chicago:20241018T153000
DTEND;TZID=America/Chicago:20241018T163000
DTSTAMP:20260419T120051
CREATED:20240826T200128Z
LAST-MODIFIED:20241030T212738Z
UID:10010959-1729265400-1729269000@wasecalesueurlibraries.com
SUMMARY:Baby Lapsit Romp and Rhyme Story Time
DESCRIPTION:Waldorf Public Library holds Romp and Rhyme storytimes for ages 0-3 on Fridays at 3:30 pm. From puppets to pumping music\, from bubble machines to banging bands\, these are not your average story time. The Library uses movement\, STEAM activities\, curiosity\, imaginative play\, and active learning to keep kids engaged. Free and open to the public.
URL:https://wasecalesueurlibraries.com/event/baby-lapsit-romp-and-rhyme-story-time-4/2024-10-18/
LOCATION:Waldorf Public Library\, 119 S Main St\, Waldorf\, MN\, 56091\, United States
CATEGORIES:Children's Events,Teen Events
GEO:43.9365286;-93.697592
X-APPLE-STRUCTURED-LOCATION;VALUE=URI;X-ADDRESS=Waldorf Public Library 119 S Main St Waldorf MN 56091 United States;X-APPLE-RADIUS=500;X-TITLE=119 S Main St:geo:-93.697592,43.9365286
END:VEVENT
BEGIN:VEVENT
DTSTART;TZID=America/Chicago:20241018T100000
DTEND;TZID=America/Chicago:20241018T110000
DTSTAMP:20260419T120051
CREATED:20240929T214507Z
LAST-MODIFIED:20240929T214507Z
UID:10011002-1729245600-1729249200@wasecalesueurlibraries.com
SUMMARY:Eric Carle Creations
DESCRIPTION:Explore the art of Eric Carle as we celebrate over 50 years of The Very Hungry Caterpillar. Geared for ages 5-7.
URL:https://wasecalesueurlibraries.com/event/eric-carle-creations-16/
LOCATION:Waseca Public Library\, 408 N State St\, Waseca\, MN\, 56093\, United States
CATEGORIES:Children's Events
GEO:44.0809183;-93.5069008
X-APPLE-STRUCTURED-LOCATION;VALUE=URI;X-ADDRESS=Waseca Public Library 408 N State St Waseca MN 56093 United States;X-APPLE-RADIUS=500;X-TITLE=408 N State St:geo:-93.5069008,44.0809183
END:VEVENT
BEGIN:VEVENT
DTSTART;TZID=America/Chicago:20241018T100000
DTEND;TZID=America/Chicago:20241018T110000
DTSTAMP:20260419T120051
CREATED:20240929T212815Z
LAST-MODIFIED:20240929T212815Z
UID:10010993-1729245600-1729249200@wasecalesueurlibraries.com
SUMMARY:Magic Tree House Party
DESCRIPTION:Join Master Librarians Jack and Annie as they travel through time for adventures with dinosaurs\,\nknights\, mummies\, pirates\, and ninjas. Ages 7-12.
URL:https://wasecalesueurlibraries.com/event/magic-tree-house-party-2/
LOCATION:Le Sueur Public Library\, 118 Ferry St\, Le Sueur\, MN\, 56058\, United States
CATEGORIES:Children's Events
GEO:44.4601702;-93.9161364
X-APPLE-STRUCTURED-LOCATION;VALUE=URI;X-ADDRESS=Le Sueur Public Library 118 Ferry St Le Sueur MN 56058 United States;X-APPLE-RADIUS=500;X-TITLE=118 Ferry St:geo:-93.9161364,44.4601702
END:VEVENT
BEGIN:VEVENT
DTSTART;TZID=America/Chicago:20241017T180000
DTEND;TZID=America/Chicago:20241017T190000
DTSTAMP:20260419T120051
CREATED:20240929T215048Z
LAST-MODIFIED:20240929T215048Z
UID:10008902-1729188000-1729191600@wasecalesueurlibraries.com
SUMMARY:Mother-Daughter Book Club
DESCRIPTION:Geared for girls in grades 3-6 and a significant adult female\, this book club features the latest children’s books and fun activities. October’s book club selection is I Survived the Great Molasses Flood\, 1919 by Lauren Tarshis.
URL:https://wasecalesueurlibraries.com/event/mother-daughter-book-club-26/
LOCATION:Waseca Public Library\, 408 N State St\, Waseca\, MN\, 56093\, United States
CATEGORIES:Children's Events
GEO:44.0809183;-93.5069008
X-APPLE-STRUCTURED-LOCATION;VALUE=URI;X-ADDRESS=Waseca Public Library 408 N State St Waseca MN 56093 United States;X-APPLE-RADIUS=500;X-TITLE=408 N State St:geo:-93.5069008,44.0809183
END:VEVENT
BEGIN:VEVENT
DTSTART;TZID=America/Chicago:20241017T180000
DTEND;TZID=America/Chicago:20241017T190000
DTSTAMP:20260419T120051
CREATED:20240925T142921Z
LAST-MODIFIED:20240925T142921Z
UID:10010974-1729188000-1729191600@wasecalesueurlibraries.com
SUMMARY:Abby Jimenez
DESCRIPTION:The author of the bestselling romantic comedies The Friend Zone\, Part of Your World\, Yours Truly\, and Just for the Summer will share her secrets to making us laugh and swoon. \nThis event is made possible in part with a grant from the Arts & Cultural Heritage Fund of the Minnesota Clean Water\, Land\, and Legacy Amendment through the Traverse des Sioux Library System and with funding from Friends of the Le Sueur Public Library. \n 
URL:https://wasecalesueurlibraries.com/event/abby-jimenez/
LOCATION:Le Sueur-Henderson High School Auditorium\, 901 Ferry St\, Le Sueur\, MN\, 56058\, United States
CATEGORIES:Adult Events,Author Event
GEO:44.4576118;-93.9022328
X-APPLE-STRUCTURED-LOCATION;VALUE=URI;X-ADDRESS=Le Sueur-Henderson High School Auditorium 901 Ferry St Le Sueur MN 56058 United States;X-APPLE-RADIUS=500;X-TITLE=901 Ferry St:geo:-93.9022328,44.4576118
END:VEVENT
BEGIN:VEVENT
DTSTART;TZID=America/Chicago:20241017T170000
DTEND;TZID=America/Chicago:20241017T180000
DTSTAMP:20260419T120051
CREATED:20240929T222831Z
LAST-MODIFIED:20240929T222831Z
UID:10011010-1729184400-1729188000@wasecalesueurlibraries.com
SUMMARY:Book Cover Keychains
DESCRIPTION:Create a bookish keychain. Ages 13-18.
URL:https://wasecalesueurlibraries.com/event/book-cover-keychains-7/
LOCATION:Montgomery Public Library\, 104 Oak Ave SE\, Montgomery\, MN\, 56069\, United States
CATEGORIES:Teen Events
GEO:44.4355889;-93.5810028
X-APPLE-STRUCTURED-LOCATION;VALUE=URI;X-ADDRESS=Montgomery Public Library 104 Oak Ave SE Montgomery MN 56069 United States;X-APPLE-RADIUS=500;X-TITLE=104 Oak Ave SE:geo:-93.5810028,44.4355889
END:VEVENT
BEGIN:VEVENT
DTSTART;TZID=America/Chicago:20241017T133000
DTEND;TZID=America/Chicago:20241017T143000
DTSTAMP:20260419T120051
CREATED:20240929T205115Z
LAST-MODIFIED:20240929T205115Z
UID:10010979-1729171800-1729175400@wasecalesueurlibraries.com
SUMMARY:Global Games
DESCRIPTION:Mr. Fun will demonstrate and teach the history behind a wide array of toys from different countries.\nThen everyone will get to try out the toys! Ages 5+. \nThese events are made possible in part with a grant from the Arts & Cultural Heritage Fund of the Minnesota Clean Water\, Land\, and Legacy Amendment through the Traverse des Sioux Library System.
URL:https://wasecalesueurlibraries.com/event/global-games-2/
LOCATION:New Richland Public Library\, 129 Broadway Ave S\, New Richland\, MN\, 56072\, United States
CATEGORIES:Children's Events,Family
GEO:43.8935599;-93.4938211
X-APPLE-STRUCTURED-LOCATION;VALUE=URI;X-ADDRESS=New Richland Public Library 129 Broadway Ave S New Richland MN 56072 United States;X-APPLE-RADIUS=500;X-TITLE=129 Broadway Ave S:geo:-93.4938211,43.8935599
END:VEVENT
BEGIN:VEVENT
DTSTART;TZID=America/Chicago:20241017T130000
DTEND;TZID=America/Chicago:20241017T140000
DTSTAMP:20260419T120051
CREATED:20240929T223735Z
LAST-MODIFIED:20240929T223735Z
UID:10011014-1729170000-1729173600@wasecalesueurlibraries.com
SUMMARY:Mario Kart Tournament
DESCRIPTION:Start your engines. Avoid the shells. Fly by competitors. Conquer Rainbow Road. Ages 13-18.
URL:https://wasecalesueurlibraries.com/event/mario-kart-tournament/
LOCATION:Waseca Public Library\, 408 N State St\, Waseca\, MN\, 56093\, United States
CATEGORIES:Teen Events
GEO:44.0809183;-93.5069008
X-APPLE-STRUCTURED-LOCATION;VALUE=URI;X-ADDRESS=Waseca Public Library 408 N State St Waseca MN 56093 United States;X-APPLE-RADIUS=500;X-TITLE=408 N State St:geo:-93.5069008,44.0809183
END:VEVENT
BEGIN:VEVENT
DTSTART;TZID=America/Chicago:20241017T130000
DTEND;TZID=America/Chicago:20241017T140000
DTSTAMP:20260419T120051
CREATED:20240929T223137Z
LAST-MODIFIED:20240929T223137Z
UID:10011012-1729170000-1729173600@wasecalesueurlibraries.com
SUMMARY:Mondrian-Inspired Mason Jars
DESCRIPTION:Embrace your inner artist and create a mason jar inspired by Piet Mondrian—one of the pioneers of\n20th-century abstract art. Ages 13-18.
URL:https://wasecalesueurlibraries.com/event/mondrian-inspired-mason-jars-3/
LOCATION:Le Sueur Public Library\, 118 Ferry St\, Le Sueur\, MN\, 56058\, United States
CATEGORIES:Teen Events
GEO:44.4601702;-93.9161364
X-APPLE-STRUCTURED-LOCATION;VALUE=URI;X-ADDRESS=Le Sueur Public Library 118 Ferry St Le Sueur MN 56058 United States;X-APPLE-RADIUS=500;X-TITLE=118 Ferry St:geo:-93.9161364,44.4601702
END:VEVENT
BEGIN:VEVENT
DTSTART;TZID=America/Chicago:20241017T103000
DTEND;TZID=America/Chicago:20241017T113000
DTSTAMP:20260419T120051
CREATED:20240929T205016Z
LAST-MODIFIED:20240929T205016Z
UID:10008893-1729161000-1729164600@wasecalesueurlibraries.com
SUMMARY:Global Games
DESCRIPTION:Mr. Fun will demonstrate and teach the history behind a wide array of toys from different countries.\nThen everyone will get to try out the toys! Ages 5+. \nThese events are made possible in part with a grant from the Arts & Cultural Heritage Fund of the Minnesota Clean Water\, Land\, and Legacy Amendment through the Traverse des Sioux Library System.
URL:https://wasecalesueurlibraries.com/event/global-games/
LOCATION:Elysian Public Library\, 202 E Main St\, Elysian\, MN\, 56028\, United States
CATEGORIES:Children's Events,Family
GEO:44.198703;-93.6724641
X-APPLE-STRUCTURED-LOCATION;VALUE=URI;X-ADDRESS=Elysian Public Library 202 E Main St Elysian MN 56028 United States;X-APPLE-RADIUS=500;X-TITLE=202 E Main St:geo:-93.6724641,44.198703
END:VEVENT
BEGIN:VEVENT
DTSTART;TZID=America/Chicago:20241017T100000
DTEND;TZID=America/Chicago:20241017T110000
DTSTAMP:20260419T120051
CREATED:20240929T211519Z
LAST-MODIFIED:20240929T211519Z
UID:10010987-1729159200-1729162800@wasecalesueurlibraries.com
SUMMARY:Fall Nature Prints
DESCRIPTION:Get crafty with autumn nature print projects. Geared for ages 4-7.
URL:https://wasecalesueurlibraries.com/event/fall-nature-prints-5/
LOCATION:Janesville Public Library\, 100 W 2nd St\, Janesville\, MN\, 56048\, United States
CATEGORIES:Children's Events
GEO:44.1173302;-93.7075406
X-APPLE-STRUCTURED-LOCATION;VALUE=URI;X-ADDRESS=Janesville Public Library 100 W 2nd St Janesville MN 56048 United States;X-APPLE-RADIUS=500;X-TITLE=100 W 2nd St:geo:-93.7075406,44.1173302
END:VEVENT
BEGIN:VEVENT
DTSTART;TZID=America/Chicago:20241017T100000
DTEND;TZID=America/Chicago:20241017T110000
DTSTAMP:20260419T120051
CREATED:20240929T210529Z
LAST-MODIFIED:20240929T210529Z
UID:10010983-1729159200-1729162800@wasecalesueurlibraries.com
SUMMARY:Zombie Rocks
DESCRIPTION:Turn a rock into a zombie character\, complete with exposed brains. Ewww! Ages 7-12.
URL:https://wasecalesueurlibraries.com/event/zombie-rocks-3/
LOCATION:Waseca Public Library\, 408 N State St\, Waseca\, MN\, 56093\, United States
CATEGORIES:Children's Events
GEO:44.0809183;-93.5069008
X-APPLE-STRUCTURED-LOCATION;VALUE=URI;X-ADDRESS=Waseca Public Library 408 N State St Waseca MN 56093 United States;X-APPLE-RADIUS=500;X-TITLE=408 N State St:geo:-93.5069008,44.0809183
END:VEVENT
BEGIN:VEVENT
DTSTART;TZID=America/Chicago:20241017T093000
DTEND;TZID=America/Chicago:20241017T103000
DTSTAMP:20260419T120051
CREATED:20240826T195915Z
LAST-MODIFIED:20240826T195915Z
UID:10010952-1729157400-1729161000@wasecalesueurlibraries.com
SUMMARY:Romp and Rhyme Story Time
DESCRIPTION:Janesville Public Library holds Romp and Rhyme story times on Thursdays at 9:30 am. From puppets to pumping music\, from bubble machines to banging bands\, these are not your average story time. The Library uses movement\, STEAM activities\, curiosity\, imaginative play\, and active learning to keep kids engaged. Free and open to the public.
URL:https://wasecalesueurlibraries.com/event/romp-and-rhyme-story-time-97/2024-10-17/
LOCATION:Janesville Public Library\, 100 W 2nd St\, Janesville\, MN\, 56048\, United States
CATEGORIES:Children's Events,Story Times
GEO:44.1173302;-93.7075406
X-APPLE-STRUCTURED-LOCATION;VALUE=URI;X-ADDRESS=Janesville Public Library 100 W 2nd St Janesville MN 56048 United States;X-APPLE-RADIUS=500;X-TITLE=100 W 2nd St:geo:-93.7075406,44.1173302
END:VEVENT
BEGIN:VEVENT
DTSTART;TZID=America/Chicago:20241016T160000
DTEND;TZID=America/Chicago:20241016T170000
DTSTAMP:20260419T120051
CREATED:20240826T195641Z
LAST-MODIFIED:20241204T194746Z
UID:10010937-1729094400-1729098000@wasecalesueurlibraries.com
SUMMARY:Romp and Rhyme Story Time
DESCRIPTION:Waldorf Public Library holds Romp and Rhyme story times on Wednesdays at 4 pm. From puppets to pumping music\, from bubble machines to banging bands\, these are not your average story time. The Library uses movement\, STEAM activities\, curiosity\, imaginative play\, and active learning to keep kids engaged. Free and open to the public.
URL:https://wasecalesueurlibraries.com/event/romp-and-rhyme-story-time-96/2024-10-16/
LOCATION:Waldorf Public Library\, 119 S Main St\, Waldorf\, MN\, 56091\, United States
CATEGORIES:Children's Events,Story Times
GEO:43.9365286;-93.697592
X-APPLE-STRUCTURED-LOCATION;VALUE=URI;X-ADDRESS=Waldorf Public Library 119 S Main St Waldorf MN 56091 United States;X-APPLE-RADIUS=500;X-TITLE=119 S Main St:geo:-93.697592,43.9365286
END:VEVENT
BEGIN:VEVENT
DTSTART;TZID=America/Chicago:20241016T100000
DTEND;TZID=America/Chicago:20241016T110000
DTSTAMP:20260419T120051
CREATED:20240929T221736Z
LAST-MODIFIED:20240929T221736Z
UID:10011004-1729072800-1729076400@wasecalesueurlibraries.com
SUMMARY:Book Talk
DESCRIPTION:Join our book discussion group and chat us up about these compelling books. Geared for adults. \nThis month’s selection: The Friend Zone by Abby Jimenez
URL:https://wasecalesueurlibraries.com/event/book-talk-16/
LOCATION:Elysian Public Library\, 202 E Main St\, Elysian\, MN\, 56028\, United States
CATEGORIES:Adult Events,Book Clubs
GEO:44.198703;-93.6724641
X-APPLE-STRUCTURED-LOCATION;VALUE=URI;X-ADDRESS=Elysian Public Library 202 E Main St Elysian MN 56028 United States;X-APPLE-RADIUS=500;X-TITLE=202 E Main St:geo:-93.6724641,44.198703
END:VEVENT
BEGIN:VEVENT
DTSTART;TZID=America/Chicago:20241016T100000
DTEND;TZID=America/Chicago:20241016T110000
DTSTAMP:20260419T120051
CREATED:20240929T214213Z
LAST-MODIFIED:20240929T214213Z
UID:10011000-1729072800-1729076400@wasecalesueurlibraries.com
SUMMARY:3Doodlers
DESCRIPTION:Doodle in the air! Create projects in 3D with this cool pen by drawing whatever you like or using molds to create projects! Geared for ages 7-12.
URL:https://wasecalesueurlibraries.com/event/3doodlers-9/
LOCATION:Waseca Public Library\, 408 N State St\, Waseca\, MN\, 56093\, United States
CATEGORIES:Children's Events
GEO:44.0809183;-93.5069008
X-APPLE-STRUCTURED-LOCATION;VALUE=URI;X-ADDRESS=Waseca Public Library 408 N State St Waseca MN 56093 United States;X-APPLE-RADIUS=500;X-TITLE=408 N State St:geo:-93.5069008,44.0809183
END:VEVENT
BEGIN:VEVENT
DTSTART;TZID=America/Chicago:20241015T180000
DTEND;TZID=America/Chicago:20241015T190000
DTSTAMP:20260419T120051
CREATED:20240929T221108Z
LAST-MODIFIED:20240929T221108Z
UID:10008929-1729015200-1729018800@wasecalesueurlibraries.com
SUMMARY:Romp and Rhyme Story Time
DESCRIPTION:Le Sueur Public Library holds Romp and Rhyme story times. From puppets to pumping music\, from bubble machines to banging bands\, these are not your average story time. The Library uses movement\, STEAM activities\, curiosity\, imaginative play\, and active learning to keep kids engaged. Free and open to the public.
URL:https://wasecalesueurlibraries.com/event/romp-and-rhyme-story-time-104/
LOCATION:Le Sueur Public Library\, 118 Ferry St\, Le Sueur\, MN\, 56058\, United States
CATEGORIES:Children's Events,Story Times
GEO:44.4601702;-93.9161364
X-APPLE-STRUCTURED-LOCATION;VALUE=URI;X-ADDRESS=Le Sueur Public Library 118 Ferry St Le Sueur MN 56058 United States;X-APPLE-RADIUS=500;X-TITLE=118 Ferry St:geo:-93.9161364,44.4601702
END:VEVENT
BEGIN:VEVENT
DTSTART;TZID=America/Chicago:20241015T160000
DTEND;TZID=America/Chicago:20241015T170000
DTSTAMP:20260419T120051
CREATED:20240929T210823Z
LAST-MODIFIED:20240929T210823Z
UID:10010984-1729008000-1729011600@wasecalesueurlibraries.com
SUMMARY:Zombie Rocks
DESCRIPTION:Turn a rock into a zombie character\, complete with exposed brains. Ewww! Ages 7-12.
URL:https://wasecalesueurlibraries.com/event/zombie-rocks-4/
LOCATION:Montgomery Public Library\, 104 Oak Ave SE\, Montgomery\, MN\, 56069\, United States
CATEGORIES:Children's Events
GEO:44.4355889;-93.5810028
X-APPLE-STRUCTURED-LOCATION;VALUE=URI;X-ADDRESS=Montgomery Public Library 104 Oak Ave SE Montgomery MN 56069 United States;X-APPLE-RADIUS=500;X-TITLE=104 Oak Ave SE:geo:-93.5810028,44.4355889
END:VEVENT
BEGIN:VEVENT
DTSTART;TZID=America/Chicago:20241015T160000
DTEND;TZID=America/Chicago:20241015T170000
DTSTAMP:20260419T120051
CREATED:20230911T204422Z
LAST-MODIFIED:20241204T193815Z
UID:10010371-1729008000-1729011600@wasecalesueurlibraries.com
SUMMARY:Le Sueur Lego Club
DESCRIPTION:Kids are invited to join our creative Lego-building club. Each event will have a theme to inspire and Legos to build with.
URL:https://wasecalesueurlibraries.com/event/le-sueur-lego-club-14/2024-10-15/
LOCATION:Le Sueur Public Library\, 118 Ferry St\, Le Sueur\, MN\, 56058\, United States
CATEGORIES:Children's Events
GEO:44.4601702;-93.9161364
X-APPLE-STRUCTURED-LOCATION;VALUE=URI;X-ADDRESS=Le Sueur Public Library 118 Ferry St Le Sueur MN 56058 United States;X-APPLE-RADIUS=500;X-TITLE=118 Ferry St:geo:-93.9161364,44.4601702
END:VEVENT
BEGIN:VEVENT
DTSTART;TZID=America/Chicago:20241015T153000
DTEND;TZID=America/Chicago:20241015T163000
DTSTAMP:20260419T120051
CREATED:20240929T222204Z
LAST-MODIFIED:20240929T222204Z
UID:10011006-1729006200-1729009800@wasecalesueurlibraries.com
SUMMARY:True Crime Club
DESCRIPTION:Use your investigative abilities to reopen the murder of Veronica Falcone case by proving Veronica didn’t\ndie the way investigators claimed. Ages 13-18.
URL:https://wasecalesueurlibraries.com/event/true-crime-club-3/
LOCATION:Waseca Public Library\, 408 N State St\, Waseca\, MN\, 56093\, United States
CATEGORIES:Teen Events
GEO:44.0809183;-93.5069008
X-APPLE-STRUCTURED-LOCATION;VALUE=URI;X-ADDRESS=Waseca Public Library 408 N State St Waseca MN 56093 United States;X-APPLE-RADIUS=500;X-TITLE=408 N State St:geo:-93.5069008,44.0809183
END:VEVENT
BEGIN:VEVENT
DTSTART;TZID=America/Chicago:20241015T153000
DTEND;TZID=America/Chicago:20241015T163000
DTSTAMP:20260419T120051
CREATED:20230911T204150Z
LAST-MODIFIED:20241204T193711Z
UID:10010351-1729006200-1729009800@wasecalesueurlibraries.com
SUMMARY:Janesville Lego Club
DESCRIPTION:Kids are invited to join our creative Lego-building club. Each event will have a theme to inspire and Legos to build with.
URL:https://wasecalesueurlibraries.com/event/janesville-lego-club-9/2024-10-15/
LOCATION:Janesville Public Library\, 100 W 2nd St\, Janesville\, MN\, 56048\, United States
CATEGORIES:Children's Events
GEO:44.1173302;-93.7075406
X-APPLE-STRUCTURED-LOCATION;VALUE=URI;X-ADDRESS=Janesville Public Library 100 W 2nd St Janesville MN 56048 United States;X-APPLE-RADIUS=500;X-TITLE=100 W 2nd St:geo:-93.7075406,44.1173302
END:VEVENT
BEGIN:VEVENT
DTSTART;TZID=America/Chicago:20241015T140000
DTEND;TZID=America/Chicago:20241015T150000
DTSTAMP:20260419T120051
CREATED:20230929T205123Z
LAST-MODIFIED:20241029T213908Z
UID:10008417-1729000800-1729004400@wasecalesueurlibraries.com
SUMMARY:Spice Club Waterville
DESCRIPTION:Do you like to try new flavors and recipes? Try out a new spice every month! \nEach month we’ll feature a new spice and make it available in a small FREE take-home kit. Then we’ll meet up to learn more about the spice’s history and its uses. The group will also share what everyone made with the spice and their opinions on it flavor. \nFree and open to the public. Geared for adults.
URL:https://wasecalesueurlibraries.com/event/spice-club-waterville/2024-10-15/
LOCATION:Waterville Public Library\, 210 Paquin St\, Waterville\, MN\, 56096\, United States
CATEGORIES:Adult Events
GEO:44.2177999;-93.5709706
X-APPLE-STRUCTURED-LOCATION;VALUE=URI;X-ADDRESS=Waterville Public Library 210 Paquin St Waterville MN 56096 United States;X-APPLE-RADIUS=500;X-TITLE=210 Paquin St:geo:-93.5709706,44.2177999
END:VEVENT
BEGIN:VEVENT
DTSTART;TZID=America/Chicago:20241015T103000
DTEND;TZID=America/Chicago:20241015T110000
DTSTAMP:20260419T120051
CREATED:20240826T194908Z
LAST-MODIFIED:20240830T184214Z
UID:10010923-1728988200-1728990000@wasecalesueurlibraries.com
SUMMARY:Baby Lapsit Romp and Rhyme Story Time
DESCRIPTION:Waseca Public Library holds Romp and Rhyme storytimes for ages 0-3 on Tuesdays at 10:30 am. From puppets to pumping music\, from bubble machines to banging bands\, these are not your average story time. The Library uses movement\, STEAM activities\, curiosity\, imaginative play\, and active learning to keep kids engaged. Free and open to the public.
URL:https://wasecalesueurlibraries.com/event/baby-lapsit-romp-and-rhyme-story-time-3/2024-10-15/
LOCATION:Waseca Public Library\, 408 N State St\, Waseca\, MN\, 56093\, United States
CATEGORIES:Children's Events,Story Times
GEO:44.0809183;-93.5069008
X-APPLE-STRUCTURED-LOCATION;VALUE=URI;X-ADDRESS=Waseca Public Library 408 N State St Waseca MN 56093 United States;X-APPLE-RADIUS=500;X-TITLE=408 N State St:geo:-93.5069008,44.0809183
END:VEVENT
BEGIN:VEVENT
DTSTART;TZID=America/Chicago:20241015T100000
DTEND;TZID=America/Chicago:20241015T110000
DTSTAMP:20260419T120051
CREATED:20240929T215635Z
LAST-MODIFIED:20241204T194458Z
UID:10008908-1728986400-1728990000@wasecalesueurlibraries.com
SUMMARY:Romp and Rhyme Story Time
DESCRIPTION:Le Sueur Public Library holds Romp and Rhyme story times on Tuesdays at 10 am. From puppets to pumping music\, from bubble machines to banging bands\, these are not your average story time. The Library uses movement\, STEAM activities\, curiosity\, imaginative play\, and active learning to keep kids engaged. Free and open to the public.
URL:https://wasecalesueurlibraries.com/event/romp-and-rhyme-story-time-100/2024-10-15/
LOCATION:Le Sueur Public Library\, 118 Ferry St\, Le Sueur\, MN\, 56058\, United States
CATEGORIES:Children's Events,Story Times
GEO:44.4601702;-93.9161364
X-APPLE-STRUCTURED-LOCATION;VALUE=URI;X-ADDRESS=Le Sueur Public Library 118 Ferry St Le Sueur MN 56058 United States;X-APPLE-RADIUS=500;X-TITLE=118 Ferry St:geo:-93.9161364,44.4601702
END:VEVENT
BEGIN:VEVENT
DTSTART;TZID=America/Chicago:20241015T100000
DTEND;TZID=America/Chicago:20241015T110000
DTSTAMP:20260419T120051
CREATED:20240826T193808Z
LAST-MODIFIED:20240826T193808Z
UID:10010904-1728986400-1728990000@wasecalesueurlibraries.com
SUMMARY:Romp and Rhyme Story Time
DESCRIPTION:Le Sueur Public Library holds Romp and Rhyme story times on Tuesdays at 10 am. From puppets to pumping music\, from bubble machines to banging bands\, these are not your average story time. The Library uses movement\, STEAM activities\, curiosity\, imaginative play\, and active learning to keep kids engaged. Free and open to the public.
URL:https://wasecalesueurlibraries.com/event/romp-and-rhyme-story-time-93/2024-10-15/
LOCATION:Le Sueur Public Library\, 118 Ferry St\, Le Sueur\, MN\, 56058\, United States
CATEGORIES:Children's Events,Story Times
GEO:44.4601702;-93.9161364
X-APPLE-STRUCTURED-LOCATION;VALUE=URI;X-ADDRESS=Le Sueur Public Library 118 Ferry St Le Sueur MN 56058 United States;X-APPLE-RADIUS=500;X-TITLE=118 Ferry St:geo:-93.9161364,44.4601702
END:VEVENT
END:VCALENDAR