BEGIN:VCALENDAR
VERSION:2.0
PRODID:-//Waseca-Le Sueur Library - ECPv6.15.20//NONSGML v1.0//EN
CALSCALE:GREGORIAN
METHOD:PUBLISH
X-ORIGINAL-URL:https://wasecalesueurlibraries.com
X-WR-CALDESC:Events for Waseca-Le Sueur Library
REFRESH-INTERVAL;VALUE=DURATION:PT1H
X-Robots-Tag:noindex
X-PUBLISHED-TTL:PT1H
BEGIN:VTIMEZONE
TZID:America/Chicago
BEGIN:DAYLIGHT
TZOFFSETFROM:-0600
TZOFFSETTO:-0500
TZNAME:CDT
DTSTART:20230312T080000
END:DAYLIGHT
BEGIN:STANDARD
TZOFFSETFROM:-0500
TZOFFSETTO:-0600
TZNAME:CST
DTSTART:20231105T070000
END:STANDARD
BEGIN:DAYLIGHT
TZOFFSETFROM:-0600
TZOFFSETTO:-0500
TZNAME:CDT
DTSTART:20240310T080000
END:DAYLIGHT
BEGIN:STANDARD
TZOFFSETFROM:-0500
TZOFFSETTO:-0600
TZNAME:CST
DTSTART:20241103T070000
END:STANDARD
BEGIN:DAYLIGHT
TZOFFSETFROM:-0600
TZOFFSETTO:-0500
TZNAME:CDT
DTSTART:20250309T080000
END:DAYLIGHT
BEGIN:STANDARD
TZOFFSETFROM:-0500
TZOFFSETTO:-0600
TZNAME:CST
DTSTART:20251102T070000
END:STANDARD
END:VTIMEZONE
BEGIN:VTIMEZONE
TZID:America/Denver
BEGIN:DAYLIGHT
TZOFFSETFROM:-0700
TZOFFSETTO:-0600
TZNAME:MDT
DTSTART:20230312T090000
END:DAYLIGHT
BEGIN:STANDARD
TZOFFSETFROM:-0600
TZOFFSETTO:-0700
TZNAME:MST
DTSTART:20231105T080000
END:STANDARD
BEGIN:DAYLIGHT
TZOFFSETFROM:-0700
TZOFFSETTO:-0600
TZNAME:MDT
DTSTART:20240310T090000
END:DAYLIGHT
BEGIN:STANDARD
TZOFFSETFROM:-0600
TZOFFSETTO:-0700
TZNAME:MST
DTSTART:20241103T080000
END:STANDARD
BEGIN:DAYLIGHT
TZOFFSETFROM:-0700
TZOFFSETTO:-0600
TZNAME:MDT
DTSTART:20250309T090000
END:DAYLIGHT
BEGIN:STANDARD
TZOFFSETFROM:-0600
TZOFFSETTO:-0700
TZNAME:MST
DTSTART:20251102T080000
END:STANDARD
END:VTIMEZONE
BEGIN:VEVENT
DTSTART;TZID=America/Chicago:20240502T093000
DTEND;TZID=America/Chicago:20240502T103000
DTSTAMP:20260423T144236
CREATED:20240328T015144Z
LAST-MODIFIED:20240501T173557Z
UID:10010674-1714642200-1714645800@wasecalesueurlibraries.com
SUMMARY:Romp and Rhyme Story Time
DESCRIPTION:Janesville Public Library holds Romp and Rhyme story times on Thursdays at 9:30 am. From puppets to pumping music\, from bubble machines to banging bands\, these are not your average story time. The Library uses movement\, STEAM activities\, curiosity\, imaginative play\, and active learning to keep kids engaged. Free and open to the public.
URL:https://wasecalesueurlibraries.com/event/romp-and-rhyme-story-time-88/2024-05-02/
LOCATION:Janesville Public Library\, 100 W 2nd St\, Janesville\, MN\, 56048\, United States
CATEGORIES:Children's Events,Story Times
GEO:44.1173302;-93.7075406
X-APPLE-STRUCTURED-LOCATION;VALUE=URI;X-ADDRESS=Janesville Public Library 100 W 2nd St Janesville MN 56048 United States;X-APPLE-RADIUS=500;X-TITLE=100 W 2nd St:geo:-93.7075406,44.1173302
END:VEVENT
BEGIN:VEVENT
DTSTART;TZID=America/Chicago:20240502T154500
DTEND;TZID=America/Chicago:20240502T170000
DTSTAMP:20260423T144236
CREATED:20240501T170812Z
LAST-MODIFIED:20240501T170812Z
UID:10010688-1714664700-1714669200@wasecalesueurlibraries.com
SUMMARY:The Secret Science of Cotton Candy
DESCRIPTION:What is cotton candy made of? How do you spin sugar? Why is it sticky? Why do some people call this fairy floss? Learn this and more (while you sample your self-spun cotton candy). Ages 9-12. \n 
URL:https://wasecalesueurlibraries.com/event/the-secret-science-of-cotton-candy-3/
LOCATION:Waterville Public Library\, 210 Paquin St\, Waterville\, MN\, 56096\, United States
GEO:44.2177999;-93.5709706
X-APPLE-STRUCTURED-LOCATION;VALUE=URI;X-ADDRESS=Waterville Public Library 210 Paquin St Waterville MN 56096 United States;X-APPLE-RADIUS=500;X-TITLE=210 Paquin St:geo:-93.5709706,44.2177999
END:VEVENT
BEGIN:VEVENT
DTSTART;TZID=America/Chicago:20240502T170000
DTEND;TZID=America/Chicago:20240502T180000
DTSTAMP:20260423T144236
CREATED:20240227T201352Z
LAST-MODIFIED:20240501T174611Z
UID:10010651-1714669200-1714672800@wasecalesueurlibraries.com
SUMMARY:Board Game Night
DESCRIPTION:Join us for a night of gaming. We’ll have a variety of games to choose from and we’ll teach a new game. Geared for adults and families.
URL:https://wasecalesueurlibraries.com/event/board-game-night-3/2024-05-02/
LOCATION:Janesville Public Library\, 100 W 2nd St\, Janesville\, MN\, 56048\, United States
CATEGORIES:Author Event,Family
GEO:44.1173302;-93.7075406
X-APPLE-STRUCTURED-LOCATION;VALUE=URI;X-ADDRESS=Janesville Public Library 100 W 2nd St Janesville MN 56048 United States;X-APPLE-RADIUS=500;X-TITLE=100 W 2nd St:geo:-93.7075406,44.1173302
END:VEVENT
BEGIN:VEVENT
DTSTART;TZID=America/Chicago:20240502T173000
DTEND;TZID=America/Chicago:20240502T183000
DTSTAMP:20260423T144236
CREATED:20240501T173832Z
LAST-MODIFIED:20240501T173832Z
UID:10010716-1714671000-1714674600@wasecalesueurlibraries.com
SUMMARY:Teen Cloud Light
DESCRIPTION:Craft a unique cloud light fixture that will make a statement in your room! Ages 13-18.
URL:https://wasecalesueurlibraries.com/event/teen-cloud-light-2/
LOCATION:Le Sueur Public Library\, 118 Ferry St\, Le Sueur\, MN\, 56058\, United States
CATEGORIES:Teen Events
GEO:44.4601702;-93.9161364
X-APPLE-STRUCTURED-LOCATION;VALUE=URI;X-ADDRESS=Le Sueur Public Library 118 Ferry St Le Sueur MN 56058 United States;X-APPLE-RADIUS=500;X-TITLE=118 Ferry St:geo:-93.9161364,44.4601702
END:VEVENT
BEGIN:VEVENT
DTSTART;VALUE=DATE:20240503
DTEND;VALUE=DATE:20240505
DTSTAMP:20260423T144236
CREATED:20240501T174336Z
LAST-MODIFIED:20240501T174336Z
UID:10010720-1714694400-1714867199@wasecalesueurlibraries.com
SUMMARY:Book Sale
DESCRIPTION:Our Friends of the Library group is selling books for all ages. Help us raise money for our library!
URL:https://wasecalesueurlibraries.com/event/book-sale-10/
LOCATION:Janesville City Park\, Janesville\, 56048\, United States
CATEGORIES:Book Sales
END:VEVENT
BEGIN:VEVENT
DTSTART;TZID=America/Chicago:20240503T100000
DTEND;TZID=America/Chicago:20240503T110000
DTSTAMP:20260423T144236
CREATED:20240501T172137Z
LAST-MODIFIED:20240501T172137Z
UID:10010697-1714730400-1714734000@wasecalesueurlibraries.com
SUMMARY:Whimsical Wandcrafting for Wacky Wizards
DESCRIPTION:The magical librarian is here to assist you in your wizarding training. Kids will make cool wands and learn how to use them. Geared for ages 8-12.
URL:https://wasecalesueurlibraries.com/event/whimsical-wandcrafting-for-wacky-wizards-3/
LOCATION:Waseca Public Library\, 408 N State St\, Waseca\, MN\, 56093\, United States
CATEGORIES:Children's Events
GEO:44.0809183;-93.5069008
X-APPLE-STRUCTURED-LOCATION;VALUE=URI;X-ADDRESS=Waseca Public Library 408 N State St Waseca MN 56093 United States;X-APPLE-RADIUS=500;X-TITLE=408 N State St:geo:-93.5069008,44.0809183
END:VEVENT
BEGIN:VEVENT
DTSTART;TZID=America/Chicago:20240503T130000
DTEND;TZID=America/Chicago:20240503T140000
DTSTAMP:20260423T144236
CREATED:20240501T173916Z
LAST-MODIFIED:20240501T173916Z
UID:10010717-1714741200-1714744800@wasecalesueurlibraries.com
SUMMARY:Teen Nail Art
DESCRIPTION:Try out some trendy nail art hacks without spending a fortune! Ages 13-18.
URL:https://wasecalesueurlibraries.com/event/teen-nail-art-2/
LOCATION:Waseca Public Library\, 408 N State St\, Waseca\, MN\, 56093\, United States
CATEGORIES:Teen Events
GEO:44.0809183;-93.5069008
X-APPLE-STRUCTURED-LOCATION;VALUE=URI;X-ADDRESS=Waseca Public Library 408 N State St Waseca MN 56093 United States;X-APPLE-RADIUS=500;X-TITLE=408 N State St:geo:-93.5069008,44.0809183
END:VEVENT
BEGIN:VEVENT
DTSTART;TZID=America/Denver:20240503T183000
DTEND;TZID=America/Denver:20240503T193000
DTSTAMP:20260423T144236
CREATED:20220519T125046Z
LAST-MODIFIED:20241204T195631Z
UID:10007638-1714761000-1714764600@wasecalesueurlibraries.com
SUMMARY:Pie & Puzzles
DESCRIPTION:Assemble a team of up to 4 players to compete in a jigsaw puzzle competition. The first team to complete the puzzle wins a prize (and bragging rights)! Registration required. \nSponsored by Friends of the Le Sueur Public Library \n  \n 
URL:https://wasecalesueurlibraries.com/event/pie-puzzles/2024-05-03/
LOCATION:Le Sueur Public Library\, 118 Ferry St\, Le Sueur\, MN\, 56058\, United States
CATEGORIES:Adult Events
GEO:44.4601702;-93.9161364
X-APPLE-STRUCTURED-LOCATION;VALUE=URI;X-ADDRESS=Le Sueur Public Library 118 Ferry St Le Sueur MN 56058 United States;X-APPLE-RADIUS=500;X-TITLE=118 Ferry St:geo:-93.9161364,44.4601702
END:VEVENT
BEGIN:VEVENT
DTSTART;TZID=America/Chicago:20240504T093000
DTEND;TZID=America/Chicago:20240504T133000
DTSTAMP:20260423T144236
CREATED:20230705T170425Z
LAST-MODIFIED:20240501T165952Z
UID:10008312-1714815000-1714829400@wasecalesueurlibraries.com
SUMMARY:Books & Bagels
DESCRIPTION:Bagels\, coffee\, juice\, and community. Stop in at the library to talk about books. All ages. \nSponsored by American Legion Post #79 and Montgomery Area Friends of the Library \n 
URL:https://wasecalesueurlibraries.com/event/books-bagels-3/2024-05-04/
LOCATION:Montgomery Public Library\, 104 Oak Ave SE\, Montgomery\, MN\, 56069\, United States
CATEGORIES:All ages
GEO:44.4355889;-93.5810028
X-APPLE-STRUCTURED-LOCATION;VALUE=URI;X-ADDRESS=Montgomery Public Library 104 Oak Ave SE Montgomery MN 56069 United States;X-APPLE-RADIUS=500;X-TITLE=104 Oak Ave SE:geo:-93.5810028,44.4355889
END:VEVENT
BEGIN:VEVENT
DTSTART;TZID=America/Chicago:20240504T100000
DTEND;TZID=America/Chicago:20240504T110000
DTSTAMP:20260423T144236
CREATED:20240501T171312Z
LAST-MODIFIED:20240501T171312Z
UID:10010692-1714816800-1714820400@wasecalesueurlibraries.com
SUMMARY:Kindergarten Card Party
DESCRIPTION:Come to the library to collect your library card\, play games\, pose with a GIANT library card\, boogie down at a dance party\, collect giveaways\, and more! Exclusively for kindergarteners and their families.
URL:https://wasecalesueurlibraries.com/event/kindergarten-card-party-16/
LOCATION:Janesville Public Library\, 100 W 2nd St\, Janesville\, MN\, 56048\, United States
CATEGORIES:Children's Events
GEO:44.1173302;-93.7075406
X-APPLE-STRUCTURED-LOCATION;VALUE=URI;X-ADDRESS=Janesville Public Library 100 W 2nd St Janesville MN 56048 United States;X-APPLE-RADIUS=500;X-TITLE=100 W 2nd St:geo:-93.7075406,44.1173302
END:VEVENT
BEGIN:VEVENT
DTSTART;TZID=America/Chicago:20240504T100000
DTEND;TZID=America/Chicago:20240504T110000
DTSTAMP:20260423T144236
CREATED:20240501T171403Z
LAST-MODIFIED:20240501T171403Z
UID:10010693-1714816800-1714820400@wasecalesueurlibraries.com
SUMMARY:Kindergarten Card Party
DESCRIPTION:Come to the library to collect your library card\, play games\, pose with a GIANT library card\, boogie down at a dance party\, collect giveaways\, and more! Exclusively for kindergarteners and their families.
URL:https://wasecalesueurlibraries.com/event/kindergarten-card-party-17/
LOCATION:New Richland Public Library\, 129 Broadway Ave S\, New Richland\, MN\, 56072\, United States
CATEGORIES:Children's Events
GEO:43.8935599;-93.4938211
X-APPLE-STRUCTURED-LOCATION;VALUE=URI;X-ADDRESS=New Richland Public Library 129 Broadway Ave S New Richland MN 56072 United States;X-APPLE-RADIUS=500;X-TITLE=129 Broadway Ave S:geo:-93.4938211,43.8935599
END:VEVENT
BEGIN:VEVENT
DTSTART;TZID=America/Chicago:20240504T140000
DTEND;TZID=America/Chicago:20240504T150000
DTSTAMP:20260423T144236
CREATED:20240501T174123Z
LAST-MODIFIED:20240501T174123Z
UID:10010719-1714831200-1714834800@wasecalesueurlibraries.com
SUMMARY:Paint and Sip Fundraiser
DESCRIPTION:Join us for an afternoon of creativity and fun as we raise funds for our library! Tickets can be purchased online by scanning the code on the left. Space is limited. Food and beverage not provided.
URL:https://wasecalesueurlibraries.com/event/paint-and-sip-fundraiser/
LOCATION:American Legion Post 311\, 106 E Main Street\, Elysian\, 56028\, United States
CATEGORIES:Friends of the Library Event
GEO:44.1986999;-93.673642
X-APPLE-STRUCTURED-LOCATION;VALUE=URI;X-ADDRESS=American Legion Post 311 106 E Main Street Elysian 56028 United States;X-APPLE-RADIUS=500;X-TITLE=106 E Main Street:geo:-93.673642,44.1986999
END:VEVENT
BEGIN:VEVENT
DTSTART;TZID=America/Chicago:20240506T160000
DTEND;TZID=America/Chicago:20240506T170000
DTSTAMP:20260423T144236
CREATED:20240501T170936Z
LAST-MODIFIED:20240501T170936Z
UID:10010689-1715011200-1715014800@wasecalesueurlibraries.com
SUMMARY:The Secret Science of Cotton Candy
DESCRIPTION:What is cotton candy made of? How do you spin sugar? Why is it sticky? Why do some people call this fairy floss? Learn this and more (while you sample your self-spun cotton candy). Ages 9-12.
URL:https://wasecalesueurlibraries.com/event/the-secret-science-of-cotton-candy-4/
LOCATION:Le Center Public Library\, 10 W Tyrone St\, Le Center\, MN\, 56057\, United States
CATEGORIES:Children's Events
GEO:44.3907505;-93.7316339
X-APPLE-STRUCTURED-LOCATION;VALUE=URI;X-ADDRESS=Le Center Public Library 10 W Tyrone St Le Center MN 56057 United States;X-APPLE-RADIUS=500;X-TITLE=10 W Tyrone St:geo:-93.7316339,44.3907505
END:VEVENT
BEGIN:VEVENT
DTSTART;TZID=America/Chicago:20240506T180000
DTEND;TZID=America/Chicago:20240506T190000
DTSTAMP:20260423T144236
CREATED:20240501T170142Z
LAST-MODIFIED:20240501T170142Z
UID:10008642-1715018400-1715022000@wasecalesueurlibraries.com
SUMMARY:Summer Book Preview
DESCRIPTION:Join Waseca Public Library staff for a preview of the most anticipated books of the summer! Staff will help you load up your TO BE READ piles with steamy romances\,\nunforgettable characters\, Minnesota-based stories\, and pulse-pounding thrillers. Light refreshments will be served. Geared for adults. \nSponsored by Friends of the Waseca Public Library
URL:https://wasecalesueurlibraries.com/event/summer-book-preview/
LOCATION:Waseca Public Library\, 408 N State St\, Waseca\, MN\, 56093\, United States
CATEGORIES:Adult Events
GEO:44.0809183;-93.5069008
X-APPLE-STRUCTURED-LOCATION;VALUE=URI;X-ADDRESS=Waseca Public Library 408 N State St Waseca MN 56093 United States;X-APPLE-RADIUS=500;X-TITLE=408 N State St:geo:-93.5069008,44.0809183
END:VEVENT
BEGIN:VEVENT
DTSTART;TZID=America/Chicago:20240507T100000
DTEND;TZID=America/Chicago:20240507T110000
DTSTAMP:20260423T144236
CREATED:20240501T172526Z
LAST-MODIFIED:20240530T175859Z
UID:10010699-1715076000-1715079600@wasecalesueurlibraries.com
SUMMARY:Romp and Rhyme Story Time
DESCRIPTION:Le Center Public Library holds Romp and Rhyme story times on Tuesdays at 10 am. From puppets to pumping music\, from bubble machines to banging bands\, these are not your average story time. The Library uses movement\, STEAM activities\, curiosity\, imaginative play\, and active learning to keep kids engaged. Free and open to the public.
URL:https://wasecalesueurlibraries.com/event/12444/2024-05-07/
LOCATION:Le Center Public Library\, 10 W Tyrone St\, Le Center\, MN\, 56057\, United States
CATEGORIES:Children's Events,Story Times
GEO:44.3907505;-93.7316339
X-APPLE-STRUCTURED-LOCATION;VALUE=URI;X-ADDRESS=Le Center Public Library 10 W Tyrone St Le Center MN 56057 United States;X-APPLE-RADIUS=500;X-TITLE=10 W Tyrone St:geo:-93.7316339,44.3907505
END:VEVENT
BEGIN:VEVENT
DTSTART;TZID=America/Chicago:20240507T160000
DTEND;TZID=America/Chicago:20240507T170000
DTSTAMP:20260423T144236
CREATED:20230724T132153Z
LAST-MODIFIED:20240501T171615Z
UID:10010297-1715097600-1715101200@wasecalesueurlibraries.com
SUMMARY:Waldorf Lego Club
DESCRIPTION:Kids are invited to join our creative Lego-building club. Each event will have a theme to inspire and Legos to build with.
URL:https://wasecalesueurlibraries.com/event/waldorf-lego-club-5/2024-05-07/
LOCATION:Waldorf Public Library\, 119 S Main St\, Waldorf\, MN\, 56091\, United States
CATEGORIES:Children's Events
GEO:43.9365286;-93.697592
X-APPLE-STRUCTURED-LOCATION;VALUE=URI;X-ADDRESS=Waldorf Public Library 119 S Main St Waldorf MN 56091 United States;X-APPLE-RADIUS=500;X-TITLE=119 S Main St:geo:-93.697592,43.9365286
END:VEVENT
BEGIN:VEVENT
DTSTART;TZID=America/Chicago:20240507T180000
DTEND;TZID=America/Chicago:20240507T190000
DTSTAMP:20260423T144236
CREATED:20240108T221535Z
LAST-MODIFIED:20240501T170041Z
UID:10008535-1715104800-1715108400@wasecalesueurlibraries.com
SUMMARY:Destressing Night
DESCRIPTION:Start the year off by taking some time for yourself to create greater mental health. Bring coloring books\, puzzles\, or a book to read. Geared for teens and adults. \n 
URL:https://wasecalesueurlibraries.com/event/destressing-night-2/2024-05-07/
LOCATION:Janesville Public Library\, 100 W 2nd St\, Janesville\, MN\, 56048\, United States
CATEGORIES:Adult Events,Teen Events
GEO:44.1173302;-93.7075406
X-APPLE-STRUCTURED-LOCATION;VALUE=URI;X-ADDRESS=Janesville Public Library 100 W 2nd St Janesville MN 56048 United States;X-APPLE-RADIUS=500;X-TITLE=100 W 2nd St:geo:-93.7075406,44.1173302
END:VEVENT
BEGIN:VEVENT
DTSTART;TZID=America/Chicago:20240508T100000
DTEND;TZID=America/Chicago:20240508T110000
DTSTAMP:20260423T144236
CREATED:20240227T193915Z
LAST-MODIFIED:20240530T180904Z
UID:10010633-1715162400-1715166000@wasecalesueurlibraries.com
SUMMARY:Romp and Rhyme Story Time
DESCRIPTION:New Richland Public Library holds Romp and Rhyme story times on Wednesdays at 10 am. From puppets to pumping music\, from bubble machines to banging bands\, these are not your average story time. The Library uses movement\, STEAM activities\, curiosity\, imaginative play\, and active learning to keep kids engaged. Free and open to the public.
URL:https://wasecalesueurlibraries.com/event/romp-and-rhyme-story-time-87/2024-05-08/
LOCATION:New Richland Public Library\, 129 Broadway Ave S\, New Richland\, MN\, 56072\, United States
CATEGORIES:Children's Events,Story Times
GEO:43.8935599;-93.4938211
X-APPLE-STRUCTURED-LOCATION;VALUE=URI;X-ADDRESS=New Richland Public Library 129 Broadway Ave S New Richland MN 56072 United States;X-APPLE-RADIUS=500;X-TITLE=129 Broadway Ave S:geo:-93.4938211,43.8935599
END:VEVENT
BEGIN:VEVENT
DTSTART;TZID=America/Chicago:20240508T153000
DTEND;TZID=America/Chicago:20240508T163000
DTSTAMP:20260423T144236
CREATED:20240501T171101Z
LAST-MODIFIED:20240501T171101Z
UID:10010690-1715182200-1715185800@wasecalesueurlibraries.com
SUMMARY:The Secret Science of Cotton Candy
DESCRIPTION:What is cotton candy made of? How do you spin sugar? Why is it sticky? Why do some people call this fairy floss? Learn this and more (while you sample your self-spun cotton candy). Ages 9-12.
URL:https://wasecalesueurlibraries.com/event/the-secret-science-of-cotton-candy-5/
LOCATION:Montgomery Public Library\, 104 Oak Ave SE\, Montgomery\, MN\, 56069\, United States
CATEGORIES:Children's Events
GEO:44.4355889;-93.5810028
X-APPLE-STRUCTURED-LOCATION;VALUE=URI;X-ADDRESS=Montgomery Public Library 104 Oak Ave SE Montgomery MN 56069 United States;X-APPLE-RADIUS=500;X-TITLE=104 Oak Ave SE:geo:-93.5810028,44.4355889
END:VEVENT
BEGIN:VEVENT
DTSTART;TZID=America/Chicago:20240508T160000
DTEND;TZID=America/Chicago:20240508T170000
DTSTAMP:20260423T144236
CREATED:20230705T164632Z
LAST-MODIFIED:20240501T173441Z
UID:10010224-1715184000-1715187600@wasecalesueurlibraries.com
SUMMARY:Romp and Rhyme Story Time
DESCRIPTION:Waldorf Public Library holds Romp and Rhyme story times on Wednesdays at 3 pm. From puppets to pumping music\, from bubble machines to banging bands\, these are not your average story time. The Library uses movement\, STEAM activities\, curiosity\, imaginative play\, and active learning to keep kids engaged. Free and open to the public.
URL:https://wasecalesueurlibraries.com/event/romp-and-rhyme-story-time-81/2024-05-08/
LOCATION:Waldorf Public Library\, 119 S Main St\, Waldorf\, MN\, 56091\, United States
CATEGORIES:Children's Events,Story Times
GEO:43.9365286;-93.697592
X-APPLE-STRUCTURED-LOCATION;VALUE=URI;X-ADDRESS=Waldorf Public Library 119 S Main St Waldorf MN 56091 United States;X-APPLE-RADIUS=500;X-TITLE=119 S Main St:geo:-93.697592,43.9365286
END:VEVENT
BEGIN:VEVENT
DTSTART;TZID=America/Chicago:20240508T180000
DTEND;TZID=America/Chicago:20240508T190000
DTSTAMP:20260423T144236
CREATED:20240501T164937Z
LAST-MODIFIED:20240501T164937Z
UID:10008634-1715191200-1715194800@wasecalesueurlibraries.com
SUMMARY:Author Event: Nina Simon
DESCRIPTION:Nothing brings a family together like a murder next door. Nina Simon will chat about her lighthearted whodunnit about a grandmother-mother-daughter trio of amateur sleuths–Mother-Daughter Murder Night. \nRegister now. \nThese events are made possible by the voters of Minnesota through a grant provided by the Traverse des Sioux Library Cooperative\, thanks to a legislative appropriation from the arts and cultural heritage fund.
URL:https://wasecalesueurlibraries.com/event/author-event-nina-simon/
LOCATION:Virtual Event\, MN\, United States
CATEGORIES:Adult Events,Author Event
END:VEVENT
BEGIN:VEVENT
DTSTART;TZID=America/Chicago:20240509T093000
DTEND;TZID=America/Chicago:20240509T103000
DTSTAMP:20260423T144236
CREATED:20240328T015144Z
LAST-MODIFIED:20240501T173557Z
UID:10010675-1715247000-1715250600@wasecalesueurlibraries.com
SUMMARY:Romp and Rhyme Story Time
DESCRIPTION:Janesville Public Library holds Romp and Rhyme story times on Thursdays at 9:30 am. From puppets to pumping music\, from bubble machines to banging bands\, these are not your average story time. The Library uses movement\, STEAM activities\, curiosity\, imaginative play\, and active learning to keep kids engaged. Free and open to the public.
URL:https://wasecalesueurlibraries.com/event/romp-and-rhyme-story-time-88/2024-05-09/
LOCATION:Janesville Public Library\, 100 W 2nd St\, Janesville\, MN\, 56048\, United States
CATEGORIES:Children's Events,Story Times
GEO:44.1173302;-93.7075406
X-APPLE-STRUCTURED-LOCATION;VALUE=URI;X-ADDRESS=Janesville Public Library 100 W 2nd St Janesville MN 56048 United States;X-APPLE-RADIUS=500;X-TITLE=100 W 2nd St:geo:-93.7075406,44.1173302
END:VEVENT
BEGIN:VEVENT
DTSTART;TZID=America/Chicago:20240511T080000
DTEND;TZID=America/Chicago:20240511T120000
DTSTAMP:20260423T144236
CREATED:20240501T174431Z
LAST-MODIFIED:20240501T174431Z
UID:10010721-1715414400-1715428800@wasecalesueurlibraries.com
SUMMARY:Book Sale
DESCRIPTION:Our Friends of the Library group is selling books for all ages. Help us raise money for our library!
URL:https://wasecalesueurlibraries.com/event/book-sale-11/
LOCATION:Elysian Public Library\, 202 E Main St\, Elysian\, MN\, 56028\, United States
CATEGORIES:Book Sales,Friends of the Library Event
GEO:44.198703;-93.6724641
X-APPLE-STRUCTURED-LOCATION;VALUE=URI;X-ADDRESS=Elysian Public Library 202 E Main St Elysian MN 56028 United States;X-APPLE-RADIUS=500;X-TITLE=202 E Main St:geo:-93.6724641,44.198703
END:VEVENT
BEGIN:VEVENT
DTSTART;TZID=America/Chicago:20240512T100000
DTEND;TZID=America/Chicago:20240512T110000
DTSTAMP:20260423T144236
CREATED:20240530T152429Z
LAST-MODIFIED:20240530T152429Z
UID:10008731-1715508000-1715511600@wasecalesueurlibraries.com
SUMMARY:Choose Your Own Adventure in 4-H
DESCRIPTION:We will be exploring all of the projects available in 4-H and giving them a try! Ages 9-12.
URL:https://wasecalesueurlibraries.com/event/choose-your-own-adventure-in-4-h/
LOCATION:Montgomery Public Library\, 104 Oak Ave SE\, Montgomery\, MN\, 56069\, United States
CATEGORIES:Children's Events,Tweens
GEO:44.4355889;-93.5810028
X-APPLE-STRUCTURED-LOCATION;VALUE=URI;X-ADDRESS=Montgomery Public Library 104 Oak Ave SE Montgomery MN 56069 United States;X-APPLE-RADIUS=500;X-TITLE=104 Oak Ave SE:geo:-93.5810028,44.4355889
END:VEVENT
BEGIN:VEVENT
DTSTART;TZID=America/Chicago:20240513T173000
DTEND;TZID=America/Chicago:20240513T183000
DTSTAMP:20260423T144236
CREATED:20230929T212813Z
LAST-MODIFIED:20240501T173729Z
UID:10008447-1715621400-1715625000@wasecalesueurlibraries.com
SUMMARY:Romp and Rhyme Story Time
DESCRIPTION:Waseca Public Library holds Romp and Rhyme story times at 5:30 pm on select dates. From puppets to pumping music\, from bubble machines to banging bands\, these are not your average story time. The Library uses movement\, STEAM activities\, curiosity\, imaginative play\, and active learning to keep kids engaged. Free and open to the public.
URL:https://wasecalesueurlibraries.com/event/10934/2024-05-13/
LOCATION:Waseca Public Library\, 408 N State St\, Waseca\, MN\, 56093\, United States
CATEGORIES:Children's Events,Story Times
GEO:44.0809183;-93.5069008
X-APPLE-STRUCTURED-LOCATION;VALUE=URI;X-ADDRESS=Waseca Public Library 408 N State St Waseca MN 56093 United States;X-APPLE-RADIUS=500;X-TITLE=408 N State St:geo:-93.5069008,44.0809183
END:VEVENT
BEGIN:VEVENT
DTSTART;TZID=America/Chicago:20240513T180000
DTEND;TZID=America/Chicago:20240513T190000
DTSTAMP:20260423T144236
CREATED:20240501T171945Z
LAST-MODIFIED:20240501T171945Z
UID:10010695-1715623200-1715626800@wasecalesueurlibraries.com
SUMMARY:Mister Rogers' Neighborhood Party
DESCRIPTION:Explore the different themes of Mr. Roger’s Neighborhood by exploring emotions\, telling stories\, sharing kindness\, and identifying ways to be a good community helper and friend. Ages 3-6.
URL:https://wasecalesueurlibraries.com/event/mister-rogers-neighborhood-party-4/
LOCATION:Elysian Public Library\, 202 E Main St\, Elysian\, MN\, 56028\, United States
CATEGORIES:Children's Events
GEO:44.198703;-93.6724641
X-APPLE-STRUCTURED-LOCATION;VALUE=URI;X-ADDRESS=Elysian Public Library 202 E Main St Elysian MN 56028 United States;X-APPLE-RADIUS=500;X-TITLE=202 E Main St:geo:-93.6724641,44.198703
END:VEVENT
BEGIN:VEVENT
DTSTART;TZID=America/Chicago:20240513T180000
DTEND;TZID=America/Chicago:20240513T190000
DTSTAMP:20260423T144236
CREATED:20240501T172043Z
LAST-MODIFIED:20240501T172043Z
UID:10010696-1715623200-1715626800@wasecalesueurlibraries.com
SUMMARY:Mermaid Story Time Party
DESCRIPTION:Enjoy mermaid stories\, undersea exploration\, treasure sorting\, and mermaid games! Ages 3-5\, with an adult.
URL:https://wasecalesueurlibraries.com/event/mermaid-story-time-party-2/
LOCATION:Waterville Public Library\, 210 Paquin St\, Waterville\, MN\, 56096\, United States
CATEGORIES:Children's Events
GEO:44.2177999;-93.5709706
X-APPLE-STRUCTURED-LOCATION;VALUE=URI;X-ADDRESS=Waterville Public Library 210 Paquin St Waterville MN 56096 United States;X-APPLE-RADIUS=500;X-TITLE=210 Paquin St:geo:-93.5709706,44.2177999
END:VEVENT
BEGIN:VEVENT
DTSTART;TZID=America/Chicago:20240514T100000
DTEND;TZID=America/Chicago:20240514T110000
DTSTAMP:20260423T144236
CREATED:20240501T172526Z
LAST-MODIFIED:20240530T175859Z
UID:10010700-1715680800-1715684400@wasecalesueurlibraries.com
SUMMARY:Romp and Rhyme Story Time
DESCRIPTION:Le Center Public Library holds Romp and Rhyme story times on Tuesdays at 10 am. From puppets to pumping music\, from bubble machines to banging bands\, these are not your average story time. The Library uses movement\, STEAM activities\, curiosity\, imaginative play\, and active learning to keep kids engaged. Free and open to the public.
URL:https://wasecalesueurlibraries.com/event/12444/2024-05-14/
LOCATION:Le Center Public Library\, 10 W Tyrone St\, Le Center\, MN\, 56057\, United States
CATEGORIES:Children's Events,Story Times
GEO:44.3907505;-93.7316339
X-APPLE-STRUCTURED-LOCATION;VALUE=URI;X-ADDRESS=Le Center Public Library 10 W Tyrone St Le Center MN 56057 United States;X-APPLE-RADIUS=500;X-TITLE=10 W Tyrone St:geo:-93.7316339,44.3907505
END:VEVENT
BEGIN:VEVENT
DTSTART;TZID=America/Chicago:20240514T160000
DTEND;TZID=America/Chicago:20240514T170000
DTSTAMP:20260423T144236
CREATED:20230724T132153Z
LAST-MODIFIED:20240501T171615Z
UID:10010298-1715702400-1715706000@wasecalesueurlibraries.com
SUMMARY:Waldorf Lego Club
DESCRIPTION:Kids are invited to join our creative Lego-building club. Each event will have a theme to inspire and Legos to build with.
URL:https://wasecalesueurlibraries.com/event/waldorf-lego-club-5/2024-05-14/
LOCATION:Waldorf Public Library\, 119 S Main St\, Waldorf\, MN\, 56091\, United States
CATEGORIES:Children's Events
GEO:43.9365286;-93.697592
X-APPLE-STRUCTURED-LOCATION;VALUE=URI;X-ADDRESS=Waldorf Public Library 119 S Main St Waldorf MN 56091 United States;X-APPLE-RADIUS=500;X-TITLE=119 S Main St:geo:-93.697592,43.9365286
END:VEVENT
BEGIN:VEVENT
DTSTART;TZID=America/Chicago:20240514T170000
DTEND;TZID=America/Chicago:20240514T180000
DTSTAMP:20260423T144236
CREATED:20240501T174005Z
LAST-MODIFIED:20240501T174005Z
UID:10010718-1715706000-1715709600@wasecalesueurlibraries.com
SUMMARY:Teen Book Cover Keychains
DESCRIPTION:Create a bookish keychain. All supplies provided. Ages 13-18.
URL:https://wasecalesueurlibraries.com/event/teen-book-cover-keychains/
LOCATION:Janesville Public Library\, 100 W 2nd St\, Janesville\, MN\, 56048\, United States
CATEGORIES:Teen Events
GEO:44.1173302;-93.7075406
X-APPLE-STRUCTURED-LOCATION;VALUE=URI;X-ADDRESS=Janesville Public Library 100 W 2nd St Janesville MN 56048 United States;X-APPLE-RADIUS=500;X-TITLE=100 W 2nd St:geo:-93.7075406,44.1173302
END:VEVENT
END:VCALENDAR