BEGIN:VCALENDAR
VERSION:2.0
PRODID:-//Waseca-Le Sueur Library - ECPv6.15.20//NONSGML v1.0//EN
CALSCALE:GREGORIAN
METHOD:PUBLISH
X-WR-CALNAME:Waseca-Le Sueur Library
X-ORIGINAL-URL:https://wasecalesueurlibraries.com
X-WR-CALDESC:Events for Waseca-Le Sueur Library
REFRESH-INTERVAL;VALUE=DURATION:PT1H
X-Robots-Tag:noindex
X-PUBLISHED-TTL:PT1H
BEGIN:VTIMEZONE
TZID:America/Chicago
BEGIN:DAYLIGHT
TZOFFSETFROM:-0600
TZOFFSETTO:-0500
TZNAME:CDT
DTSTART:20220313T080000
END:DAYLIGHT
BEGIN:STANDARD
TZOFFSETFROM:-0500
TZOFFSETTO:-0600
TZNAME:CST
DTSTART:20221106T070000
END:STANDARD
BEGIN:DAYLIGHT
TZOFFSETFROM:-0600
TZOFFSETTO:-0500
TZNAME:CDT
DTSTART:20230312T080000
END:DAYLIGHT
BEGIN:STANDARD
TZOFFSETFROM:-0500
TZOFFSETTO:-0600
TZNAME:CST
DTSTART:20231105T070000
END:STANDARD
BEGIN:DAYLIGHT
TZOFFSETFROM:-0600
TZOFFSETTO:-0500
TZNAME:CDT
DTSTART:20240310T080000
END:DAYLIGHT
BEGIN:STANDARD
TZOFFSETFROM:-0500
TZOFFSETTO:-0600
TZNAME:CST
DTSTART:20241103T070000
END:STANDARD
END:VTIMEZONE
BEGIN:VEVENT
DTSTART;TZID=America/Chicago:20230926T093000
DTEND;TZID=America/Chicago:20230926T103000
DTSTAMP:20260424T110942
CREATED:20230511T185543Z
LAST-MODIFIED:20230929T212430Z
UID:10010057-1695720600-1695724200@wasecalesueurlibraries.com
SUMMARY:Romp and Rhyme Story Time
DESCRIPTION:Le Center Public Library holds Romp and Rhyme story times on Tuesdays at 9:30 am. From puppets to pumping music\, from bubble machines to banging bands\, these are not your average story time. The Library uses movement\, STEAM activities\, curiosity\, imaginative play\, and active learning to keep kids engaged. Free and open to the public.
URL:https://wasecalesueurlibraries.com/event/romp-and-rhyme-story-time-80/2023-09-26/
LOCATION:Le Center Public Library\, 10 W Tyrone St\, Le Center\, MN\, 56057\, United States
CATEGORIES:Children's Events,Story Times
GEO:44.3907505;-93.7316339
X-APPLE-STRUCTURED-LOCATION;VALUE=URI;X-ADDRESS=Le Center Public Library 10 W Tyrone St Le Center MN 56057 United States;X-APPLE-RADIUS=500;X-TITLE=10 W Tyrone St:geo:-93.7316339,44.3907505
END:VEVENT
BEGIN:VEVENT
DTSTART;TZID=America/Chicago:20230926T100000
DTEND;TZID=America/Chicago:20230926T110000
DTSTAMP:20260424T110942
CREATED:20230911T212036Z
LAST-MODIFIED:20240530T182247Z
UID:10010408-1695722400-1695726000@wasecalesueurlibraries.com
SUMMARY:Romp and Rhyme Story Time
DESCRIPTION:Le Sueur Public Library holds Romp and Rhyme story times on Tuesdays at 10 am. From puppets to pumping music\, from bubble machines to banging bands\, these are not your average story time. The Library uses movement\, STEAM activities\, curiosity\, imaginative play\, and active learning to keep kids engaged. Free and open to the public.
URL:https://wasecalesueurlibraries.com/event/romp-and-rhyme-story-time-83/2023-09-26/
LOCATION:Le Sueur Public Library\, 118 Ferry St\, Le Sueur\, MN\, 56058\, United States
CATEGORIES:Children's Events,Story Times
GEO:44.4601702;-93.9161364
X-APPLE-STRUCTURED-LOCATION;VALUE=URI;X-ADDRESS=Le Sueur Public Library 118 Ferry St Le Sueur MN 56058 United States;X-APPLE-RADIUS=500;X-TITLE=118 Ferry St:geo:-93.9161364,44.4601702
END:VEVENT
BEGIN:VEVENT
DTSTART;TZID=America/Chicago:20230926T160000
DTEND;TZID=America/Chicago:20230926T170000
DTSTAMP:20260424T110942
CREATED:20230724T132153Z
LAST-MODIFIED:20240501T171615Z
UID:10010265-1695744000-1695747600@wasecalesueurlibraries.com
SUMMARY:Waldorf Lego Club
DESCRIPTION:Kids are invited to join our creative Lego-building club. Each event will have a theme to inspire and Legos to build with.
URL:https://wasecalesueurlibraries.com/event/waldorf-lego-club-5/2023-09-26/
LOCATION:Waldorf Public Library\, 119 S Main St\, Waldorf\, MN\, 56091\, United States
CATEGORIES:Children's Events
GEO:43.9365286;-93.697592
X-APPLE-STRUCTURED-LOCATION;VALUE=URI;X-ADDRESS=Waldorf Public Library 119 S Main St Waldorf MN 56091 United States;X-APPLE-RADIUS=500;X-TITLE=119 S Main St:geo:-93.697592,43.9365286
END:VEVENT
BEGIN:VEVENT
DTSTART;TZID=America/Chicago:20230926T173000
DTEND;TZID=America/Chicago:20230926T183000
DTSTAMP:20260424T110942
CREATED:20230911T210934Z
LAST-MODIFIED:20230911T210934Z
UID:10010378-1695749400-1695753000@wasecalesueurlibraries.com
SUMMARY:Beeswax Collage Workshop
DESCRIPTION:Learn how to turn simple blocks of wood\, photocopies\, and beeswax into personal works of art. These storyblocks offer endless options to personalize. Creativebug instructor Courtney Cerruti will teach techniques\, along with how to best select images\, and tips for composition. Ages 13-18. \n 
URL:https://wasecalesueurlibraries.com/event/beeswax-collage-workshop-4/
LOCATION:Le Sueur Public Library\, 118 Ferry St\, Le Sueur\, MN\, 56058\, United States
CATEGORIES:Teen Events
GEO:44.4601702;-93.9161364
X-APPLE-STRUCTURED-LOCATION;VALUE=URI;X-ADDRESS=Le Sueur Public Library 118 Ferry St Le Sueur MN 56058 United States;X-APPLE-RADIUS=500;X-TITLE=118 Ferry St:geo:-93.9161364,44.4601702
END:VEVENT
BEGIN:VEVENT
DTSTART;TZID=America/Chicago:20230926T180000
DTEND;TZID=America/Chicago:20230926T190000
DTSTAMP:20260424T110942
CREATED:20230911T203638Z
LAST-MODIFIED:20230911T203638Z
UID:10010332-1695751200-1695754800@wasecalesueurlibraries.com
SUMMARY:Laser-Engraved Keychains
DESCRIPTION:In this workshop\, you will blend modern innovation with old-world craftsmanship as you create a wooden keychain. Geared for adults. \nRegister now. \n 
URL:https://wasecalesueurlibraries.com/event/laser-engraved-keychains/
LOCATION:Janesville Public Library\, 100 W 2nd St\, Janesville\, MN\, 56048\, United States
CATEGORIES:Adult Events
GEO:44.1173302;-93.7075406
X-APPLE-STRUCTURED-LOCATION;VALUE=URI;X-ADDRESS=Janesville Public Library 100 W 2nd St Janesville MN 56048 United States;X-APPLE-RADIUS=500;X-TITLE=100 W 2nd St:geo:-93.7075406,44.1173302
END:VEVENT
BEGIN:VEVENT
DTSTART;TZID=America/Chicago:20230927T100000
DTEND;TZID=America/Chicago:20230927T110000
DTSTAMP:20260424T110942
CREATED:20230908T210950Z
LAST-MODIFIED:20230908T210950Z
UID:10010319-1695808800-1695812400@wasecalesueurlibraries.com
SUMMARY:Health Care Fraud
DESCRIPTION:Learn how to protect yourself from Medicare errors\, fraud\, and abuse from Senior LinkAge Line. Learn how to protect your personal information and protect yourself against consumer fraud. \n 
URL:https://wasecalesueurlibraries.com/event/health-care-fraud/
LOCATION:Montgomery Public Library\, 104 Oak Ave SE\, Montgomery\, MN\, 56069\, United States
CATEGORIES:Adult Events
GEO:44.4355889;-93.5810028
X-APPLE-STRUCTURED-LOCATION;VALUE=URI;X-ADDRESS=Montgomery Public Library 104 Oak Ave SE Montgomery MN 56069 United States;X-APPLE-RADIUS=500;X-TITLE=104 Oak Ave SE:geo:-93.5810028,44.4355889
END:VEVENT
BEGIN:VEVENT
DTSTART;TZID=America/Chicago:20230927T100000
DTEND;TZID=America/Chicago:20230927T110000
DTSTAMP:20260424T110942
CREATED:20230911T212217Z
LAST-MODIFIED:20231024T210200Z
UID:10010444-1695808800-1695812400@wasecalesueurlibraries.com
SUMMARY:Romp and Rhyme Story Time
DESCRIPTION:New Richland Public Library holds Romp and Rhyme story times on Wednesdays at 10 am. From puppets to pumping music\, from bubble machines to banging bands\, these are not your average story time. The Library uses movement\, STEAM activities\, curiosity\, imaginative play\, and active learning to keep kids engaged. Free and open to the public.
URL:https://wasecalesueurlibraries.com/event/romp-and-rhyme-story-time-84/2023-09-27/
LOCATION:New Richland Public Library\, 129 Broadway Ave S\, New Richland\, MN\, 56072\, United States
CATEGORIES:Children's Events,Story Times
GEO:43.8935599;-93.4938211
X-APPLE-STRUCTURED-LOCATION;VALUE=URI;X-ADDRESS=New Richland Public Library 129 Broadway Ave S New Richland MN 56072 United States;X-APPLE-RADIUS=500;X-TITLE=129 Broadway Ave S:geo:-93.4938211,43.8935599
END:VEVENT
BEGIN:VEVENT
DTSTART;TZID=America/Chicago:20230927T103000
DTEND;TZID=America/Chicago:20230927T113000
DTSTAMP:20260424T110942
CREATED:20230911T205815Z
LAST-MODIFIED:20230911T205815Z
UID:10008389-1695810600-1695814200@wasecalesueurlibraries.com
SUMMARY:Little Coders
DESCRIPTION:Have a BLAST with beginning coding activities! Kids will learn sequencing\, problem-solving\, storytelling\, and directional skills through active and social play! Geared for ages 4-6 pm\, with an adult. \n 
URL:https://wasecalesueurlibraries.com/event/little-coders-15/2023-09-27/
LOCATION:New Richland Public Library\, 129 Broadway Ave S\, New Richland\, MN\, 56072\, United States
CATEGORIES:Children's Events
GEO:43.8935599;-93.4938211
X-APPLE-STRUCTURED-LOCATION;VALUE=URI;X-ADDRESS=New Richland Public Library 129 Broadway Ave S New Richland MN 56072 United States;X-APPLE-RADIUS=500;X-TITLE=129 Broadway Ave S:geo:-93.4938211,43.8935599
END:VEVENT
BEGIN:VEVENT
DTSTART;TZID=America/Chicago:20230927T160000
DTEND;TZID=America/Chicago:20230927T170000
DTSTAMP:20260424T110942
CREATED:20230705T164632Z
LAST-MODIFIED:20240501T173441Z
UID:10010192-1695830400-1695834000@wasecalesueurlibraries.com
SUMMARY:Romp and Rhyme Story Time
DESCRIPTION:Waldorf Public Library holds Romp and Rhyme story times on Wednesdays at 3 pm. From puppets to pumping music\, from bubble machines to banging bands\, these are not your average story time. The Library uses movement\, STEAM activities\, curiosity\, imaginative play\, and active learning to keep kids engaged. Free and open to the public.
URL:https://wasecalesueurlibraries.com/event/romp-and-rhyme-story-time-81/2023-09-27/
LOCATION:Waldorf Public Library\, 119 S Main St\, Waldorf\, MN\, 56091\, United States
CATEGORIES:Children's Events,Story Times
GEO:43.9365286;-93.697592
X-APPLE-STRUCTURED-LOCATION;VALUE=URI;X-ADDRESS=Waldorf Public Library 119 S Main St Waldorf MN 56091 United States;X-APPLE-RADIUS=500;X-TITLE=119 S Main St:geo:-93.697592,43.9365286
END:VEVENT
BEGIN:VEVENT
DTSTART;TZID=America/Chicago:20230927T190000
DTEND;TZID=America/Chicago:20230927T200000
DTSTAMP:20260424T110942
CREATED:20230908T210006Z
LAST-MODIFIED:20230908T210006Z
UID:10008355-1695841200-1695844800@wasecalesueurlibraries.com
SUMMARY:Amor Towles
DESCRIPTION:Please tune in as we chat online with bestselling author Amor Towles about his incredible body of work\, including Rules of Civility\, A Gentleman in Moscow\, and The Lincoln Highway. His books have been heralded as irresistible\, marvelous\, and gorgeously crafted books of beauty. \nRegister now. \nThese events are made possible by the voters of Minnesota through a grant provided by the Traverse des Sioux Library Cooperative\, thanks to a legislative appropriation from the arts and cultural heritage fund.
URL:https://wasecalesueurlibraries.com/event/amor-towles/
LOCATION:Virtual Event\, MN\, United States
CATEGORIES:Adult Events,Author Event
END:VEVENT
BEGIN:VEVENT
DTSTART;TZID=America/Chicago:20230928T093000
DTEND;TZID=America/Chicago:20230928T103000
DTSTAMP:20260424T110942
CREATED:20230911T212327Z
LAST-MODIFIED:20230929T213013Z
UID:10010455-1695893400-1695897000@wasecalesueurlibraries.com
SUMMARY:Romp and Rhyme Story Time
DESCRIPTION:Janesville Public Library holds Romp and Rhyme story times on Thursdays at 9:30 am. From puppets to pumping music\, from bubble machines to banging bands\, these are not your average story time. The Library uses movement\, STEAM activities\, curiosity\, imaginative play\, and active learning to keep kids engaged. Free and open to the public.
URL:https://wasecalesueurlibraries.com/event/romp-and-rhyme-story-time-85/2023-09-28/
LOCATION:Janesville Public Library\, 100 W 2nd St\, Janesville\, MN\, 56048\, United States
CATEGORIES:Children's Events,Story Times
GEO:44.1173302;-93.7075406
X-APPLE-STRUCTURED-LOCATION;VALUE=URI;X-ADDRESS=Janesville Public Library 100 W 2nd St Janesville MN 56048 United States;X-APPLE-RADIUS=500;X-TITLE=100 W 2nd St:geo:-93.7075406,44.1173302
END:VEVENT
BEGIN:VEVENT
DTSTART;TZID=America/Chicago:20230928T100000
DTEND;TZID=America/Chicago:20230928T110000
DTSTAMP:20260424T110942
CREATED:20230911T212416Z
LAST-MODIFIED:20240227T194635Z
UID:10010463-1695895200-1695898800@wasecalesueurlibraries.com
SUMMARY:Romp and Rhyme Story Time
DESCRIPTION:Elysian Area Library holds Romp and Rhyme story times at 10 am on select dates. From puppets to pumping music\, from bubble machines to banging bands\, these are not your average story time. The Library uses movement\, STEAM activities\, curiosity\, imaginative play\, and active learning to keep kids engaged. Free and open to the public.
URL:https://wasecalesueurlibraries.com/event/romp-and-rhyme-story-time-86/2023-09-28/
LOCATION:Elysian Public Library\, 202 E Main St\, Elysian\, MN\, 56028\, United States
CATEGORIES:Children's Events,Story Times
GEO:44.198703;-93.6724641
X-APPLE-STRUCTURED-LOCATION;VALUE=URI;X-ADDRESS=Elysian Public Library 202 E Main St Elysian MN 56028 United States;X-APPLE-RADIUS=500;X-TITLE=202 E Main St:geo:-93.6724641,44.198703
END:VEVENT
BEGIN:VEVENT
DTSTART;TZID=America/Chicago:20230928T130000
DTEND;TZID=America/Chicago:20230928T140000
DTSTAMP:20260424T110942
CREATED:20230911T211028Z
LAST-MODIFIED:20241030T132201Z
UID:10010379-1695906000-1695909600@wasecalesueurlibraries.com
SUMMARY:Adult Bingo
DESCRIPTION:It’s BINGO time! Prizes for winners but fun for all. Register at the Library. \nPrizes sponsored by Friends of the Le Sueur Public Library \n 
URL:https://wasecalesueurlibraries.com/event/adult-bingo-5/2023-09-28/
LOCATION:Le Sueur Public Library\, 118 Ferry St\, Le Sueur\, MN\, 56058\, United States
CATEGORIES:Adult Events
GEO:44.4601702;-93.9161364
X-APPLE-STRUCTURED-LOCATION;VALUE=URI;X-ADDRESS=Le Sueur Public Library 118 Ferry St Le Sueur MN 56058 United States;X-APPLE-RADIUS=500;X-TITLE=118 Ferry St:geo:-93.9161364,44.4601702
END:VEVENT
BEGIN:VEVENT
DTSTART;TZID=America/Chicago:20230928T173000
DTEND;TZID=America/Chicago:20230928T183000
DTSTAMP:20260424T110942
CREATED:20230908T210639Z
LAST-MODIFIED:20230908T210639Z
UID:10008362-1695922200-1695925800@wasecalesueurlibraries.com
SUMMARY:Judy Garland: A Star Is Born in Minnesota
DESCRIPTION:Jazz singer Maud Hixson will explore the great jazz standards\, many written for Judy Garland\, and the relationships she had with the composers and musicians involved in her career. \nThis event is made possible by the voters of Minnesota through a grant provided by the Traverse des Sioux Library Cooperative\, thanks to a legislative appropriation from the arts and cultural heritage fund. \n 
URL:https://wasecalesueurlibraries.com/event/judy-garland-a-star-is-born-in-minnesota/
LOCATION:New Richland Public Library\, 129 Broadway Ave S\, New Richland\, MN\, 56072\, United States
CATEGORIES:Author Event,Concert
GEO:43.8935599;-93.4938211
X-APPLE-STRUCTURED-LOCATION;VALUE=URI;X-ADDRESS=New Richland Public Library 129 Broadway Ave S New Richland MN 56072 United States;X-APPLE-RADIUS=500;X-TITLE=129 Broadway Ave S:geo:-93.4938211,43.8935599
END:VEVENT
BEGIN:VEVENT
DTSTART;TZID=America/Chicago:20230928T180000
DTEND;TZID=America/Chicago:20230928T190000
DTSTAMP:20260424T110942
CREATED:20230911T211155Z
LAST-MODIFIED:20230911T211155Z
UID:10010385-1695924000-1695927600@wasecalesueurlibraries.com
SUMMARY:Game of Thrones Trivia
DESCRIPTION:The North remembers. Will you? \nTeams up to 4 players compete to win Iron Throne status. Geared for adults. Registration required. \nPrizes sponsored by Friends of the Waterville Public Library \n 
URL:https://wasecalesueurlibraries.com/event/game-of-thrones-trivia-3/
LOCATION:Waterville Event Center\, 120 Main Street East\, Waterville\, MN\, 56096\, United States
CATEGORIES:Adult Events
END:VEVENT
BEGIN:VEVENT
DTSTART;TZID=America/Chicago:20230928T190000
DTEND;TZID=America/Chicago:20230928T200000
DTSTAMP:20260424T110942
CREATED:20230908T212255Z
LAST-MODIFIED:20230908T212255Z
UID:10010324-1695927600-1695931200@wasecalesueurlibraries.com
SUMMARY:Oil and Vinegars 101
DESCRIPTION:Blue Skye Mercantile (Good Thunder\, MN) will talk about the different types of oils and vinegars and how to use them in everyday cooking or baking.\nRegister early—we have a surprise for the first 20 to register! \nRegister now! \n  \n 
URL:https://wasecalesueurlibraries.com/event/oil-and-vinegars-101/
LOCATION:Virtual Event\, MN\, United States
CATEGORIES:Adult Events
END:VEVENT
BEGIN:VEVENT
DTSTART;TZID=America/Chicago:20230930T093000
DTEND;TZID=America/Chicago:20230930T130000
DTSTAMP:20260424T110942
CREATED:20230911T203110Z
LAST-MODIFIED:20230911T203110Z
UID:10010326-1696066200-1696078800@wasecalesueurlibraries.com
SUMMARY:Tea Towel Family Recipes
DESCRIPTION:Create a custom family heirloom tea towel with a handwritten recipe printed onto it. This is perfect for gifting (or keeping!). Geared for adults. You will need to bring in a handwritten recipe (limit one per\nperson).  \nRegister now. \nThese events are made possible by the voters of Minnesota through a grant provided by the Traverse des Sioux Library Cooperative\, thanks to a legislative appropriation from the arts and cultural heritage fund.
URL:https://wasecalesueurlibraries.com/event/tea-towel-family-recipes-6/
LOCATION:Waseca Public Library\, 408 N State St\, Waseca\, MN\, 56093\, United States
CATEGORIES:Adult Events
GEO:44.0809183;-93.5069008
X-APPLE-STRUCTURED-LOCATION;VALUE=URI;X-ADDRESS=Waseca Public Library 408 N State St Waseca MN 56093 United States;X-APPLE-RADIUS=500;X-TITLE=408 N State St:geo:-93.5069008,44.0809183
END:VEVENT
BEGIN:VEVENT
DTSTART;TZID=America/Chicago:20230930T100000
DTEND;TZID=America/Chicago:20230930T110000
DTSTAMP:20260424T110942
CREATED:20230911T203311Z
LAST-MODIFIED:20230911T203311Z
UID:10010328-1696068000-1696071600@wasecalesueurlibraries.com
SUMMARY:Embossed Cards
DESCRIPTION:Creativebug artist and instructor Courtney Cerruti shows how a simple watercolor wash makes the perfect background for a dreamy embossed card. Geared for teens and adults. \nThis event is made possible by the voters of Minnesota through a grant provided by the Traverse des Sioux Library Cooperative\, thanks to a legislative appropriation from the arts and cultural heritage fund. \n 
URL:https://wasecalesueurlibraries.com/event/embossed-cards/
LOCATION:Montgomery Public Library\, 104 Oak Ave SE\, Montgomery\, MN\, 56069\, United States
CATEGORIES:Adult Events
GEO:44.4355889;-93.5810028
X-APPLE-STRUCTURED-LOCATION;VALUE=URI;X-ADDRESS=Montgomery Public Library 104 Oak Ave SE Montgomery MN 56069 United States;X-APPLE-RADIUS=500;X-TITLE=104 Oak Ave SE:geo:-93.5810028,44.4355889
END:VEVENT
BEGIN:VEVENT
DTSTART;TZID=America/Chicago:20230930T170000
DTEND;TZID=America/Chicago:20230930T180000
DTSTAMP:20260424T110942
CREATED:20230911T211415Z
LAST-MODIFIED:20230911T211415Z
UID:10010386-1696093200-1696096800@wasecalesueurlibraries.com
SUMMARY:Totally '80s Trivia
DESCRIPTION:Go back in time to when video killed the radio star. Assemble a team of up to 4 players to claim Yuppie status. Geared for adults. Registration required. \nPrizes sponsored by Friends of the Janesville Public Library \n 
URL:https://wasecalesueurlibraries.com/event/totally-80s-trivia-4/
LOCATION:The Purple Goose\, 228 N Main St\, Janesville\, MN\, 56048\, United States
CATEGORIES:Adult Events
END:VEVENT
BEGIN:VEVENT
DTSTART;TZID=America/Chicago:20231002T100000
DTEND;TZID=America/Chicago:20231002T110000
DTSTAMP:20260424T110942
CREATED:20230911T211856Z
LAST-MODIFIED:20240328T015244Z
UID:10010393-1696240800-1696244400@wasecalesueurlibraries.com
SUMMARY:Romp and Rhyme Story Time
DESCRIPTION:Waterville Public Library holds Romp and Rhyme story times at 10 am on select dates. From puppets to pumping music\, from bubble machines to banging bands\, these are not your average story time. The Library uses movement\, STEAM activities\, curiosity\, imaginative play\, and active learning to keep kids engaged. Free and open to the public.
URL:https://wasecalesueurlibraries.com/event/romp-and-rhyme-story-time-82/2023-10-02/
LOCATION:Waterville Public Library\, 210 Paquin St\, Waterville\, MN\, 56096\, United States
CATEGORIES:Children's Events,Story Times
GEO:44.2177999;-93.5709706
X-APPLE-STRUCTURED-LOCATION;VALUE=URI;X-ADDRESS=Waterville Public Library 210 Paquin St Waterville MN 56096 United States;X-APPLE-RADIUS=500;X-TITLE=210 Paquin St:geo:-93.5709706,44.2177999
END:VEVENT
BEGIN:VEVENT
DTSTART;TZID=America/Chicago:20231002T100000
DTEND;TZID=America/Chicago:20231002T110000
DTSTAMP:20260424T110942
CREATED:20230929T205241Z
LAST-MODIFIED:20230929T205241Z
UID:10008419-1696240800-1696244400@wasecalesueurlibraries.com
SUMMARY:Scooby-Doo Party
DESCRIPTION:Zoinks! Scooby has been kidnapped! Join the rest of the gang to follow the clues to discover which villain dognapped him! Ages 8-12.
URL:https://wasecalesueurlibraries.com/event/scooby-doo-party-2/
LOCATION:Waseca Public Library\, 408 N State St\, Waseca\, MN\, 56093\, United States
CATEGORIES:Children's Events
GEO:44.0809183;-93.5069008
X-APPLE-STRUCTURED-LOCATION;VALUE=URI;X-ADDRESS=Waseca Public Library 408 N State St Waseca MN 56093 United States;X-APPLE-RADIUS=500;X-TITLE=408 N State St:geo:-93.5069008,44.0809183
END:VEVENT
BEGIN:VEVENT
DTSTART;TZID=America/Chicago:20231002T100000
DTEND;TZID=America/Chicago:20231002T110000
DTSTAMP:20260424T110942
CREATED:20230929T210221Z
LAST-MODIFIED:20230929T210221Z
UID:10010486-1696240800-1696244400@wasecalesueurlibraries.com
SUMMARY:Sesame Street Party
DESCRIPTION:Come on down to where the air is sweet to enjoy games and activities inspired by Sesame Street characters. Ages 3-6. \n 
URL:https://wasecalesueurlibraries.com/event/sesame-street-party-2/
LOCATION:Janesville Public Library\, 100 W 2nd St\, Janesville\, MN\, 56048\, United States
CATEGORIES:Children's Events
GEO:44.1173302;-93.7075406
X-APPLE-STRUCTURED-LOCATION;VALUE=URI;X-ADDRESS=Janesville Public Library 100 W 2nd St Janesville MN 56048 United States;X-APPLE-RADIUS=500;X-TITLE=100 W 2nd St:geo:-93.7075406,44.1173302
END:VEVENT
BEGIN:VEVENT
DTSTART;TZID=America/Chicago:20231002T130000
DTEND;TZID=America/Chicago:20231002T140000
DTSTAMP:20260424T110942
CREATED:20230929T214228Z
LAST-MODIFIED:20230929T214228Z
UID:10010495-1696251600-1696255200@wasecalesueurlibraries.com
SUMMARY:Dare to Self Care for Teens
DESCRIPTION:Go ahead and get your relaxation on. Create donut soap\, make squishies\, and learn about affirmations. Ages 13-18. \n 
URL:https://wasecalesueurlibraries.com/event/dare-to-self-care-for-teens-8/
LOCATION:Waseca Public Library\, 408 N State St\, Waseca\, MN\, 56093\, United States
CATEGORIES:Teen Events
GEO:44.0809183;-93.5069008
X-APPLE-STRUCTURED-LOCATION;VALUE=URI;X-ADDRESS=Waseca Public Library 408 N State St Waseca MN 56093 United States;X-APPLE-RADIUS=500;X-TITLE=408 N State St:geo:-93.5069008,44.0809183
END:VEVENT
BEGIN:VEVENT
DTSTART;TZID=America/Chicago:20231002T180000
DTEND;TZID=America/Chicago:20231002T190000
DTSTAMP:20260424T110942
CREATED:20230929T211354Z
LAST-MODIFIED:20230929T211354Z
UID:10010492-1696269600-1696273200@wasecalesueurlibraries.com
SUMMARY:Create Your Own Shrinky Dinks
DESCRIPTION:Design a bracelet\, necklace\, or keychain charm to fit your personal style. Ages 7-12. \n 
URL:https://wasecalesueurlibraries.com/event/create-your-own-shrinky-dinks-2/
LOCATION:Elysian Public Library\, 202 E Main St\, Elysian\, MN\, 56028\, United States
CATEGORIES:Children's Events
GEO:44.198703;-93.6724641
X-APPLE-STRUCTURED-LOCATION;VALUE=URI;X-ADDRESS=Elysian Public Library 202 E Main St Elysian MN 56028 United States;X-APPLE-RADIUS=500;X-TITLE=202 E Main St:geo:-93.6724641,44.198703
END:VEVENT
BEGIN:VEVENT
DTSTART;TZID=America/Chicago:20231003T093000
DTEND;TZID=America/Chicago:20231003T103000
DTSTAMP:20260424T110942
CREATED:20230511T185543Z
LAST-MODIFIED:20230929T212430Z
UID:10010058-1696325400-1696329000@wasecalesueurlibraries.com
SUMMARY:Romp and Rhyme Story Time
DESCRIPTION:Le Center Public Library holds Romp and Rhyme story times on Tuesdays at 9:30 am. From puppets to pumping music\, from bubble machines to banging bands\, these are not your average story time. The Library uses movement\, STEAM activities\, curiosity\, imaginative play\, and active learning to keep kids engaged. Free and open to the public.
URL:https://wasecalesueurlibraries.com/event/romp-and-rhyme-story-time-80/2023-10-03/
LOCATION:Le Center Public Library\, 10 W Tyrone St\, Le Center\, MN\, 56057\, United States
CATEGORIES:Children's Events,Story Times
GEO:44.3907505;-93.7316339
X-APPLE-STRUCTURED-LOCATION;VALUE=URI;X-ADDRESS=Le Center Public Library 10 W Tyrone St Le Center MN 56057 United States;X-APPLE-RADIUS=500;X-TITLE=10 W Tyrone St:geo:-93.7316339,44.3907505
END:VEVENT
BEGIN:VEVENT
DTSTART;TZID=America/Chicago:20231003T100000
DTEND;TZID=America/Chicago:20231003T103000
DTSTAMP:20260424T110942
CREATED:20230929T212647Z
LAST-MODIFIED:20231024T210100Z
UID:10008425-1696327200-1696329000@wasecalesueurlibraries.com
SUMMARY:Baby Lapsit Romp and Rhyme Story Time
DESCRIPTION:Waseca Public Library holds Romp and Rhyme storytimes for ages 0-3 on Wednesdays at 10:30 am. From puppets to pumping music\, from bubble machines to banging bands\, these are not your average story time. The Library uses movement\, STEAM activities\, curiosity\, imaginative play\, and active learning to keep kids engaged. Free and open to the public.
URL:https://wasecalesueurlibraries.com/event/baby-lapsit-romp-and-rhyme-story-time/2023-10-03/
LOCATION:Waseca Public Library\, 408 N State St\, Waseca\, MN\, 56093\, United States
CATEGORIES:Children's Events,Story Times
GEO:44.0809183;-93.5069008
X-APPLE-STRUCTURED-LOCATION;VALUE=URI;X-ADDRESS=Waseca Public Library 408 N State St Waseca MN 56093 United States;X-APPLE-RADIUS=500;X-TITLE=408 N State St:geo:-93.5069008,44.0809183
END:VEVENT
BEGIN:VEVENT
DTSTART;TZID=America/Chicago:20231003T100000
DTEND;TZID=America/Chicago:20231003T110000
DTSTAMP:20260424T110942
CREATED:20230911T212036Z
LAST-MODIFIED:20240530T182247Z
UID:10010409-1696327200-1696330800@wasecalesueurlibraries.com
SUMMARY:Romp and Rhyme Story Time
DESCRIPTION:Le Sueur Public Library holds Romp and Rhyme story times on Tuesdays at 10 am. From puppets to pumping music\, from bubble machines to banging bands\, these are not your average story time. The Library uses movement\, STEAM activities\, curiosity\, imaginative play\, and active learning to keep kids engaged. Free and open to the public.
URL:https://wasecalesueurlibraries.com/event/romp-and-rhyme-story-time-83/2023-10-03/
LOCATION:Le Sueur Public Library\, 118 Ferry St\, Le Sueur\, MN\, 56058\, United States
CATEGORIES:Children's Events,Story Times
GEO:44.4601702;-93.9161364
X-APPLE-STRUCTURED-LOCATION;VALUE=URI;X-ADDRESS=Le Sueur Public Library 118 Ferry St Le Sueur MN 56058 United States;X-APPLE-RADIUS=500;X-TITLE=118 Ferry St:geo:-93.9161364,44.4601702
END:VEVENT
BEGIN:VEVENT
DTSTART;TZID=America/Chicago:20231003T103000
DTEND;TZID=America/Chicago:20231003T113000
DTSTAMP:20260424T110942
CREATED:20230929T212813Z
LAST-MODIFIED:20240501T173729Z
UID:10008434-1696329000-1696332600@wasecalesueurlibraries.com
SUMMARY:Romp and Rhyme Story Time
DESCRIPTION:Waseca Public Library holds Romp and Rhyme story times at 5:30 pm on select dates. From puppets to pumping music\, from bubble machines to banging bands\, these are not your average story time. The Library uses movement\, STEAM activities\, curiosity\, imaginative play\, and active learning to keep kids engaged. Free and open to the public.
URL:https://wasecalesueurlibraries.com/event/10934/2023-10-03/
LOCATION:Waseca Public Library\, 408 N State St\, Waseca\, MN\, 56093\, United States
CATEGORIES:Children's Events,Story Times
GEO:44.0809183;-93.5069008
X-APPLE-STRUCTURED-LOCATION;VALUE=URI;X-ADDRESS=Waseca Public Library 408 N State St Waseca MN 56093 United States;X-APPLE-RADIUS=500;X-TITLE=408 N State St:geo:-93.5069008,44.0809183
END:VEVENT
BEGIN:VEVENT
DTSTART;TZID=America/Chicago:20231003T154500
DTEND;TZID=America/Chicago:20231003T170000
DTSTAMP:20260424T110942
CREATED:20230929T211616Z
LAST-MODIFIED:20230929T211616Z
UID:10008422-1696347900-1696352400@wasecalesueurlibraries.com
SUMMARY:Back to School Crafts
DESCRIPTION:Celebrate the start of the new school year with a trio of crafts you can use at school! Geared for ages 8-12. \n 
URL:https://wasecalesueurlibraries.com/event/back-to-school-crafts-5/
LOCATION:Waterville Public Library\, 210 Paquin St\, Waterville\, MN\, 56096\, United States
CATEGORIES:Children's Events
GEO:44.2177999;-93.5709706
X-APPLE-STRUCTURED-LOCATION;VALUE=URI;X-ADDRESS=Waterville Public Library 210 Paquin St Waterville MN 56096 United States;X-APPLE-RADIUS=500;X-TITLE=210 Paquin St:geo:-93.5709706,44.2177999
END:VEVENT
BEGIN:VEVENT
DTSTART;TZID=America/Chicago:20231003T160000
DTEND;TZID=America/Chicago:20231003T170000
DTSTAMP:20260424T110942
CREATED:20230724T132153Z
LAST-MODIFIED:20240501T171615Z
UID:10010266-1696348800-1696352400@wasecalesueurlibraries.com
SUMMARY:Waldorf Lego Club
DESCRIPTION:Kids are invited to join our creative Lego-building club. Each event will have a theme to inspire and Legos to build with.
URL:https://wasecalesueurlibraries.com/event/waldorf-lego-club-5/2023-10-03/
LOCATION:Waldorf Public Library\, 119 S Main St\, Waldorf\, MN\, 56091\, United States
CATEGORIES:Children's Events
GEO:43.9365286;-93.697592
X-APPLE-STRUCTURED-LOCATION;VALUE=URI;X-ADDRESS=Waldorf Public Library 119 S Main St Waldorf MN 56091 United States;X-APPLE-RADIUS=500;X-TITLE=119 S Main St:geo:-93.697592,43.9365286
END:VEVENT
END:VCALENDAR