BEGIN:VCALENDAR
VERSION:2.0
PRODID:-//Waseca-Le Sueur Library - ECPv6.15.18//NONSGML v1.0//EN
CALSCALE:GREGORIAN
METHOD:PUBLISH
X-WR-CALNAME:Waseca-Le Sueur Library
X-ORIGINAL-URL:https://wasecalesueurlibraries.com
X-WR-CALDESC:Events for Waseca-Le Sueur Library
REFRESH-INTERVAL;VALUE=DURATION:PT1H
X-Robots-Tag:noindex
X-PUBLISHED-TTL:PT1H
BEGIN:VTIMEZONE
TZID:America/Chicago
BEGIN:DAYLIGHT
TZOFFSETFROM:-0600
TZOFFSETTO:-0500
TZNAME:CDT
DTSTART:20230312T080000
END:DAYLIGHT
BEGIN:STANDARD
TZOFFSETFROM:-0500
TZOFFSETTO:-0600
TZNAME:CST
DTSTART:20231105T070000
END:STANDARD
BEGIN:DAYLIGHT
TZOFFSETFROM:-0600
TZOFFSETTO:-0500
TZNAME:CDT
DTSTART:20240310T080000
END:DAYLIGHT
BEGIN:STANDARD
TZOFFSETFROM:-0500
TZOFFSETTO:-0600
TZNAME:CST
DTSTART:20241103T070000
END:STANDARD
BEGIN:DAYLIGHT
TZOFFSETFROM:-0600
TZOFFSETTO:-0500
TZNAME:CDT
DTSTART:20250309T080000
END:DAYLIGHT
BEGIN:STANDARD
TZOFFSETFROM:-0500
TZOFFSETTO:-0600
TZNAME:CST
DTSTART:20251102T070000
END:STANDARD
END:VTIMEZONE
BEGIN:VEVENT
DTSTART;TZID=America/Chicago:20240529T160000
DTEND;TZID=America/Chicago:20240529T170000
DTSTAMP:20260419T095334
CREATED:20230705T164632Z
LAST-MODIFIED:20240501T173441Z
UID:10010227-1716998400-1717002000@wasecalesueurlibraries.com
SUMMARY:Romp and Rhyme Story Time
DESCRIPTION:Waldorf Public Library holds Romp and Rhyme story times on Wednesdays at 3 pm. From puppets to pumping music\, from bubble machines to banging bands\, these are not your average story time. The Library uses movement\, STEAM activities\, curiosity\, imaginative play\, and active learning to keep kids engaged. Free and open to the public.
URL:https://wasecalesueurlibraries.com/event/romp-and-rhyme-story-time-81/2024-05-29/
LOCATION:Waldorf Public Library\, 119 S Main St\, Waldorf\, MN\, 56091\, United States
CATEGORIES:Children's Events,Story Times
GEO:43.9365286;-93.697592
X-APPLE-STRUCTURED-LOCATION;VALUE=URI;X-ADDRESS=Waldorf Public Library 119 S Main St Waldorf MN 56091 United States;X-APPLE-RADIUS=500;X-TITLE=119 S Main St:geo:-93.697592,43.9365286
END:VEVENT
BEGIN:VEVENT
DTSTART;TZID=America/Chicago:20240529T100000
DTEND;TZID=America/Chicago:20240529T110000
DTSTAMP:20260419T095334
CREATED:20240227T193915Z
LAST-MODIFIED:20240530T180904Z
UID:10010636-1716976800-1716980400@wasecalesueurlibraries.com
SUMMARY:Romp and Rhyme Story Time
DESCRIPTION:New Richland Public Library holds Romp and Rhyme story times on Wednesdays at 10 am. From puppets to pumping music\, from bubble machines to banging bands\, these are not your average story time. The Library uses movement\, STEAM activities\, curiosity\, imaginative play\, and active learning to keep kids engaged. Free and open to the public.
URL:https://wasecalesueurlibraries.com/event/romp-and-rhyme-story-time-87/2024-05-29/
LOCATION:New Richland Public Library\, 129 Broadway Ave S\, New Richland\, MN\, 56072\, United States
CATEGORIES:Children's Events,Story Times
GEO:43.8935599;-93.4938211
X-APPLE-STRUCTURED-LOCATION;VALUE=URI;X-ADDRESS=New Richland Public Library 129 Broadway Ave S New Richland MN 56072 United States;X-APPLE-RADIUS=500;X-TITLE=129 Broadway Ave S:geo:-93.4938211,43.8935599
END:VEVENT
BEGIN:VEVENT
DTSTART;TZID=America/Chicago:20240528T160000
DTEND;TZID=America/Chicago:20240528T170000
DTSTAMP:20260419T095334
CREATED:20230724T132153Z
LAST-MODIFIED:20240501T171615Z
UID:10010300-1716912000-1716915600@wasecalesueurlibraries.com
SUMMARY:Waldorf Lego Club
DESCRIPTION:Kids are invited to join our creative Lego-building club. Each event will have a theme to inspire and Legos to build with.
URL:https://wasecalesueurlibraries.com/event/waldorf-lego-club-5/2024-05-28/
LOCATION:Waldorf Public Library\, 119 S Main St\, Waldorf\, MN\, 56091\, United States
CATEGORIES:Children's Events
GEO:43.9365286;-93.697592
X-APPLE-STRUCTURED-LOCATION;VALUE=URI;X-ADDRESS=Waldorf Public Library 119 S Main St Waldorf MN 56091 United States;X-APPLE-RADIUS=500;X-TITLE=119 S Main St:geo:-93.697592,43.9365286
END:VEVENT
BEGIN:VEVENT
DTSTART;TZID=America/Chicago:20240528T100000
DTEND;TZID=America/Chicago:20240528T110000
DTSTAMP:20260419T095334
CREATED:20240501T172526Z
LAST-MODIFIED:20240530T175859Z
UID:10010702-1716890400-1716894000@wasecalesueurlibraries.com
SUMMARY:Romp and Rhyme Story Time
DESCRIPTION:Le Center Public Library holds Romp and Rhyme story times on Tuesdays at 10 am. From puppets to pumping music\, from bubble machines to banging bands\, these are not your average story time. The Library uses movement\, STEAM activities\, curiosity\, imaginative play\, and active learning to keep kids engaged. Free and open to the public.
URL:https://wasecalesueurlibraries.com/event/12444/2024-05-28/
LOCATION:Le Center Public Library\, 10 W Tyrone St\, Le Center\, MN\, 56057\, United States
CATEGORIES:Children's Events,Story Times
GEO:44.3907505;-93.7316339
X-APPLE-STRUCTURED-LOCATION;VALUE=URI;X-ADDRESS=Le Center Public Library 10 W Tyrone St Le Center MN 56057 United States;X-APPLE-RADIUS=500;X-TITLE=10 W Tyrone St:geo:-93.7316339,44.3907505
END:VEVENT
BEGIN:VEVENT
DTSTART;TZID=America/Chicago:20240524T153000
DTEND;TZID=America/Chicago:20240524T163000
DTSTAMP:20260419T095334
CREATED:20240501T171148Z
LAST-MODIFIED:20240501T171148Z
UID:10010691-1716564600-1716568200@wasecalesueurlibraries.com
SUMMARY:The Secret Science of Cotton Candy
DESCRIPTION:What is cotton candy made of? How do you spin sugar? Why is it sticky? Why do some people call this fairy floss? Learn this and more (while you sample your self-spun cotton candy). Ages 9-12.
URL:https://wasecalesueurlibraries.com/event/the-secret-science-of-cotton-candy-6/
LOCATION:Waldorf Public Library\, 119 S Main St\, Waldorf\, MN\, 56091\, United States
CATEGORIES:Children's Events
GEO:43.9365286;-93.697592
X-APPLE-STRUCTURED-LOCATION;VALUE=URI;X-ADDRESS=Waldorf Public Library 119 S Main St Waldorf MN 56091 United States;X-APPLE-RADIUS=500;X-TITLE=119 S Main St:geo:-93.697592,43.9365286
END:VEVENT
BEGIN:VEVENT
DTSTART;TZID=America/Chicago:20240523T153000
DTEND;TZID=America/Chicago:20240523T163000
DTSTAMP:20260419T095334
CREATED:20240227T193153Z
LAST-MODIFIED:20240501T165654Z
UID:10010623-1716478200-1716481800@wasecalesueurlibraries.com
SUMMARY:Bring Your Own Book Club
DESCRIPTION:Join our book discussion group and chat us up about the books you’ve been reading and share recommendations. Geared for tweens and teens. \n 
URL:https://wasecalesueurlibraries.com/event/bring-your-own-book-club-3/2024-05-23/
LOCATION:Janesville Public Library\, 100 W 2nd St\, Janesville\, MN\, 56048\, United States
CATEGORIES:Children's Events,Teen Events,Tweens
GEO:44.1173302;-93.7075406
X-APPLE-STRUCTURED-LOCATION;VALUE=URI;X-ADDRESS=Janesville Public Library 100 W 2nd St Janesville MN 56048 United States;X-APPLE-RADIUS=500;X-TITLE=100 W 2nd St:geo:-93.7075406,44.1173302
END:VEVENT
BEGIN:VEVENT
DTSTART;TZID=America/Chicago:20240523T093000
DTEND;TZID=America/Chicago:20240523T103000
DTSTAMP:20260419T095334
CREATED:20240328T015144Z
LAST-MODIFIED:20240501T173557Z
UID:10010677-1716456600-1716460200@wasecalesueurlibraries.com
SUMMARY:Romp and Rhyme Story Time
DESCRIPTION:Janesville Public Library holds Romp and Rhyme story times on Thursdays at 9:30 am. From puppets to pumping music\, from bubble machines to banging bands\, these are not your average story time. The Library uses movement\, STEAM activities\, curiosity\, imaginative play\, and active learning to keep kids engaged. Free and open to the public.
URL:https://wasecalesueurlibraries.com/event/romp-and-rhyme-story-time-88/2024-05-23/
LOCATION:Janesville Public Library\, 100 W 2nd St\, Janesville\, MN\, 56048\, United States
CATEGORIES:Children's Events,Story Times
GEO:44.1173302;-93.7075406
X-APPLE-STRUCTURED-LOCATION;VALUE=URI;X-ADDRESS=Janesville Public Library 100 W 2nd St Janesville MN 56048 United States;X-APPLE-RADIUS=500;X-TITLE=100 W 2nd St:geo:-93.7075406,44.1173302
END:VEVENT
BEGIN:VEVENT
DTSTART;TZID=America/Chicago:20240522T160000
DTEND;TZID=America/Chicago:20240522T170000
DTSTAMP:20260419T095334
CREATED:20230705T164632Z
LAST-MODIFIED:20240501T173441Z
UID:10010226-1716393600-1716397200@wasecalesueurlibraries.com
SUMMARY:Romp and Rhyme Story Time
DESCRIPTION:Waldorf Public Library holds Romp and Rhyme story times on Wednesdays at 3 pm. From puppets to pumping music\, from bubble machines to banging bands\, these are not your average story time. The Library uses movement\, STEAM activities\, curiosity\, imaginative play\, and active learning to keep kids engaged. Free and open to the public.
URL:https://wasecalesueurlibraries.com/event/romp-and-rhyme-story-time-81/2024-05-22/
LOCATION:Waldorf Public Library\, 119 S Main St\, Waldorf\, MN\, 56091\, United States
CATEGORIES:Children's Events,Story Times
GEO:43.9365286;-93.697592
X-APPLE-STRUCTURED-LOCATION;VALUE=URI;X-ADDRESS=Waldorf Public Library 119 S Main St Waldorf MN 56091 United States;X-APPLE-RADIUS=500;X-TITLE=119 S Main St:geo:-93.697592,43.9365286
END:VEVENT
BEGIN:VEVENT
DTSTART;TZID=America/Chicago:20240522T100000
DTEND;TZID=America/Chicago:20240522T110000
DTSTAMP:20260419T095334
CREATED:20240227T193915Z
LAST-MODIFIED:20240530T180904Z
UID:10010635-1716372000-1716375600@wasecalesueurlibraries.com
SUMMARY:Romp and Rhyme Story Time
DESCRIPTION:New Richland Public Library holds Romp and Rhyme story times on Wednesdays at 10 am. From puppets to pumping music\, from bubble machines to banging bands\, these are not your average story time. The Library uses movement\, STEAM activities\, curiosity\, imaginative play\, and active learning to keep kids engaged. Free and open to the public.
URL:https://wasecalesueurlibraries.com/event/romp-and-rhyme-story-time-87/2024-05-22/
LOCATION:New Richland Public Library\, 129 Broadway Ave S\, New Richland\, MN\, 56072\, United States
CATEGORIES:Children's Events,Story Times
GEO:43.8935599;-93.4938211
X-APPLE-STRUCTURED-LOCATION;VALUE=URI;X-ADDRESS=New Richland Public Library 129 Broadway Ave S New Richland MN 56072 United States;X-APPLE-RADIUS=500;X-TITLE=129 Broadway Ave S:geo:-93.4938211,43.8935599
END:VEVENT
BEGIN:VEVENT
DTSTART;TZID=America/Chicago:20240521T180000
DTEND;TZID=America/Chicago:20240521T190000
DTSTAMP:20260419T095334
CREATED:20240501T165132Z
LAST-MODIFIED:20240501T165132Z
UID:10008636-1716314400-1716318000@wasecalesueurlibraries.com
SUMMARY:Author Event: R.F. Kuang
DESCRIPTION:Register for a thrilling conversation with R.F. Kuang as she chats with us about her bestselling novel\, Yellowface. Yellowface grapples with questions of diversity\, racism\, and cultural appropriation\, as well as the terrifying alienation of social media. \nRegister now. \nThese events are made possible by the voters of Minnesota through a grant provided by the Traverse des Sioux Library Cooperative\, thanks to a legislative appropriation from the arts and cultural heritage fund.
URL:https://wasecalesueurlibraries.com/event/author-event-r-f-kuang/
LOCATION:Virtual Event\, MN\, United States
CATEGORIES:Adult Events,Author Event
END:VEVENT
BEGIN:VEVENT
DTSTART;TZID=America/Chicago:20240521T160000
DTEND;TZID=America/Chicago:20240521T170000
DTSTAMP:20260419T095334
CREATED:20230911T204422Z
LAST-MODIFIED:20241204T193815Z
UID:10010369-1716307200-1716310800@wasecalesueurlibraries.com
SUMMARY:Le Sueur Lego Club
DESCRIPTION:Kids are invited to join our creative Lego-building club. Each event will have a theme to inspire and Legos to build with.
URL:https://wasecalesueurlibraries.com/event/le-sueur-lego-club-14/2024-05-21/
LOCATION:Le Sueur Public Library\, 118 Ferry St\, Le Sueur\, MN\, 56058\, United States
CATEGORIES:Children's Events
GEO:44.4601702;-93.9161364
X-APPLE-STRUCTURED-LOCATION;VALUE=URI;X-ADDRESS=Le Sueur Public Library 118 Ferry St Le Sueur MN 56058 United States;X-APPLE-RADIUS=500;X-TITLE=118 Ferry St:geo:-93.9161364,44.4601702
END:VEVENT
BEGIN:VEVENT
DTSTART;TZID=America/Chicago:20240521T160000
DTEND;TZID=America/Chicago:20240521T170000
DTSTAMP:20260419T095334
CREATED:20230724T132153Z
LAST-MODIFIED:20240501T171615Z
UID:10010299-1716307200-1716310800@wasecalesueurlibraries.com
SUMMARY:Waldorf Lego Club
DESCRIPTION:Kids are invited to join our creative Lego-building club. Each event will have a theme to inspire and Legos to build with.
URL:https://wasecalesueurlibraries.com/event/waldorf-lego-club-5/2024-05-21/
LOCATION:Waldorf Public Library\, 119 S Main St\, Waldorf\, MN\, 56091\, United States
CATEGORIES:Children's Events
GEO:43.9365286;-93.697592
X-APPLE-STRUCTURED-LOCATION;VALUE=URI;X-ADDRESS=Waldorf Public Library 119 S Main St Waldorf MN 56091 United States;X-APPLE-RADIUS=500;X-TITLE=119 S Main St:geo:-93.697592,43.9365286
END:VEVENT
BEGIN:VEVENT
DTSTART;TZID=America/Chicago:20240521T153000
DTEND;TZID=America/Chicago:20240521T163000
DTSTAMP:20260419T095334
CREATED:20230911T204150Z
LAST-MODIFIED:20241204T193711Z
UID:10010349-1716305400-1716309000@wasecalesueurlibraries.com
SUMMARY:Janesville Lego Club
DESCRIPTION:Kids are invited to join our creative Lego-building club. Each event will have a theme to inspire and Legos to build with.
URL:https://wasecalesueurlibraries.com/event/janesville-lego-club-9/2024-05-21/
LOCATION:Janesville Public Library\, 100 W 2nd St\, Janesville\, MN\, 56048\, United States
CATEGORIES:Children's Events
GEO:44.1173302;-93.7075406
X-APPLE-STRUCTURED-LOCATION;VALUE=URI;X-ADDRESS=Janesville Public Library 100 W 2nd St Janesville MN 56048 United States;X-APPLE-RADIUS=500;X-TITLE=100 W 2nd St:geo:-93.7075406,44.1173302
END:VEVENT
BEGIN:VEVENT
DTSTART;TZID=America/Chicago:20240521T100000
DTEND;TZID=America/Chicago:20240521T110000
DTSTAMP:20260419T095334
CREATED:20240501T172526Z
LAST-MODIFIED:20240530T175859Z
UID:10010701-1716285600-1716289200@wasecalesueurlibraries.com
SUMMARY:Romp and Rhyme Story Time
DESCRIPTION:Le Center Public Library holds Romp and Rhyme story times on Tuesdays at 10 am. From puppets to pumping music\, from bubble machines to banging bands\, these are not your average story time. The Library uses movement\, STEAM activities\, curiosity\, imaginative play\, and active learning to keep kids engaged. Free and open to the public.
URL:https://wasecalesueurlibraries.com/event/12444/2024-05-21/
LOCATION:Le Center Public Library\, 10 W Tyrone St\, Le Center\, MN\, 56057\, United States
CATEGORIES:Children's Events,Story Times
GEO:44.3907505;-93.7316339
X-APPLE-STRUCTURED-LOCATION;VALUE=URI;X-ADDRESS=Le Center Public Library 10 W Tyrone St Le Center MN 56057 United States;X-APPLE-RADIUS=500;X-TITLE=10 W Tyrone St:geo:-93.7316339,44.3907505
END:VEVENT
BEGIN:VEVENT
DTSTART;TZID=America/Chicago:20240520T180000
DTEND;TZID=America/Chicago:20240520T190000
DTSTAMP:20260419T095334
CREATED:20240501T164432Z
LAST-MODIFIED:20240501T164432Z
UID:10008631-1716228000-1716231600@wasecalesueurlibraries.com
SUMMARY:Author Event: Laura Moher
DESCRIPTION:Join us for a conversation with the author of Curves for Days and the upcoming What She’s Having. \n“It’s easy to root for these deserving and well-matched characters on their bumpy road to love\, and the charming small-town setting only adds to the appeal of this complex yet cozy tale. An emphasis on body positivity combines with heartfelt romance to make this a winner.” — Publishers Weekly \nThis program is made possible by the voters of Minnesota through a grant provided by the Traverse des Sioux Library Cooperative\, thanks to a legislative appropriation from the arts and cultural heritage fund.
URL:https://wasecalesueurlibraries.com/event/author-event-laura-moher/
LOCATION:Waseca Public Library\, 408 N State St\, Waseca\, MN\, 56093\, United States
CATEGORIES:Adult Events,Author Event
GEO:44.0809183;-93.5069008
X-APPLE-STRUCTURED-LOCATION;VALUE=URI;X-ADDRESS=Waseca Public Library 408 N State St Waseca MN 56093 United States;X-APPLE-RADIUS=500;X-TITLE=408 N State St:geo:-93.5069008,44.0809183
END:VEVENT
BEGIN:VEVENT
DTSTART;TZID=America/Chicago:20240520T170000
DTEND;TZID=America/Chicago:20240520T180000
DTSTAMP:20260419T095334
CREATED:20230705T170505Z
LAST-MODIFIED:20240524T143852Z
UID:10008323-1716224400-1716228000@wasecalesueurlibraries.com
SUMMARY:Bring Your Own Book Club
DESCRIPTION:Join our book discussion group and chat us up about the books you’ve been reading. Geared for adults. \n 
URL:https://wasecalesueurlibraries.com/event/bring-your-own-book-club/2024-05-20/
LOCATION:Janesville Public Library\, 100 W 2nd St\, Janesville\, MN\, 56048\, United States
CATEGORIES:Adult Events,Book Clubs
GEO:44.1173302;-93.7075406
X-APPLE-STRUCTURED-LOCATION;VALUE=URI;X-ADDRESS=Janesville Public Library 100 W 2nd St Janesville MN 56048 United States;X-APPLE-RADIUS=500;X-TITLE=100 W 2nd St:geo:-93.7075406,44.1173302
END:VEVENT
BEGIN:VEVENT
DTSTART;TZID=America/Chicago:20240518T160000
DTEND;TZID=America/Chicago:20240518T170000
DTSTAMP:20260419T095334
CREATED:20240501T165846Z
LAST-MODIFIED:20240501T165846Z
UID:10008640-1716048000-1716051600@wasecalesueurlibraries.com
SUMMARY:Books and Brews
DESCRIPTION:It’s the perfect combo of bookworm babble and beer. Pick up a copy of by Daniel Mason at Waseca Public Library and discuss it at Half Pint Brewing Company. \nMay 18th 4 pm\nHalf Pint Brewing Company\, Waseca
URL:https://wasecalesueurlibraries.com/event/books-and-brews-28/
LOCATION:Half-Pint Brewery\, 40099 150th St\, Waseca\, MN\, 56093\, United States
CATEGORIES:Adult Events,Book Clubs
GEO:44.1393696;-93.4682239
X-APPLE-STRUCTURED-LOCATION;VALUE=URI;X-ADDRESS=Half-Pint Brewery 40099 150th St Waseca MN 56093 United States;X-APPLE-RADIUS=500;X-TITLE=40099 150th St:geo:-93.4682239,44.1393696
END:VEVENT
BEGIN:VEVENT
DTSTART;TZID=America/Chicago:20240518T100000
DTEND;TZID=America/Chicago:20240518T110000
DTSTAMP:20260419T095334
CREATED:20240530T175620Z
LAST-MODIFIED:20240530T175620Z
UID:10010775-1716026400-1716030000@wasecalesueurlibraries.com
SUMMARY:Little Explorers
DESCRIPTION:Enjoy a playdate with interactive sensory activities for kids 2-5\, including mold and dig\, scoop and pour\, snap and pop\, count and sort\, & color and texture.
URL:https://wasecalesueurlibraries.com/event/little-explorers-18/
LOCATION:New Richland Public Library\, 129 Broadway Ave S\, New Richland\, MN\, 56072\, United States
CATEGORIES:Children's Events
GEO:43.8935599;-93.4938211
X-APPLE-STRUCTURED-LOCATION;VALUE=URI;X-ADDRESS=New Richland Public Library 129 Broadway Ave S New Richland MN 56072 United States;X-APPLE-RADIUS=500;X-TITLE=129 Broadway Ave S:geo:-93.4938211,43.8935599
END:VEVENT
BEGIN:VEVENT
DTSTART;TZID=America/Chicago:20240518T100000
DTEND;TZID=America/Chicago:20240518T110000
DTSTAMP:20260419T095334
CREATED:20240501T171509Z
LAST-MODIFIED:20240501T171509Z
UID:10010694-1716026400-1716030000@wasecalesueurlibraries.com
SUMMARY:Kindergarten Card Party
DESCRIPTION:Come to the library to collect your library card\, play games\, pose with a GIANT library card\, boogie down at a dance party\, collect giveaways\, and more! Exclusively for kindergarteners and their families.
URL:https://wasecalesueurlibraries.com/event/kindergarten-card-party-18/
LOCATION:Montgomery Public Library\, 104 Oak Ave SE\, Montgomery\, MN\, 56069\, United States
CATEGORIES:Children's Events
GEO:44.4355889;-93.5810028
X-APPLE-STRUCTURED-LOCATION;VALUE=URI;X-ADDRESS=Montgomery Public Library 104 Oak Ave SE Montgomery MN 56069 United States;X-APPLE-RADIUS=500;X-TITLE=104 Oak Ave SE:geo:-93.5810028,44.4355889
END:VEVENT
BEGIN:VEVENT
DTSTART;TZID=America/Chicago:20240518T080000
DTEND;TZID=America/Chicago:20240518T160000
DTSTAMP:20260419T095334
CREATED:20240501T174535Z
LAST-MODIFIED:20240501T174535Z
UID:10008654-1716019200-1716048000@wasecalesueurlibraries.com
SUMMARY:Book Sale
DESCRIPTION:Our Friends of the Library group is selling books for all ages. Help us raise money for our library!
URL:https://wasecalesueurlibraries.com/event/book-sale-12/
LOCATION:Langerud’s Garage\, 503 Marion St\, Waterville\, 56096\, United States
CATEGORIES:Book Sales,Friends of the Library Event
END:VEVENT
BEGIN:VEVENT
DTSTART;TZID=America/Chicago:20240516T180000
DTEND;TZID=America/Chicago:20240516T190000
DTSTAMP:20260419T095334
CREATED:20240501T172314Z
LAST-MODIFIED:20240501T172314Z
UID:10010698-1715882400-1715886000@wasecalesueurlibraries.com
SUMMARY:Mother-Daughter Book Club
DESCRIPTION:Geared for girls in grades 3-6 and a significant adult female\, this book club features the latest children’s books and fun activities. May’s book club selection is Camp Famous by Jennifer Blecher.
URL:https://wasecalesueurlibraries.com/event/mother-daughter-book-club-24/
LOCATION:Waseca Public Library\, 408 N State St\, Waseca\, MN\, 56093\, United States
CATEGORIES:Book Clubs,Children's Events
GEO:44.0809183;-93.5069008
X-APPLE-STRUCTURED-LOCATION;VALUE=URI;X-ADDRESS=Waseca Public Library 408 N State St Waseca MN 56093 United States;X-APPLE-RADIUS=500;X-TITLE=408 N State St:geo:-93.5069008,44.0809183
END:VEVENT
BEGIN:VEVENT
DTSTART;TZID=America/Chicago:20240516T093000
DTEND;TZID=America/Chicago:20240516T103000
DTSTAMP:20260419T095334
CREATED:20240328T015144Z
LAST-MODIFIED:20240501T173557Z
UID:10010676-1715851800-1715855400@wasecalesueurlibraries.com
SUMMARY:Romp and Rhyme Story Time
DESCRIPTION:Janesville Public Library holds Romp and Rhyme story times on Thursdays at 9:30 am. From puppets to pumping music\, from bubble machines to banging bands\, these are not your average story time. The Library uses movement\, STEAM activities\, curiosity\, imaginative play\, and active learning to keep kids engaged. Free and open to the public.
URL:https://wasecalesueurlibraries.com/event/romp-and-rhyme-story-time-88/2024-05-16/
LOCATION:Janesville Public Library\, 100 W 2nd St\, Janesville\, MN\, 56048\, United States
CATEGORIES:Children's Events,Story Times
GEO:44.1173302;-93.7075406
X-APPLE-STRUCTURED-LOCATION;VALUE=URI;X-ADDRESS=Janesville Public Library 100 W 2nd St Janesville MN 56048 United States;X-APPLE-RADIUS=500;X-TITLE=100 W 2nd St:geo:-93.7075406,44.1173302
END:VEVENT
BEGIN:VEVENT
DTSTART;TZID=America/Chicago:20240515T160000
DTEND;TZID=America/Chicago:20240515T170000
DTSTAMP:20260419T095334
CREATED:20230705T164632Z
LAST-MODIFIED:20240501T173441Z
UID:10010225-1715788800-1715792400@wasecalesueurlibraries.com
SUMMARY:Romp and Rhyme Story Time
DESCRIPTION:Waldorf Public Library holds Romp and Rhyme story times on Wednesdays at 3 pm. From puppets to pumping music\, from bubble machines to banging bands\, these are not your average story time. The Library uses movement\, STEAM activities\, curiosity\, imaginative play\, and active learning to keep kids engaged. Free and open to the public.
URL:https://wasecalesueurlibraries.com/event/romp-and-rhyme-story-time-81/2024-05-15/
LOCATION:Waldorf Public Library\, 119 S Main St\, Waldorf\, MN\, 56091\, United States
CATEGORIES:Children's Events,Story Times
GEO:43.9365286;-93.697592
X-APPLE-STRUCTURED-LOCATION;VALUE=URI;X-ADDRESS=Waldorf Public Library 119 S Main St Waldorf MN 56091 United States;X-APPLE-RADIUS=500;X-TITLE=119 S Main St:geo:-93.697592,43.9365286
END:VEVENT
BEGIN:VEVENT
DTSTART;TZID=America/Chicago:20240515T130000
DTEND;TZID=America/Chicago:20240515T140000
DTSTAMP:20260419T095334
CREATED:20240501T165438Z
LAST-MODIFIED:20240501T165438Z
UID:10008638-1715778000-1715781600@wasecalesueurlibraries.com
SUMMARY:Elysian Book Talk
DESCRIPTION:Join our book discussion group and chat us up about these compelling books. Geared for adults. \nThis month’s book:\nThe Cartographer of No Man’s Land by P.S. Duffy
URL:https://wasecalesueurlibraries.com/event/elysian-book-talk-3/
LOCATION:Elysian Public Library\, 202 E Main St\, Elysian\, MN\, 56028\, United States
CATEGORIES:Adult Events,Book Clubs
GEO:44.198703;-93.6724641
X-APPLE-STRUCTURED-LOCATION;VALUE=URI;X-ADDRESS=Elysian Public Library 202 E Main St Elysian MN 56028 United States;X-APPLE-RADIUS=500;X-TITLE=202 E Main St:geo:-93.6724641,44.198703
END:VEVENT
BEGIN:VEVENT
DTSTART;TZID=America/Chicago:20240515T100000
DTEND;TZID=America/Chicago:20240515T110000
DTSTAMP:20260419T095334
CREATED:20240227T193915Z
LAST-MODIFIED:20240530T180904Z
UID:10010634-1715767200-1715770800@wasecalesueurlibraries.com
SUMMARY:Romp and Rhyme Story Time
DESCRIPTION:New Richland Public Library holds Romp and Rhyme story times on Wednesdays at 10 am. From puppets to pumping music\, from bubble machines to banging bands\, these are not your average story time. The Library uses movement\, STEAM activities\, curiosity\, imaginative play\, and active learning to keep kids engaged. Free and open to the public.
URL:https://wasecalesueurlibraries.com/event/romp-and-rhyme-story-time-87/2024-05-15/
LOCATION:New Richland Public Library\, 129 Broadway Ave S\, New Richland\, MN\, 56072\, United States
CATEGORIES:Children's Events,Story Times
GEO:43.8935599;-93.4938211
X-APPLE-STRUCTURED-LOCATION;VALUE=URI;X-ADDRESS=New Richland Public Library 129 Broadway Ave S New Richland MN 56072 United States;X-APPLE-RADIUS=500;X-TITLE=129 Broadway Ave S:geo:-93.4938211,43.8935599
END:VEVENT
BEGIN:VEVENT
DTSTART;TZID=America/Chicago:20240514T170000
DTEND;TZID=America/Chicago:20240514T180000
DTSTAMP:20260419T095334
CREATED:20240501T174005Z
LAST-MODIFIED:20240501T174005Z
UID:10010718-1715706000-1715709600@wasecalesueurlibraries.com
SUMMARY:Teen Book Cover Keychains
DESCRIPTION:Create a bookish keychain. All supplies provided. Ages 13-18.
URL:https://wasecalesueurlibraries.com/event/teen-book-cover-keychains/
LOCATION:Janesville Public Library\, 100 W 2nd St\, Janesville\, MN\, 56048\, United States
CATEGORIES:Teen Events
GEO:44.1173302;-93.7075406
X-APPLE-STRUCTURED-LOCATION;VALUE=URI;X-ADDRESS=Janesville Public Library 100 W 2nd St Janesville MN 56048 United States;X-APPLE-RADIUS=500;X-TITLE=100 W 2nd St:geo:-93.7075406,44.1173302
END:VEVENT
BEGIN:VEVENT
DTSTART;TZID=America/Chicago:20240514T160000
DTEND;TZID=America/Chicago:20240514T170000
DTSTAMP:20260419T095334
CREATED:20230724T132153Z
LAST-MODIFIED:20240501T171615Z
UID:10010298-1715702400-1715706000@wasecalesueurlibraries.com
SUMMARY:Waldorf Lego Club
DESCRIPTION:Kids are invited to join our creative Lego-building club. Each event will have a theme to inspire and Legos to build with.
URL:https://wasecalesueurlibraries.com/event/waldorf-lego-club-5/2024-05-14/
LOCATION:Waldorf Public Library\, 119 S Main St\, Waldorf\, MN\, 56091\, United States
CATEGORIES:Children's Events
GEO:43.9365286;-93.697592
X-APPLE-STRUCTURED-LOCATION;VALUE=URI;X-ADDRESS=Waldorf Public Library 119 S Main St Waldorf MN 56091 United States;X-APPLE-RADIUS=500;X-TITLE=119 S Main St:geo:-93.697592,43.9365286
END:VEVENT
BEGIN:VEVENT
DTSTART;TZID=America/Chicago:20240514T100000
DTEND;TZID=America/Chicago:20240514T110000
DTSTAMP:20260419T095334
CREATED:20240501T172526Z
LAST-MODIFIED:20240530T175859Z
UID:10010700-1715680800-1715684400@wasecalesueurlibraries.com
SUMMARY:Romp and Rhyme Story Time
DESCRIPTION:Le Center Public Library holds Romp and Rhyme story times on Tuesdays at 10 am. From puppets to pumping music\, from bubble machines to banging bands\, these are not your average story time. The Library uses movement\, STEAM activities\, curiosity\, imaginative play\, and active learning to keep kids engaged. Free and open to the public.
URL:https://wasecalesueurlibraries.com/event/12444/2024-05-14/
LOCATION:Le Center Public Library\, 10 W Tyrone St\, Le Center\, MN\, 56057\, United States
CATEGORIES:Children's Events,Story Times
GEO:44.3907505;-93.7316339
X-APPLE-STRUCTURED-LOCATION;VALUE=URI;X-ADDRESS=Le Center Public Library 10 W Tyrone St Le Center MN 56057 United States;X-APPLE-RADIUS=500;X-TITLE=10 W Tyrone St:geo:-93.7316339,44.3907505
END:VEVENT
BEGIN:VEVENT
DTSTART;TZID=America/Chicago:20240513T180000
DTEND;TZID=America/Chicago:20240513T190000
DTSTAMP:20260419T095334
CREATED:20240501T172043Z
LAST-MODIFIED:20240501T172043Z
UID:10010696-1715623200-1715626800@wasecalesueurlibraries.com
SUMMARY:Mermaid Story Time Party
DESCRIPTION:Enjoy mermaid stories\, undersea exploration\, treasure sorting\, and mermaid games! Ages 3-5\, with an adult.
URL:https://wasecalesueurlibraries.com/event/mermaid-story-time-party-2/
LOCATION:Waterville Public Library\, 210 Paquin St\, Waterville\, MN\, 56096\, United States
CATEGORIES:Children's Events
GEO:44.2177999;-93.5709706
X-APPLE-STRUCTURED-LOCATION;VALUE=URI;X-ADDRESS=Waterville Public Library 210 Paquin St Waterville MN 56096 United States;X-APPLE-RADIUS=500;X-TITLE=210 Paquin St:geo:-93.5709706,44.2177999
END:VEVENT
BEGIN:VEVENT
DTSTART;TZID=America/Chicago:20240513T180000
DTEND;TZID=America/Chicago:20240513T190000
DTSTAMP:20260419T095334
CREATED:20240501T171945Z
LAST-MODIFIED:20240501T171945Z
UID:10010695-1715623200-1715626800@wasecalesueurlibraries.com
SUMMARY:Mister Rogers' Neighborhood Party
DESCRIPTION:Explore the different themes of Mr. Roger’s Neighborhood by exploring emotions\, telling stories\, sharing kindness\, and identifying ways to be a good community helper and friend. Ages 3-6.
URL:https://wasecalesueurlibraries.com/event/mister-rogers-neighborhood-party-4/
LOCATION:Elysian Public Library\, 202 E Main St\, Elysian\, MN\, 56028\, United States
CATEGORIES:Children's Events
GEO:44.198703;-93.6724641
X-APPLE-STRUCTURED-LOCATION;VALUE=URI;X-ADDRESS=Elysian Public Library 202 E Main St Elysian MN 56028 United States;X-APPLE-RADIUS=500;X-TITLE=202 E Main St:geo:-93.6724641,44.198703
END:VEVENT
END:VCALENDAR