BEGIN:VCALENDAR
VERSION:2.0
PRODID:-//Waseca-Le Sueur Library - ECPv6.15.20//NONSGML v1.0//EN
CALSCALE:GREGORIAN
METHOD:PUBLISH
X-WR-CALNAME:Waseca-Le Sueur Library
X-ORIGINAL-URL:https://wasecalesueurlibraries.com
X-WR-CALDESC:Events for Waseca-Le Sueur Library
REFRESH-INTERVAL;VALUE=DURATION:PT1H
X-Robots-Tag:noindex
X-PUBLISHED-TTL:PT1H
BEGIN:VTIMEZONE
TZID:America/Chicago
BEGIN:DAYLIGHT
TZOFFSETFROM:-0600
TZOFFSETTO:-0500
TZNAME:CDT
DTSTART:20220313T080000
END:DAYLIGHT
BEGIN:STANDARD
TZOFFSETFROM:-0500
TZOFFSETTO:-0600
TZNAME:CST
DTSTART:20221106T070000
END:STANDARD
BEGIN:DAYLIGHT
TZOFFSETFROM:-0600
TZOFFSETTO:-0500
TZNAME:CDT
DTSTART:20230312T080000
END:DAYLIGHT
BEGIN:STANDARD
TZOFFSETFROM:-0500
TZOFFSETTO:-0600
TZNAME:CST
DTSTART:20231105T070000
END:STANDARD
BEGIN:DAYLIGHT
TZOFFSETFROM:-0600
TZOFFSETTO:-0500
TZNAME:CDT
DTSTART:20240310T080000
END:DAYLIGHT
BEGIN:STANDARD
TZOFFSETFROM:-0500
TZOFFSETTO:-0600
TZNAME:CST
DTSTART:20241103T070000
END:STANDARD
END:VTIMEZONE
BEGIN:VEVENT
DTSTART;TZID=America/Chicago:20230925T180000
DTEND;TZID=America/Chicago:20230925T190000
DTSTAMP:20260424T181548
CREATED:20230705T170505Z
LAST-MODIFIED:20240524T143852Z
UID:10008315-1695664800-1695668400@wasecalesueurlibraries.com
SUMMARY:Bring Your Own Book Club
DESCRIPTION:Join our book discussion group and chat us up about the books you’ve been reading. Geared for adults. \n 
URL:https://wasecalesueurlibraries.com/event/bring-your-own-book-club/2023-09-25/
LOCATION:Janesville Public Library\, 100 W 2nd St\, Janesville\, MN\, 56048\, United States
CATEGORIES:Adult Events,Book Clubs
GEO:44.1173302;-93.7075406
X-APPLE-STRUCTURED-LOCATION;VALUE=URI;X-ADDRESS=Janesville Public Library 100 W 2nd St Janesville MN 56048 United States;X-APPLE-RADIUS=500;X-TITLE=100 W 2nd St:geo:-93.7075406,44.1173302
END:VEVENT
BEGIN:VEVENT
DTSTART;TZID=America/Chicago:20230925T173000
DTEND;TZID=America/Chicago:20230925T183000
DTSTAMP:20260424T181548
CREATED:20230911T203422Z
LAST-MODIFIED:20230911T203422Z
UID:10010329-1695663000-1695666600@wasecalesueurlibraries.com
SUMMARY:Macrame Workshop
DESCRIPTION:Creativebug instructor Emily Katz will teach how to make her signature bohemian wall hanging. Geared for adults. \n 
URL:https://wasecalesueurlibraries.com/event/macrame-workshop/
LOCATION:Le Center Public Library\, 10 W Tyrone St\, Le Center\, MN\, 56057\, United States
CATEGORIES:Adult Events
GEO:44.3907505;-93.7316339
X-APPLE-STRUCTURED-LOCATION;VALUE=URI;X-ADDRESS=Le Center Public Library 10 W Tyrone St Le Center MN 56057 United States;X-APPLE-RADIUS=500;X-TITLE=10 W Tyrone St:geo:-93.7316339,44.3907505
END:VEVENT
BEGIN:VEVENT
DTSTART;TZID=America/Chicago:20230925T100000
DTEND;TZID=America/Chicago:20230925T110000
DTSTAMP:20260424T181548
CREATED:20230911T211856Z
LAST-MODIFIED:20240328T015244Z
UID:10010392-1695636000-1695639600@wasecalesueurlibraries.com
SUMMARY:Romp and Rhyme Story Time
DESCRIPTION:Waterville Public Library holds Romp and Rhyme story times at 10 am on select dates. From puppets to pumping music\, from bubble machines to banging bands\, these are not your average story time. The Library uses movement\, STEAM activities\, curiosity\, imaginative play\, and active learning to keep kids engaged. Free and open to the public.
URL:https://wasecalesueurlibraries.com/event/romp-and-rhyme-story-time-82/2023-09-25/
LOCATION:Waterville Public Library\, 210 Paquin St\, Waterville\, MN\, 56096\, United States
CATEGORIES:Children's Events,Story Times
GEO:44.2177999;-93.5709706
X-APPLE-STRUCTURED-LOCATION;VALUE=URI;X-ADDRESS=Waterville Public Library 210 Paquin St Waterville MN 56096 United States;X-APPLE-RADIUS=500;X-TITLE=210 Paquin St:geo:-93.5709706,44.2177999
END:VEVENT
BEGIN:VEVENT
DTSTART;TZID=America/Chicago:20230921T180000
DTEND;TZID=America/Chicago:20230921T190000
DTSTAMP:20260424T181548
CREATED:20230911T205520Z
LAST-MODIFIED:20230911T205520Z
UID:10008385-1695319200-1695322800@wasecalesueurlibraries.com
SUMMARY:Mother-Daughter Book Club
DESCRIPTION:Geared for girls in grades 3-6 and a significant adult female\, this book club features the latest children’s books and fun activities. September’s book club selection is Odder by Katherine Applegate.
URL:https://wasecalesueurlibraries.com/event/mother-daughter-book-club-17/
LOCATION:MN
CATEGORIES:Book Clubs,Children's Events
END:VEVENT
BEGIN:VEVENT
DTSTART;TZID=America/Chicago:20230921T160000
DTEND;TZID=America/Chicago:20230921T170000
DTSTAMP:20260424T181548
CREATED:20230911T204547Z
LAST-MODIFIED:20230911T204547Z
UID:10008377-1695312000-1695315600@wasecalesueurlibraries.com
SUMMARY:Create Your Own Shrinky Dinks
DESCRIPTION:Design a bracelet\, necklace\, or keychain charm to fit your personal style. Ages 7-12. \n 
URL:https://wasecalesueurlibraries.com/event/create-your-own-shrinky-dinks/
LOCATION:Le Sueur Public Library\, 118 Ferry St\, Le Sueur\, MN\, 56058\, United States
CATEGORIES:Children's Events
GEO:44.4601702;-93.9161364
X-APPLE-STRUCTURED-LOCATION;VALUE=URI;X-ADDRESS=Le Sueur Public Library 118 Ferry St Le Sueur MN 56058 United States;X-APPLE-RADIUS=500;X-TITLE=118 Ferry St:geo:-93.9161364,44.4601702
END:VEVENT
BEGIN:VEVENT
DTSTART;TZID=America/Chicago:20230921T154500
DTEND;TZID=America/Chicago:20230921T170000
DTSTAMP:20260424T181548
CREATED:20230911T204505Z
LAST-MODIFIED:20240328T010639Z
UID:10008369-1695311100-1695315600@wasecalesueurlibraries.com
SUMMARY:Waterville Lego Club
DESCRIPTION:Kids are invited to join our creative Lego-building club. Each event will have a theme to inspire and Legos to build with.
URL:https://wasecalesueurlibraries.com/event/waterville-lego-club/2023-09-21/
LOCATION:Waterville Public Library\, 210 Paquin St\, Waterville\, MN\, 56096\, United States
CATEGORIES:Children's Events
GEO:44.2177999;-93.5709706
X-APPLE-STRUCTURED-LOCATION;VALUE=URI;X-ADDRESS=Waterville Public Library 210 Paquin St Waterville MN 56096 United States;X-APPLE-RADIUS=500;X-TITLE=210 Paquin St:geo:-93.5709706,44.2177999
END:VEVENT
BEGIN:VEVENT
DTSTART;TZID=America/Chicago:20230921T100000
DTEND;TZID=America/Chicago:20230921T110000
DTSTAMP:20260424T181548
CREATED:20230911T212416Z
LAST-MODIFIED:20240227T194635Z
UID:10010462-1695290400-1695294000@wasecalesueurlibraries.com
SUMMARY:Romp and Rhyme Story Time
DESCRIPTION:Elysian Area Library holds Romp and Rhyme story times at 10 am on select dates. From puppets to pumping music\, from bubble machines to banging bands\, these are not your average story time. The Library uses movement\, STEAM activities\, curiosity\, imaginative play\, and active learning to keep kids engaged. Free and open to the public.
URL:https://wasecalesueurlibraries.com/event/romp-and-rhyme-story-time-86/2023-09-21/
LOCATION:Elysian Public Library\, 202 E Main St\, Elysian\, MN\, 56028\, United States
CATEGORIES:Children's Events,Story Times
GEO:44.198703;-93.6724641
X-APPLE-STRUCTURED-LOCATION;VALUE=URI;X-ADDRESS=Elysian Public Library 202 E Main St Elysian MN 56028 United States;X-APPLE-RADIUS=500;X-TITLE=202 E Main St:geo:-93.6724641,44.198703
END:VEVENT
BEGIN:VEVENT
DTSTART;TZID=America/Chicago:20230921T093000
DTEND;TZID=America/Chicago:20230921T103000
DTSTAMP:20260424T181548
CREATED:20230911T212327Z
LAST-MODIFIED:20230929T213013Z
UID:10010454-1695288600-1695292200@wasecalesueurlibraries.com
SUMMARY:Romp and Rhyme Story Time
DESCRIPTION:Janesville Public Library holds Romp and Rhyme story times on Thursdays at 9:30 am. From puppets to pumping music\, from bubble machines to banging bands\, these are not your average story time. The Library uses movement\, STEAM activities\, curiosity\, imaginative play\, and active learning to keep kids engaged. Free and open to the public.
URL:https://wasecalesueurlibraries.com/event/romp-and-rhyme-story-time-85/2023-09-21/
LOCATION:Janesville Public Library\, 100 W 2nd St\, Janesville\, MN\, 56048\, United States
CATEGORIES:Children's Events,Story Times
GEO:44.1173302;-93.7075406
X-APPLE-STRUCTURED-LOCATION;VALUE=URI;X-ADDRESS=Janesville Public Library 100 W 2nd St Janesville MN 56048 United States;X-APPLE-RADIUS=500;X-TITLE=100 W 2nd St:geo:-93.7075406,44.1173302
END:VEVENT
BEGIN:VEVENT
DTSTART;TZID=America/Chicago:20230920T180000
DTEND;TZID=America/Chicago:20230920T190000
DTSTAMP:20260424T181548
CREATED:20230911T210613Z
LAST-MODIFIED:20230911T210613Z
UID:10010376-1695232800-1695236400@wasecalesueurlibraries.com
SUMMARY:Book Talk
DESCRIPTION:Join our book discussion group and chat us up about these compelling books. Geared for adults. \nThis month’s book is: \nQuestions I Am Asked about the Holocaust by Hédi Fried \n 
URL:https://wasecalesueurlibraries.com/event/book-talk-8/
LOCATION:Waterville Public Library\, 210 Paquin St\, Waterville\, MN\, 56096\, United States
CATEGORIES:Adult Events,Book Clubs
GEO:44.2177999;-93.5709706
X-APPLE-STRUCTURED-LOCATION;VALUE=URI;X-ADDRESS=Waterville Public Library 210 Paquin St Waterville MN 56096 United States;X-APPLE-RADIUS=500;X-TITLE=210 Paquin St:geo:-93.5709706,44.2177999
END:VEVENT
BEGIN:VEVENT
DTSTART;TZID=America/Chicago:20230920T160000
DTEND;TZID=America/Chicago:20230920T170000
DTSTAMP:20260424T181548
CREATED:20230705T164632Z
LAST-MODIFIED:20240501T173441Z
UID:10010191-1695225600-1695229200@wasecalesueurlibraries.com
SUMMARY:Romp and Rhyme Story Time
DESCRIPTION:Waldorf Public Library holds Romp and Rhyme story times on Wednesdays at 3 pm. From puppets to pumping music\, from bubble machines to banging bands\, these are not your average story time. The Library uses movement\, STEAM activities\, curiosity\, imaginative play\, and active learning to keep kids engaged. Free and open to the public.
URL:https://wasecalesueurlibraries.com/event/romp-and-rhyme-story-time-81/2023-09-20/
LOCATION:Waldorf Public Library\, 119 S Main St\, Waldorf\, MN\, 56091\, United States
CATEGORIES:Children's Events,Story Times
GEO:43.9365286;-93.697592
X-APPLE-STRUCTURED-LOCATION;VALUE=URI;X-ADDRESS=Waldorf Public Library 119 S Main St Waldorf MN 56091 United States;X-APPLE-RADIUS=500;X-TITLE=119 S Main St:geo:-93.697592,43.9365286
END:VEVENT
BEGIN:VEVENT
DTSTART;TZID=America/Chicago:20230920T153000
DTEND;TZID=America/Chicago:20230920T170000
DTSTAMP:20260424T181548
CREATED:20230911T203914Z
LAST-MODIFIED:20230911T203914Z
UID:10010334-1695223800-1695229200@wasecalesueurlibraries.com
SUMMARY:Kano Star Wars
DESCRIPTION:Use coding and the force to swing a Lightsaber\, levitate Yoda\, fly an X-Wing\, fill the Millennium Falcon with Porgs\, push Stormtroopers\, add sound effects and more! Ages 7-12. \n 
URL:https://wasecalesueurlibraries.com/event/kano-star-wars/
LOCATION:Montgomery Public Library\, 104 Oak Ave SE\, Montgomery\, MN\, 56069\, United States
CATEGORIES:Children's Events
GEO:44.4355889;-93.5810028
X-APPLE-STRUCTURED-LOCATION;VALUE=URI;X-ADDRESS=Montgomery Public Library 104 Oak Ave SE Montgomery MN 56069 United States;X-APPLE-RADIUS=500;X-TITLE=104 Oak Ave SE:geo:-93.5810028,44.4355889
END:VEVENT
BEGIN:VEVENT
DTSTART;TZID=America/Chicago:20230920T130000
DTEND;TZID=America/Chicago:20230920T140000
DTSTAMP:20260424T181548
CREATED:20230908T205648Z
LAST-MODIFIED:20230908T205648Z
UID:10008353-1695214800-1695218400@wasecalesueurlibraries.com
SUMMARY:Adam Alter
DESCRIPTION:Almost everyone feels stuck in some way. Author Adam Alter (Anatomy of a Breakthrough) provides a roadmap we all need to escape our anxiety or numbness and flourish in the face of friction. \nRegister now. \nThese events are made possible by the voters of Minnesota through a grant provided by the Traverse des Sioux Library Cooperative\, thanks to a legislative appropriation from the arts and cultural heritage fund.
URL:https://wasecalesueurlibraries.com/event/adam-alter/
LOCATION:Virtual Event\, MN\, United States
CATEGORIES:Adult Events,Author Event
END:VEVENT
BEGIN:VEVENT
DTSTART;TZID=America/Chicago:20230920T103000
DTEND;TZID=America/Chicago:20230920T113000
DTSTAMP:20260424T181548
CREATED:20230911T205815Z
LAST-MODIFIED:20230911T205815Z
UID:10008388-1695205800-1695209400@wasecalesueurlibraries.com
SUMMARY:Little Coders
DESCRIPTION:Have a BLAST with beginning coding activities! Kids will learn sequencing\, problem-solving\, storytelling\, and directional skills through active and social play! Geared for ages 4-6 pm\, with an adult. \n 
URL:https://wasecalesueurlibraries.com/event/little-coders-15/2023-09-20/
LOCATION:New Richland Public Library\, 129 Broadway Ave S\, New Richland\, MN\, 56072\, United States
CATEGORIES:Children's Events
GEO:43.8935599;-93.4938211
X-APPLE-STRUCTURED-LOCATION;VALUE=URI;X-ADDRESS=New Richland Public Library 129 Broadway Ave S New Richland MN 56072 United States;X-APPLE-RADIUS=500;X-TITLE=129 Broadway Ave S:geo:-93.4938211,43.8935599
END:VEVENT
BEGIN:VEVENT
DTSTART;TZID=America/Chicago:20230920T100000
DTEND;TZID=America/Chicago:20230920T110000
DTSTAMP:20260424T181548
CREATED:20230911T212217Z
LAST-MODIFIED:20231024T210200Z
UID:10010443-1695204000-1695207600@wasecalesueurlibraries.com
SUMMARY:Romp and Rhyme Story Time
DESCRIPTION:New Richland Public Library holds Romp and Rhyme story times on Wednesdays at 10 am. From puppets to pumping music\, from bubble machines to banging bands\, these are not your average story time. The Library uses movement\, STEAM activities\, curiosity\, imaginative play\, and active learning to keep kids engaged. Free and open to the public.
URL:https://wasecalesueurlibraries.com/event/romp-and-rhyme-story-time-84/2023-09-20/
LOCATION:New Richland Public Library\, 129 Broadway Ave S\, New Richland\, MN\, 56072\, United States
CATEGORIES:Children's Events,Story Times
GEO:43.8935599;-93.4938211
X-APPLE-STRUCTURED-LOCATION;VALUE=URI;X-ADDRESS=New Richland Public Library 129 Broadway Ave S New Richland MN 56072 United States;X-APPLE-RADIUS=500;X-TITLE=129 Broadway Ave S:geo:-93.4938211,43.8935599
END:VEVENT
BEGIN:VEVENT
DTSTART;TZID=America/Chicago:20230920T100000
DTEND;TZID=America/Chicago:20230920T110000
DTSTAMP:20260424T181548
CREATED:20230911T210456Z
LAST-MODIFIED:20230911T210456Z
UID:10010375-1695204000-1695207600@wasecalesueurlibraries.com
SUMMARY:Book Talk
DESCRIPTION:Join our book discussion group and chat us up about these compelling books. Geared for adults. \nThis month’s selection is:\nThe Cartographers by Peng Shepherd \n  \n 
URL:https://wasecalesueurlibraries.com/event/book-talk-7/
LOCATION:Elysian Public Library\, 202 E Main St\, Elysian\, MN\, 56028\, United States
CATEGORIES:Adult Events,Book Clubs
GEO:44.198703;-93.6724641
X-APPLE-STRUCTURED-LOCATION;VALUE=URI;X-ADDRESS=Elysian Public Library 202 E Main St Elysian MN 56028 United States;X-APPLE-RADIUS=500;X-TITLE=202 E Main St:geo:-93.6724641,44.198703
END:VEVENT
BEGIN:VEVENT
DTSTART;TZID=America/Chicago:20230919T180000
DTEND;TZID=America/Chicago:20230919T190000
DTSTAMP:20260424T181548
CREATED:20230911T205926Z
LAST-MODIFIED:20230911T205926Z
UID:10008391-1695146400-1695150000@wasecalesueurlibraries.com
SUMMARY:Fall Book Preview
DESCRIPTION:Join Waseca Public Library staff for a preview of the most anticipated books of the fall! Staff will help you load up your TO BE READ piles with authentic historical fiction\, sweet romances\, and edge-of-your-seat thrillers. Geared for adults. \n 
URL:https://wasecalesueurlibraries.com/event/fall-book-preview-2/
LOCATION:Waseca Public Library\, 408 N State St\, Waseca\, MN\, 56093\, United States
CATEGORIES:Adult Events
GEO:44.0809183;-93.5069008
X-APPLE-STRUCTURED-LOCATION;VALUE=URI;X-ADDRESS=Waseca Public Library 408 N State St Waseca MN 56093 United States;X-APPLE-RADIUS=500;X-TITLE=408 N State St:geo:-93.5069008,44.0809183
END:VEVENT
BEGIN:VEVENT
DTSTART;TZID=America/Chicago:20230919T160000
DTEND;TZID=America/Chicago:20230919T170000
DTSTAMP:20260424T181548
CREATED:20230911T210744Z
LAST-MODIFIED:20230911T210744Z
UID:10010377-1695139200-1695142800@wasecalesueurlibraries.com
SUMMARY:Dare to Self Care for Teens
DESCRIPTION:Go ahead and get your relaxation on. Create donut soap\, make squishies\, and learn about affirmations. Ages 13-18. \n 
URL:https://wasecalesueurlibraries.com/event/dare-to-self-care-for-teens-7/
LOCATION:Janesville Public Library\, 100 W 2nd St\, Janesville\, MN\, 56048\, United States
CATEGORIES:Teen Events
GEO:44.1173302;-93.7075406
X-APPLE-STRUCTURED-LOCATION;VALUE=URI;X-ADDRESS=Janesville Public Library 100 W 2nd St Janesville MN 56048 United States;X-APPLE-RADIUS=500;X-TITLE=100 W 2nd St:geo:-93.7075406,44.1173302
END:VEVENT
BEGIN:VEVENT
DTSTART;TZID=America/Chicago:20230919T160000
DTEND;TZID=America/Chicago:20230919T170000
DTSTAMP:20260424T181548
CREATED:20230911T204632Z
LAST-MODIFIED:20230911T204632Z
UID:10008379-1695139200-1695142800@wasecalesueurlibraries.com
SUMMARY:3Doodlers
DESCRIPTION:Doodle in the air! Create projects in 3D with this cool pen by drawing whatever you like or using molds to create projects! Ages 7-12. \n 
URL:https://wasecalesueurlibraries.com/event/3doodlers-3/
LOCATION:Waldorf Public Library\, 119 S Main St\, Waldorf\, MN\, 56091\, United States
CATEGORIES:Children's Events
GEO:43.9365286;-93.697592
X-APPLE-STRUCTURED-LOCATION;VALUE=URI;X-ADDRESS=Waldorf Public Library 119 S Main St Waldorf MN 56091 United States;X-APPLE-RADIUS=500;X-TITLE=119 S Main St:geo:-93.697592,43.9365286
END:VEVENT
BEGIN:VEVENT
DTSTART;TZID=America/Chicago:20230919T160000
DTEND;TZID=America/Chicago:20230919T170000
DTSTAMP:20260424T181548
CREATED:20230911T204422Z
LAST-MODIFIED:20241204T193815Z
UID:10010361-1695139200-1695142800@wasecalesueurlibraries.com
SUMMARY:Le Sueur Lego Club
DESCRIPTION:Kids are invited to join our creative Lego-building club. Each event will have a theme to inspire and Legos to build with.
URL:https://wasecalesueurlibraries.com/event/le-sueur-lego-club-14/2023-09-19/
LOCATION:Le Sueur Public Library\, 118 Ferry St\, Le Sueur\, MN\, 56058\, United States
CATEGORIES:Children's Events
GEO:44.4601702;-93.9161364
X-APPLE-STRUCTURED-LOCATION;VALUE=URI;X-ADDRESS=Le Sueur Public Library 118 Ferry St Le Sueur MN 56058 United States;X-APPLE-RADIUS=500;X-TITLE=118 Ferry St:geo:-93.9161364,44.4601702
END:VEVENT
BEGIN:VEVENT
DTSTART;TZID=America/Chicago:20230919T160000
DTEND;TZID=America/Chicago:20230919T170000
DTSTAMP:20260424T181548
CREATED:20230724T132153Z
LAST-MODIFIED:20240501T171615Z
UID:10010264-1695139200-1695142800@wasecalesueurlibraries.com
SUMMARY:Waldorf Lego Club
DESCRIPTION:Kids are invited to join our creative Lego-building club. Each event will have a theme to inspire and Legos to build with.
URL:https://wasecalesueurlibraries.com/event/waldorf-lego-club-5/2023-09-19/
LOCATION:Waldorf Public Library\, 119 S Main St\, Waldorf\, MN\, 56091\, United States
CATEGORIES:Children's Events
GEO:43.9365286;-93.697592
X-APPLE-STRUCTURED-LOCATION;VALUE=URI;X-ADDRESS=Waldorf Public Library 119 S Main St Waldorf MN 56091 United States;X-APPLE-RADIUS=500;X-TITLE=119 S Main St:geo:-93.697592,43.9365286
END:VEVENT
BEGIN:VEVENT
DTSTART;TZID=America/Chicago:20230919T100000
DTEND;TZID=America/Chicago:20230919T110000
DTSTAMP:20260424T181548
CREATED:20230911T212036Z
LAST-MODIFIED:20240530T182247Z
UID:10010407-1695117600-1695121200@wasecalesueurlibraries.com
SUMMARY:Romp and Rhyme Story Time
DESCRIPTION:Le Sueur Public Library holds Romp and Rhyme story times on Tuesdays at 10 am. From puppets to pumping music\, from bubble machines to banging bands\, these are not your average story time. The Library uses movement\, STEAM activities\, curiosity\, imaginative play\, and active learning to keep kids engaged. Free and open to the public.
URL:https://wasecalesueurlibraries.com/event/romp-and-rhyme-story-time-83/2023-09-19/
LOCATION:Le Sueur Public Library\, 118 Ferry St\, Le Sueur\, MN\, 56058\, United States
CATEGORIES:Children's Events,Story Times
GEO:44.4601702;-93.9161364
X-APPLE-STRUCTURED-LOCATION;VALUE=URI;X-ADDRESS=Le Sueur Public Library 118 Ferry St Le Sueur MN 56058 United States;X-APPLE-RADIUS=500;X-TITLE=118 Ferry St:geo:-93.9161364,44.4601702
END:VEVENT
BEGIN:VEVENT
DTSTART;TZID=America/Chicago:20230919T093000
DTEND;TZID=America/Chicago:20230919T103000
DTSTAMP:20260424T181548
CREATED:20230511T185543Z
LAST-MODIFIED:20230929T212430Z
UID:10010056-1695115800-1695119400@wasecalesueurlibraries.com
SUMMARY:Romp and Rhyme Story Time
DESCRIPTION:Le Center Public Library holds Romp and Rhyme story times on Tuesdays at 9:30 am. From puppets to pumping music\, from bubble machines to banging bands\, these are not your average story time. The Library uses movement\, STEAM activities\, curiosity\, imaginative play\, and active learning to keep kids engaged. Free and open to the public.
URL:https://wasecalesueurlibraries.com/event/romp-and-rhyme-story-time-80/2023-09-19/
LOCATION:Le Center Public Library\, 10 W Tyrone St\, Le Center\, MN\, 56057\, United States
CATEGORIES:Children's Events,Story Times
GEO:44.3907505;-93.7316339
X-APPLE-STRUCTURED-LOCATION;VALUE=URI;X-ADDRESS=Le Center Public Library 10 W Tyrone St Le Center MN 56057 United States;X-APPLE-RADIUS=500;X-TITLE=10 W Tyrone St:geo:-93.7316339,44.3907505
END:VEVENT
BEGIN:VEVENT
DTSTART;TZID=America/Chicago:20230918T190000
DTEND;TZID=America/Chicago:20230918T200000
DTSTAMP:20260424T181548
CREATED:20230908T210457Z
LAST-MODIFIED:20230908T210457Z
UID:10008361-1695063600-1695067200@wasecalesueurlibraries.com
SUMMARY:The History of the Guitar
DESCRIPTION:Through live music and storytelling\, classical and flamenco guitarist Randall Ferguson will share the history of the guitar\, from the 16th-century Renaissance to the present day. \nThis event is made possible by the voters of Minnesota through a grant provided by the Traverse des Sioux Library Cooperative\, thanks to a legislative appropriation from the arts and cultural heritage fund.
URL:https://wasecalesueurlibraries.com/event/the-history-of-the-guitar-2/
LOCATION:Waldorf Public Library\, 119 S Main St\, Waldorf\, MN\, 56091\, United States
CATEGORIES:Author Event,Concert
GEO:43.9365286;-93.697592
X-APPLE-STRUCTURED-LOCATION;VALUE=URI;X-ADDRESS=Waldorf Public Library 119 S Main St Waldorf MN 56091 United States;X-APPLE-RADIUS=500;X-TITLE=119 S Main St:geo:-93.697592,43.9365286
END:VEVENT
BEGIN:VEVENT
DTSTART;TZID=America/Chicago:20230918T180000
DTEND;TZID=America/Chicago:20230918T190000
DTSTAMP:20260424T181548
CREATED:20230908T211732Z
LAST-MODIFIED:20230908T211732Z
UID:10010323-1695060000-1695063600@wasecalesueurlibraries.com
SUMMARY:Spice Club
DESCRIPTION:Do you like to try new flavors and recipes? Each month we’ll feature a new spice and make it available in a small FREE take-home kit. Then we’ll meet up to learn more about the spice’s history and its uses. Plus we’ll share what everyone made with the spice. \nRegister now!
URL:https://wasecalesueurlibraries.com/event/spice-club-7/
LOCATION:Elysian Public Library\, 202 E Main St\, Elysian\, MN\, 56028\, United States
CATEGORIES:Adult Events
GEO:44.198703;-93.6724641
X-APPLE-STRUCTURED-LOCATION;VALUE=URI;X-ADDRESS=Elysian Public Library 202 E Main St Elysian MN 56028 United States;X-APPLE-RADIUS=500;X-TITLE=202 E Main St:geo:-93.6724641,44.198703
END:VEVENT
BEGIN:VEVENT
DTSTART;TZID=America/Chicago:20230918T160000
DTEND;TZID=America/Chicago:20230918T170000
DTSTAMP:20260424T181548
CREATED:20230911T205234Z
LAST-MODIFIED:20230911T205234Z
UID:10008384-1695052800-1695056400@wasecalesueurlibraries.com
SUMMARY:Back to School crafts
DESCRIPTION:Celebrate the start of the new school year with a trio of crafts you can use at school! Geared for ages 8-12.
URL:https://wasecalesueurlibraries.com/event/back-to-school-crafts-4/
LOCATION:New Richland Public Library\, 129 Broadway Ave S\, New Richland\, MN\, 56072\, United States
CATEGORIES:Children's Events
GEO:43.8935599;-93.4938211
X-APPLE-STRUCTURED-LOCATION;VALUE=URI;X-ADDRESS=New Richland Public Library 129 Broadway Ave S New Richland MN 56072 United States;X-APPLE-RADIUS=500;X-TITLE=129 Broadway Ave S:geo:-93.4938211,43.8935599
END:VEVENT
BEGIN:VEVENT
DTSTART;TZID=America/Chicago:20230918T100000
DTEND;TZID=America/Chicago:20230918T110000
DTSTAMP:20260424T181548
CREATED:20230911T211856Z
LAST-MODIFIED:20240328T015244Z
UID:10010391-1695031200-1695034800@wasecalesueurlibraries.com
SUMMARY:Romp and Rhyme Story Time
DESCRIPTION:Waterville Public Library holds Romp and Rhyme story times at 10 am on select dates. From puppets to pumping music\, from bubble machines to banging bands\, these are not your average story time. The Library uses movement\, STEAM activities\, curiosity\, imaginative play\, and active learning to keep kids engaged. Free and open to the public.
URL:https://wasecalesueurlibraries.com/event/romp-and-rhyme-story-time-82/2023-09-18/
LOCATION:Waterville Public Library\, 210 Paquin St\, Waterville\, MN\, 56096\, United States
CATEGORIES:Children's Events,Story Times
GEO:44.2177999;-93.5709706
X-APPLE-STRUCTURED-LOCATION;VALUE=URI;X-ADDRESS=Waterville Public Library 210 Paquin St Waterville MN 56096 United States;X-APPLE-RADIUS=500;X-TITLE=210 Paquin St:geo:-93.5709706,44.2177999
END:VEVENT
BEGIN:VEVENT
DTSTART;TZID=America/Chicago:20230916T160000
DTEND;TZID=America/Chicago:20230916T170000
DTSTAMP:20260424T181548
CREATED:20230911T210316Z
LAST-MODIFIED:20230911T210316Z
UID:10010374-1694880000-1694883600@wasecalesueurlibraries.com
SUMMARY:Books and Brews
DESCRIPTION:It’s the perfect combo of bookworm babble and beer. Pick up a copy of I Have Some Questions for You by Rebecca Makkai at Waseca Public Library and discuss it at Half Pint Brewing Company. \nFood and drinks not provided but can be purchased. \n 
URL:https://wasecalesueurlibraries.com/event/books-and-brews-24/
LOCATION:Half-Pint Brewery\, 40099 150th St\, Waseca\, MN\, 56093\, United States
CATEGORIES:Adult Events,Book Clubs
GEO:44.1393696;-93.4682239
X-APPLE-STRUCTURED-LOCATION;VALUE=URI;X-ADDRESS=Half-Pint Brewery 40099 150th St Waseca MN 56093 United States;X-APPLE-RADIUS=500;X-TITLE=40099 150th St:geo:-93.4682239,44.1393696
END:VEVENT
BEGIN:VEVENT
DTSTART;TZID=America/Chicago:20230916T100000
DTEND;TZID=America/Chicago:20230916T120000
DTSTAMP:20260424T181548
CREATED:20230908T210725Z
LAST-MODIFIED:20230908T210725Z
UID:10010317-1694858400-1694865600@wasecalesueurlibraries.com
SUMMARY:Wellness Saturday: Living Sustainably
DESCRIPTION:Learn some new tips\, tricks\, and swaps about living sustainably with Dr. Lori Myren-Manbeck at this Wellness Saturday event. \n 
URL:https://wasecalesueurlibraries.com/event/wellness-saturday-living-sustainably/
LOCATION:Waseca Public Library\, 408 N State St\, Waseca\, MN\, 56093\, United States
CATEGORIES:Adult Events
GEO:44.0809183;-93.5069008
X-APPLE-STRUCTURED-LOCATION;VALUE=URI;X-ADDRESS=Waseca Public Library 408 N State St Waseca MN 56093 United States;X-APPLE-RADIUS=500;X-TITLE=408 N State St:geo:-93.5069008,44.0809183
END:VEVENT
BEGIN:VEVENT
DTSTART;TZID=America/Chicago:20230914T153000
DTEND;TZID=America/Chicago:20230914T170000
DTSTAMP:20260424T181548
CREATED:20230911T205154Z
LAST-MODIFIED:20230911T205154Z
UID:10008383-1694705400-1694710800@wasecalesueurlibraries.com
SUMMARY:Back to School Crafts
DESCRIPTION:Celebrate the start of the new school year with a trio of crafts you can use at school! Geared for ages 8-12. \n 
URL:https://wasecalesueurlibraries.com/event/back-to-school-crafts-3/
LOCATION:Waseca Public Library\, 408 N State St\, Waseca\, MN\, 56093\, United States
CATEGORIES:Children's Events
GEO:44.0809183;-93.5069008
X-APPLE-STRUCTURED-LOCATION;VALUE=URI;X-ADDRESS=Waseca Public Library 408 N State St Waseca MN 56093 United States;X-APPLE-RADIUS=500;X-TITLE=408 N State St:geo:-93.5069008,44.0809183
END:VEVENT
BEGIN:VEVENT
DTSTART;TZID=America/Chicago:20230914T150000
DTEND;TZID=America/Chicago:20230914T160000
DTSTAMP:20260424T181548
CREATED:20230908T210240Z
LAST-MODIFIED:20230908T210240Z
UID:10008359-1694703600-1694707200@wasecalesueurlibraries.com
SUMMARY:Gerry G. Lenz
DESCRIPTION:Growing up\, Gerry Lentz was a Chechoslovakian farm boy who lived with his family\, some 200 roosters and over 500 chickens on a 160-acre home place in northeastern Iowa. Gerry shares his memories in this coming-of-age memoir. \nSponsored by Friends of the Janesville Public Library \n 
URL:https://wasecalesueurlibraries.com/event/gerry-g-lenz/
LOCATION:Janesville Public Library\, 100 W 2nd St\, Janesville\, MN\, 56048\, United States
CATEGORIES:Adult Events,Author Event
GEO:44.1173302;-93.7075406
X-APPLE-STRUCTURED-LOCATION;VALUE=URI;X-ADDRESS=Janesville Public Library 100 W 2nd St Janesville MN 56048 United States;X-APPLE-RADIUS=500;X-TITLE=100 W 2nd St:geo:-93.7075406,44.1173302
END:VEVENT
END:VCALENDAR