BEGIN:VCALENDAR
VERSION:2.0
PRODID:-//Waseca-Le Sueur Library - ECPv6.15.20//NONSGML v1.0//EN
CALSCALE:GREGORIAN
METHOD:PUBLISH
X-WR-CALNAME:Waseca-Le Sueur Library
X-ORIGINAL-URL:https://wasecalesueurlibraries.com
X-WR-CALDESC:Events for Waseca-Le Sueur Library
REFRESH-INTERVAL;VALUE=DURATION:PT1H
X-Robots-Tag:noindex
X-PUBLISHED-TTL:PT1H
BEGIN:VTIMEZONE
TZID:America/Chicago
BEGIN:DAYLIGHT
TZOFFSETFROM:-0600
TZOFFSETTO:-0500
TZNAME:CDT
DTSTART:20250309T080000
END:DAYLIGHT
BEGIN:STANDARD
TZOFFSETFROM:-0500
TZOFFSETTO:-0600
TZNAME:CST
DTSTART:20251102T070000
END:STANDARD
BEGIN:DAYLIGHT
TZOFFSETFROM:-0600
TZOFFSETTO:-0500
TZNAME:CDT
DTSTART:20260308T080000
END:DAYLIGHT
BEGIN:STANDARD
TZOFFSETFROM:-0500
TZOFFSETTO:-0600
TZNAME:CST
DTSTART:20261101T070000
END:STANDARD
BEGIN:DAYLIGHT
TZOFFSETFROM:-0600
TZOFFSETTO:-0500
TZNAME:CDT
DTSTART:20270314T080000
END:DAYLIGHT
BEGIN:STANDARD
TZOFFSETFROM:-0500
TZOFFSETTO:-0600
TZNAME:CST
DTSTART:20271107T070000
END:STANDARD
END:VTIMEZONE
BEGIN:VEVENT
DTSTART;TZID=America/Chicago:20260226T160000
DTEND;TZID=America/Chicago:20260226T170000
DTSTAMP:20260423T051034
CREATED:20260206T005434Z
LAST-MODIFIED:20260206T005434Z
UID:10012846-1772121600-1772125200@wasecalesueurlibraries.com
SUMMARY:Trinket Dishes
DESCRIPTION:Transform a simple dish into a sweet trinket holder by adding pretty paper to the surface. This\nsimple crafting technique turns basic into beautiful. Ages 13-18.
URL:https://wasecalesueurlibraries.com/event/trinket-dishes-4/
LOCATION:Janesville Public Library\, 100 W 2nd St\, Janesville\, MN\, 56048\, United States
CATEGORIES:Teen Events
GEO:44.1173302;-93.7075406
X-APPLE-STRUCTURED-LOCATION;VALUE=URI;X-ADDRESS=Janesville Public Library 100 W 2nd St Janesville MN 56048 United States;X-APPLE-RADIUS=500;X-TITLE=100 W 2nd St:geo:-93.7075406,44.1173302
END:VEVENT
BEGIN:VEVENT
DTSTART;TZID=America/Chicago:20260226T160000
DTEND;TZID=America/Chicago:20260226T170000
DTSTAMP:20260423T051034
CREATED:20260206T010029Z
LAST-MODIFIED:20260206T010029Z
UID:10012850-1772121600-1772125200@wasecalesueurlibraries.com
SUMMARY:Canvas Bag Design
DESCRIPTION:Transform a canvas bag into a custom tote that reflects you. Connect with other teens while you\nadd vibrant patterns\, intricate illustrations\, or inspiring quotes. Ages 13-18.
URL:https://wasecalesueurlibraries.com/event/canvas-bag-design-7/
LOCATION:New Richland Public Library\, 129 Broadway Ave S\, New Richland\, MN\, 56072\, United States
CATEGORIES:Teen Events
GEO:43.8935599;-93.4938211
X-APPLE-STRUCTURED-LOCATION;VALUE=URI;X-ADDRESS=New Richland Public Library 129 Broadway Ave S New Richland MN 56072 United States;X-APPLE-RADIUS=500;X-TITLE=129 Broadway Ave S:geo:-93.4938211,43.8935599
END:VEVENT
BEGIN:VEVENT
DTSTART;TZID=America/Chicago:20260303T153000
DTEND;TZID=America/Chicago:20260303T163000
DTSTAMP:20260423T051034
CREATED:20260206T010753Z
LAST-MODIFIED:20260225T185527Z
UID:10012979-1772551800-1772555400@wasecalesueurlibraries.com
SUMMARY:Game Day Tournament
DESCRIPTION:Join us for an afternoon of gaming. This month will be playing a Pokémon TCG tournament. New and experienced players welcome. Cards will be provided if you do not have your own. Prizes will be handed out at the end of the tournament. Ages 13-18. Refreshments provided.
URL:https://wasecalesueurlibraries.com/event/game-day-tournament/2026-03-03/
LOCATION:Montgomery Public Library\, 104 Oak Ave SE\, Montgomery\, MN\, 56069\, United States
CATEGORIES:Teen Events
GEO:44.4355889;-93.5810028
X-APPLE-STRUCTURED-LOCATION;VALUE=URI;X-ADDRESS=Montgomery Public Library 104 Oak Ave SE Montgomery MN 56069 United States;X-APPLE-RADIUS=500;X-TITLE=104 Oak Ave SE:geo:-93.5810028,44.4355889
END:VEVENT
BEGIN:VEVENT
DTSTART;TZID=America/Chicago:20260304T153000
DTEND;TZID=America/Chicago:20260304T170000
DTSTAMP:20260423T051034
CREATED:20260225T185951Z
LAST-MODIFIED:20260225T185951Z
UID:10012985-1772638200-1772643600@wasecalesueurlibraries.com
SUMMARY:Name Pennants
DESCRIPTION:Learn simple crafting techniques for creating custom-made name pennants\, perfect for decorating your room or locker. Ages 13-18.
URL:https://wasecalesueurlibraries.com/event/name-pennants-4/
LOCATION:Waldorf Public Library\, 119 S Main St\, Waldorf\, MN\, 56091\, United States
CATEGORIES:Teen Events
GEO:43.9365286;-93.697592
X-APPLE-STRUCTURED-LOCATION;VALUE=URI;X-ADDRESS=Waldorf Public Library 119 S Main St Waldorf MN 56091 United States;X-APPLE-RADIUS=500;X-TITLE=119 S Main St:geo:-93.697592,43.9365286
END:VEVENT
BEGIN:VEVENT
DTSTART;TZID=America/Chicago:20260309T153000
DTEND;TZID=America/Chicago:20260309T163000
DTSTAMP:20260423T051034
CREATED:20260225T192136Z
LAST-MODIFIED:20260225T192136Z
UID:10012991-1773070200-1773073800@wasecalesueurlibraries.com
SUMMARY:Trinket Dishes
DESCRIPTION:Transform a simple dish into a sweet trinket holder by adding pretty paper to the surface. This simple crafting technique turns basic into beautiful. Ages 13-18.
URL:https://wasecalesueurlibraries.com/event/trinket-dishes-5/
LOCATION:Le Center Public Library\, 10 W Tyrone St\, Le Center\, MN\, 56057\, United States
CATEGORIES:Teen Events
GEO:44.3907505;-93.7316339
X-APPLE-STRUCTURED-LOCATION;VALUE=URI;X-ADDRESS=Le Center Public Library 10 W Tyrone St Le Center MN 56057 United States;X-APPLE-RADIUS=500;X-TITLE=10 W Tyrone St:geo:-93.7316339,44.3907505
END:VEVENT
BEGIN:VEVENT
DTSTART;TZID=America/Chicago:20260310T130000
DTEND;TZID=America/Chicago:20260310T140000
DTSTAMP:20260423T051034
CREATED:20260225T190926Z
LAST-MODIFIED:20260225T190926Z
UID:10012988-1773147600-1773151200@wasecalesueurlibraries.com
SUMMARY:Mini Beaded Bouquets
DESCRIPTION:Learn how to craft a mini flower bouquet. These tiny blooms made up of wire and seed beads are perfect for gifting to a friend or turning into a unique accessory. Ages 13-18.
URL:https://wasecalesueurlibraries.com/event/mini-beaded-bouquets-3/
LOCATION:Waseca Public Library\, 408 N State St\, Waseca\, MN\, 56093\, United States
CATEGORIES:Teen Events
GEO:44.0809183;-93.5069008
X-APPLE-STRUCTURED-LOCATION;VALUE=URI;X-ADDRESS=Waseca Public Library 408 N State St Waseca MN 56093 United States;X-APPLE-RADIUS=500;X-TITLE=408 N State St:geo:-93.5069008,44.0809183
END:VEVENT
BEGIN:VEVENT
DTSTART;TZID=America/Chicago:20260310T153000
DTEND;TZID=America/Chicago:20260310T163000
DTSTAMP:20260423T051034
CREATED:20260206T010753Z
LAST-MODIFIED:20260225T185527Z
UID:10012980-1773156600-1773160200@wasecalesueurlibraries.com
SUMMARY:Game Day Tournament
DESCRIPTION:Join us for an afternoon of gaming. This month will be playing a Pokémon TCG tournament. New and experienced players welcome. Cards will be provided if you do not have your own. Prizes will be handed out at the end of the tournament. Ages 13-18. Refreshments provided.
URL:https://wasecalesueurlibraries.com/event/game-day-tournament/2026-03-10/
LOCATION:Montgomery Public Library\, 104 Oak Ave SE\, Montgomery\, MN\, 56069\, United States
CATEGORIES:Teen Events
GEO:44.4355889;-93.5810028
X-APPLE-STRUCTURED-LOCATION;VALUE=URI;X-ADDRESS=Montgomery Public Library 104 Oak Ave SE Montgomery MN 56069 United States;X-APPLE-RADIUS=500;X-TITLE=104 Oak Ave SE:geo:-93.5810028,44.4355889
END:VEVENT
BEGIN:VEVENT
DTSTART;TZID=America/Chicago:20260310T180000
DTEND;TZID=America/Chicago:20260310T200000
DTSTAMP:20260423T051034
CREATED:20260225T185823Z
LAST-MODIFIED:20260225T185823Z
UID:10012984-1773165600-1773172800@wasecalesueurlibraries.com
SUMMARY:Live Action Oregon Trail
DESCRIPTION:Join a party. Hunt for food. Die of dysentery. Ages 13-18.
URL:https://wasecalesueurlibraries.com/event/live-action-oregon-trail-3/
LOCATION:Montgomery Public Library\, 104 Oak Ave SE\, Montgomery\, MN\, 56069\, United States
CATEGORIES:Teen Events
GEO:44.4355889;-93.5810028
X-APPLE-STRUCTURED-LOCATION;VALUE=URI;X-ADDRESS=Montgomery Public Library 104 Oak Ave SE Montgomery MN 56069 United States;X-APPLE-RADIUS=500;X-TITLE=104 Oak Ave SE:geo:-93.5810028,44.4355889
END:VEVENT
BEGIN:VEVENT
DTSTART;TZID=America/Chicago:20260312T130000
DTEND;TZID=America/Chicago:20260312T140000
DTSTAMP:20260423T051034
CREATED:20260225T185340Z
LAST-MODIFIED:20260225T185340Z
UID:10012978-1773320400-1773324000@wasecalesueurlibraries.com
SUMMARY:Mario Kart Tourney
DESCRIPTION:Start your engines. Avoid the shells. Fly by competitors. Conquer Rainbow Road. Ages 13-18.
URL:https://wasecalesueurlibraries.com/event/mario-kart-tourney-2/
LOCATION:Waseca Public Library\, 408 N State St\, Waseca\, MN\, 56093\, United States
CATEGORIES:Teen Events
GEO:44.0809183;-93.5069008
X-APPLE-STRUCTURED-LOCATION;VALUE=URI;X-ADDRESS=Waseca Public Library 408 N State St Waseca MN 56093 United States;X-APPLE-RADIUS=500;X-TITLE=408 N State St:geo:-93.5069008,44.0809183
END:VEVENT
BEGIN:VEVENT
DTSTART;TZID=America/Chicago:20260317T153000
DTEND;TZID=America/Chicago:20260317T163000
DTSTAMP:20260423T051034
CREATED:20260206T010753Z
LAST-MODIFIED:20260225T185527Z
UID:10012981-1773761400-1773765000@wasecalesueurlibraries.com
SUMMARY:Game Day Tournament
DESCRIPTION:Join us for an afternoon of gaming. This month will be playing a Pokémon TCG tournament. New and experienced players welcome. Cards will be provided if you do not have your own. Prizes will be handed out at the end of the tournament. Ages 13-18. Refreshments provided.
URL:https://wasecalesueurlibraries.com/event/game-day-tournament/2026-03-17/
LOCATION:Montgomery Public Library\, 104 Oak Ave SE\, Montgomery\, MN\, 56069\, United States
CATEGORIES:Teen Events
GEO:44.4355889;-93.5810028
X-APPLE-STRUCTURED-LOCATION;VALUE=URI;X-ADDRESS=Montgomery Public Library 104 Oak Ave SE Montgomery MN 56069 United States;X-APPLE-RADIUS=500;X-TITLE=104 Oak Ave SE:geo:-93.5810028,44.4355889
END:VEVENT
BEGIN:VEVENT
DTSTART;TZID=America/Chicago:20260319T160000
DTEND;TZID=America/Chicago:20260319T170000
DTSTAMP:20260423T051034
CREATED:20260225T190745Z
LAST-MODIFIED:20260225T190745Z
UID:10012987-1773936000-1773939600@wasecalesueurlibraries.com
SUMMARY:DIY Photo Projects
DESCRIPTION:These rock and wire photo holders bring unique height and color to your photo display. Then highlight your snapshots with a wood frame magnet. Ages 13-18.
URL:https://wasecalesueurlibraries.com/event/diy-photo-projects-5/
LOCATION:New Richland Public Library\, 129 Broadway Ave S\, New Richland\, MN\, 56072\, United States
CATEGORIES:Teen Events
GEO:43.8935599;-93.4938211
X-APPLE-STRUCTURED-LOCATION;VALUE=URI;X-ADDRESS=New Richland Public Library 129 Broadway Ave S New Richland MN 56072 United States;X-APPLE-RADIUS=500;X-TITLE=129 Broadway Ave S:geo:-93.4938211,43.8935599
END:VEVENT
BEGIN:VEVENT
DTSTART;TZID=America/Chicago:20260324T153000
DTEND;TZID=America/Chicago:20260324T163000
DTSTAMP:20260423T051034
CREATED:20260206T010753Z
LAST-MODIFIED:20260225T185527Z
UID:10012982-1774366200-1774369800@wasecalesueurlibraries.com
SUMMARY:Game Day Tournament
DESCRIPTION:Join us for an afternoon of gaming. This month will be playing a Pokémon TCG tournament. New and experienced players welcome. Cards will be provided if you do not have your own. Prizes will be handed out at the end of the tournament. Ages 13-18. Refreshments provided.
URL:https://wasecalesueurlibraries.com/event/game-day-tournament/2026-03-24/
LOCATION:Montgomery Public Library\, 104 Oak Ave SE\, Montgomery\, MN\, 56069\, United States
CATEGORIES:Teen Events
GEO:44.4355889;-93.5810028
X-APPLE-STRUCTURED-LOCATION;VALUE=URI;X-ADDRESS=Montgomery Public Library 104 Oak Ave SE Montgomery MN 56069 United States;X-APPLE-RADIUS=500;X-TITLE=104 Oak Ave SE:geo:-93.5810028,44.4355889
END:VEVENT
BEGIN:VEVENT
DTSTART;TZID=America/Chicago:20260324T180000
DTEND;TZID=America/Chicago:20260324T200000
DTSTAMP:20260423T051034
CREATED:20260225T190445Z
LAST-MODIFIED:20260225T190445Z
UID:10012986-1774375200-1774382400@wasecalesueurlibraries.com
SUMMARY:Name Pennants
DESCRIPTION:Learn simple crafting techniques for creating custom-made name pennants\, perfect for decorating your room or locker. Ages 13-18.
URL:https://wasecalesueurlibraries.com/event/name-pennants-5/
LOCATION:Montgomery Public Library\, 104 Oak Ave SE\, Montgomery\, MN\, 56069\, United States
CATEGORIES:Teen Events
GEO:44.4355889;-93.5810028
X-APPLE-STRUCTURED-LOCATION;VALUE=URI;X-ADDRESS=Montgomery Public Library 104 Oak Ave SE Montgomery MN 56069 United States;X-APPLE-RADIUS=500;X-TITLE=104 Oak Ave SE:geo:-93.5810028,44.4355889
END:VEVENT
BEGIN:VEVENT
DTSTART;TZID=America/Chicago:20260325T160000
DTEND;TZID=America/Chicago:20260325T170000
DTSTAMP:20260423T051034
CREATED:20260225T191058Z
LAST-MODIFIED:20260225T191058Z
UID:10012989-1774454400-1774458000@wasecalesueurlibraries.com
SUMMARY:Mini Beaded Bouquets
DESCRIPTION:Learn how to craft a mini flower bouquet. These tiny blooms made up of wire and seed beads are perfect for gifting to a friend or turning into a unique accessory. Ages 13-18.
URL:https://wasecalesueurlibraries.com/event/mini-beaded-bouquets-4/
LOCATION:Le Sueur Public Library\, 118 Ferry St\, Le Sueur\, MN\, 56058\, United States
CATEGORIES:Teen Events
GEO:44.4601702;-93.9161364
X-APPLE-STRUCTURED-LOCATION;VALUE=URI;X-ADDRESS=Le Sueur Public Library 118 Ferry St Le Sueur MN 56058 United States;X-APPLE-RADIUS=500;X-TITLE=118 Ferry St:geo:-93.9161364,44.4601702
END:VEVENT
BEGIN:VEVENT
DTSTART;TZID=America/Chicago:20260328T103000
DTEND;TZID=America/Chicago:20260328T113000
DTSTAMP:20260423T051034
CREATED:20260225T192343Z
LAST-MODIFIED:20260225T192343Z
UID:10012992-1774693800-1774697400@wasecalesueurlibraries.com
SUMMARY:Spotify Bookmarks
DESCRIPTION:Obsessed with music as much as books? Create Spotify-style bookmarks to capture your favorite song lyrics or album artwork. Ages 13-18.
URL:https://wasecalesueurlibraries.com/event/spotify-bookmarks-4/
LOCATION:Elysian Public Library\, 202 E Main St\, Elysian\, MN\, 56028\, United States
CATEGORIES:Teen Events
GEO:44.198703;-93.6724641
X-APPLE-STRUCTURED-LOCATION;VALUE=URI;X-ADDRESS=Elysian Public Library 202 E Main St Elysian MN 56028 United States;X-APPLE-RADIUS=500;X-TITLE=202 E Main St:geo:-93.6724641,44.198703
END:VEVENT
BEGIN:VEVENT
DTSTART;TZID=America/Chicago:20260331T153000
DTEND;TZID=America/Chicago:20260331T163000
DTSTAMP:20260423T051034
CREATED:20260206T010753Z
LAST-MODIFIED:20260225T185527Z
UID:10012983-1774971000-1774974600@wasecalesueurlibraries.com
SUMMARY:Game Day Tournament
DESCRIPTION:Join us for an afternoon of gaming. This month will be playing a Pokémon TCG tournament. New and experienced players welcome. Cards will be provided if you do not have your own. Prizes will be handed out at the end of the tournament. Ages 13-18. Refreshments provided.
URL:https://wasecalesueurlibraries.com/event/game-day-tournament/2026-03-31/
LOCATION:Montgomery Public Library\, 104 Oak Ave SE\, Montgomery\, MN\, 56069\, United States
CATEGORIES:Teen Events
GEO:44.4355889;-93.5810028
X-APPLE-STRUCTURED-LOCATION;VALUE=URI;X-ADDRESS=Montgomery Public Library 104 Oak Ave SE Montgomery MN 56069 United States;X-APPLE-RADIUS=500;X-TITLE=104 Oak Ave SE:geo:-93.5810028,44.4355889
END:VEVENT
BEGIN:VEVENT
DTSTART;TZID=America/Chicago:20260331T153000
DTEND;TZID=America/Chicago:20260331T163000
DTSTAMP:20260423T051034
CREATED:20260225T191554Z
LAST-MODIFIED:20260225T191554Z
UID:10012990-1774971000-1774974600@wasecalesueurlibraries.com
SUMMARY:Canvas Bag Design
DESCRIPTION:Transform a canvas bag into a custom tote that reflects you. Connect with other teens while you add vibrant patterns\, intricate illustrations\, or inspiring quotes. Ages 13-18.
URL:https://wasecalesueurlibraries.com/event/canvas-bag-design-8/
LOCATION:Le Center Public Library\, 10 W Tyrone St\, Le Center\, MN\, 56057\, United States
CATEGORIES:Teen Events
GEO:44.3907505;-93.7316339
X-APPLE-STRUCTURED-LOCATION;VALUE=URI;X-ADDRESS=Le Center Public Library 10 W Tyrone St Le Center MN 56057 United States;X-APPLE-RADIUS=500;X-TITLE=10 W Tyrone St:geo:-93.7316339,44.3907505
END:VEVENT
BEGIN:VEVENT
DTSTART;TZID=America/Chicago:20260409T160000
DTEND;TZID=America/Chicago:20260409T170000
DTSTAMP:20260423T051034
CREATED:20260409T225320Z
LAST-MODIFIED:20260409T225320Z
UID:10013065-1775750400-1775754000@wasecalesueurlibraries.com
SUMMARY:Painting Roulette
DESCRIPTION:Try your hand at this collaborative\, interactive art event where you work on shared canvases\, passing your work on to the next person every few minutes to create unique pieces in a creative\, pressure-free environment. Ages 13-18.
URL:https://wasecalesueurlibraries.com/event/painting-roulette-5/
LOCATION:Janesville Public Library\, 100 W 2nd St\, Janesville\, MN\, 56048\, United States
CATEGORIES:Teen Events
GEO:44.1173302;-93.7075406
X-APPLE-STRUCTURED-LOCATION;VALUE=URI;X-ADDRESS=Janesville Public Library 100 W 2nd St Janesville MN 56048 United States;X-APPLE-RADIUS=500;X-TITLE=100 W 2nd St:geo:-93.7075406,44.1173302
END:VEVENT
BEGIN:VEVENT
DTSTART;TZID=America/Chicago:20260416T160000
DTEND;TZID=America/Chicago:20260416T170000
DTSTAMP:20260423T051034
CREATED:20260408T215228Z
LAST-MODIFIED:20260408T215228Z
UID:10013061-1776355200-1776358800@wasecalesueurlibraries.com
SUMMARY:Name Pennants
DESCRIPTION:Learn simple crafting techniques for creating custom-made name pennants\, perfect for decorating your room or locker. Ages 13-18.
URL:https://wasecalesueurlibraries.com/event/name-pennants-6/
LOCATION:New Richland Public Library\, 129 Broadway Ave S\, New Richland\, MN\, 56072\, United States
CATEGORIES:Teen Events
GEO:43.8935599;-93.4938211
X-APPLE-STRUCTURED-LOCATION;VALUE=URI;X-ADDRESS=New Richland Public Library 129 Broadway Ave S New Richland MN 56072 United States;X-APPLE-RADIUS=500;X-TITLE=129 Broadway Ave S:geo:-93.4938211,43.8935599
END:VEVENT
BEGIN:VEVENT
DTSTART;TZID=America/Chicago:20260418T100000
DTEND;TZID=America/Chicago:20260418T130000
DTSTAMP:20260423T051034
CREATED:20260407T203102Z
LAST-MODIFIED:20260407T203102Z
UID:10013014-1776506400-1776517200@wasecalesueurlibraries.com
SUMMARY:How-To Festival
DESCRIPTION:Learn a wide variety of skills at this community-based all-ages interactive learning event! From pouring latte art to keeping bees\, from creating flour sack dish towels to making a clay creation\, add a few tricks up your sleeve in these short sessions! Choose from 16 skills to learn. \nSponsored by Friends of the Waseca Public Library \n\nThe full schedule: \n10 AM \nHOW TO DEFEND YOURSELF\nRobert Tackett\, Meeting Room \nHOW TO UNDERSTAND CASH FLOWS AND SINKING FUNDS\nStacy Ewert from Dufault CPA\, Teen Area \nHOW TO MAKE A POLYMEAR CLAY CREATION\nJessica Peters\, Children’s Area \nHOW TO KEEP BEES\nSun Honey\, New Adult Books Area \n11 AM \nHOW TO POUR LATTE ART\nWaseca Public Library\, Meeting Room \nHOW TO PACK FOR A TRIP\nAsh Aboki\, Teen Area \nHOW TO CREATE AN ALEBRIJE (COLORFUL MEXICAN FOLK ART SCULPTURE)\nDazed Bat Artistry\, Children’s Area \nHOW TO PROPEGATE PLANTS\nMaster Gardener\, New Adult Books Area \n11:30 am \nLIGHT LUNCH\nLibrary \n12 PM \nHOW TO TURN A FAVORITE LYRIC OR QUOTE INTO A CANVAS WALL TARP\nWaseca Public Library\, Meeting Room \nHOW TO CREATE BEADED FRIENDSHIP BRACELETS\nWaseca Public Library\, Teen Area \nHOW TO MAKE PIPE CLEANER CRITTERS\nMankato Makerspace\, Children’s Area \nHOW TO REGISTER TO VOTE\nLeague of Women Voters\, New Adult Books Area \n12:30 PM \nHOW TO CREATE A FLOUR SACK KITCHEN TOWEL\nDazed Bat Artistry\, Meeting Room \nHOW TO MAKE EMBROIDERY ART\nWaseca Public Library\, Teen Area \nHOW TO CREATE BUTTONS WITH A BUTTON MAKER\nWaseca Public Library\, Children’s Area \nHOW TO MAKE A BEESWAX WRAP\nWaseca Public Library\, New Adult Books Area \n 
URL:https://wasecalesueurlibraries.com/event/how-to-festival-6/
LOCATION:Waseca Public Library\, 408 N State St\, Waseca\, MN\, 56093\, United States
CATEGORIES:Adult Events,All ages,Children's Events,Teen Events,Tweens
GEO:44.0809183;-93.5069008
X-APPLE-STRUCTURED-LOCATION;VALUE=URI;X-ADDRESS=Waseca Public Library 408 N State St Waseca MN 56093 United States;X-APPLE-RADIUS=500;X-TITLE=408 N State St:geo:-93.5069008,44.0809183
END:VEVENT
BEGIN:VEVENT
DTSTART;TZID=America/Chicago:20260421T153000
DTEND;TZID=America/Chicago:20260421T163000
DTSTAMP:20260423T051034
CREATED:20260409T223142Z
LAST-MODIFIED:20260409T223142Z
UID:10013064-1776785400-1776789000@wasecalesueurlibraries.com
SUMMARY:Mini Beaded Bouquets
DESCRIPTION:Learn how to craft a mini flower bouquet. These tiny blooms made up of wire and seed beads are perfect\nfor gifting to a friend or turning into a unique accessory. Ages 13-18.
URL:https://wasecalesueurlibraries.com/event/mini-beaded-bouquets-5/
LOCATION:Le Center Public Library\, 10 W Tyrone St\, Le Center\, MN\, 56057\, United States
CATEGORIES:Teen Events
GEO:44.3907505;-93.7316339
X-APPLE-STRUCTURED-LOCATION;VALUE=URI;X-ADDRESS=Le Center Public Library 10 W Tyrone St Le Center MN 56057 United States;X-APPLE-RADIUS=500;X-TITLE=10 W Tyrone St:geo:-93.7316339,44.3907505
END:VEVENT
BEGIN:VEVENT
DTSTART;TZID=America/Chicago:20260421T153000
DTEND;TZID=America/Chicago:20260421T163000
DTSTAMP:20260423T051034
CREATED:20260409T225529Z
LAST-MODIFIED:20260409T225529Z
UID:10013066-1776785400-1776789000@wasecalesueurlibraries.com
SUMMARY:Yarn Bowls
DESCRIPTION:Make delicate bowls by wrapping yarn around a balloon and coating it with glue. Once dry\, pop the balloon to reveal a beautiful\, airy bowl. Ages 13-18.
URL:https://wasecalesueurlibraries.com/event/yarn-bowls-4/
LOCATION:Waseca Public Library\, 408 N State St\, Waseca\, MN\, 56093\, United States
CATEGORIES:Teen Events
GEO:44.0809183;-93.5069008
X-APPLE-STRUCTURED-LOCATION;VALUE=URI;X-ADDRESS=Waseca Public Library 408 N State St Waseca MN 56093 United States;X-APPLE-RADIUS=500;X-TITLE=408 N State St:geo:-93.5069008,44.0809183
END:VEVENT
BEGIN:VEVENT
DTSTART;TZID=America/Chicago:20260421T170000
DTEND;TZID=America/Chicago:20260421T200000
DTSTAMP:20260423T051034
CREATED:20260409T213709Z
LAST-MODIFIED:20260409T213709Z
UID:10013062-1776790800-1776801600@wasecalesueurlibraries.com
SUMMARY:Spotify Bookmarks
DESCRIPTION:Obsessed with music as much as books? Create Spotify-style bookmarks to capture your favorite song lyrics or album artwork. Ages 13-18.
URL:https://wasecalesueurlibraries.com/event/spotify-bookmarks-5/
LOCATION:Montgomery Public Library\, 104 Oak Ave SE\, Montgomery\, MN\, 56069\, United States
CATEGORIES:Teen Events
GEO:44.4355889;-93.5810028
X-APPLE-STRUCTURED-LOCATION;VALUE=URI;X-ADDRESS=Montgomery Public Library 104 Oak Ave SE Montgomery MN 56069 United States;X-APPLE-RADIUS=500;X-TITLE=104 Oak Ave SE:geo:-93.5810028,44.4355889
END:VEVENT
BEGIN:VEVENT
DTSTART;TZID=America/Chicago:20260429T160000
DTEND;TZID=America/Chicago:20260429T170000
DTSTAMP:20260423T051034
CREATED:20260409T215341Z
LAST-MODIFIED:20260409T215341Z
UID:10013063-1777478400-1777482000@wasecalesueurlibraries.com
SUMMARY:Perler Plant Pals
DESCRIPTION:Make your plants some new friends! Design mini pixel-style creations using perler beads and turn them into unique planter stakes. Ages 13-18. \nSponsored by the Friends of the Le Sueur Public Library
URL:https://wasecalesueurlibraries.com/event/perler-plant-pals-2/
LOCATION:Le Sueur Public Library\, 118 Ferry St\, Le Sueur\, MN\, 56058\, United States
CATEGORIES:Teen Events
GEO:44.4601702;-93.9161364
X-APPLE-STRUCTURED-LOCATION;VALUE=URI;X-ADDRESS=Le Sueur Public Library 118 Ferry St Le Sueur MN 56058 United States;X-APPLE-RADIUS=500;X-TITLE=118 Ferry St:geo:-93.9161364,44.4601702
END:VEVENT
END:VCALENDAR