BEGIN:VCALENDAR
VERSION:2.0
PRODID:-//Waseca-Le Sueur Library - ECPv6.15.20//NONSGML v1.0//EN
CALSCALE:GREGORIAN
METHOD:PUBLISH
X-ORIGINAL-URL:https://wasecalesueurlibraries.com
X-WR-CALDESC:Events for Waseca-Le Sueur Library
REFRESH-INTERVAL;VALUE=DURATION:PT1H
X-Robots-Tag:noindex
X-PUBLISHED-TTL:PT1H
BEGIN:VTIMEZONE
TZID:America/Chicago
BEGIN:DAYLIGHT
TZOFFSETFROM:-0600
TZOFFSETTO:-0500
TZNAME:CDT
DTSTART:20250309T080000
END:DAYLIGHT
BEGIN:STANDARD
TZOFFSETFROM:-0500
TZOFFSETTO:-0600
TZNAME:CST
DTSTART:20251102T070000
END:STANDARD
BEGIN:DAYLIGHT
TZOFFSETFROM:-0600
TZOFFSETTO:-0500
TZNAME:CDT
DTSTART:20260308T080000
END:DAYLIGHT
BEGIN:STANDARD
TZOFFSETFROM:-0500
TZOFFSETTO:-0600
TZNAME:CST
DTSTART:20261101T070000
END:STANDARD
BEGIN:DAYLIGHT
TZOFFSETFROM:-0600
TZOFFSETTO:-0500
TZNAME:CDT
DTSTART:20270314T080000
END:DAYLIGHT
BEGIN:STANDARD
TZOFFSETFROM:-0500
TZOFFSETTO:-0600
TZNAME:CST
DTSTART:20271107T070000
END:STANDARD
END:VTIMEZONE
BEGIN:VEVENT
DTSTART;TZID=America/Chicago:20260202T160000
DTEND;TZID=America/Chicago:20260202T170000
DTSTAMP:20260422T235138
CREATED:20260206T010416Z
LAST-MODIFIED:20260206T010416Z
UID:10012852-1770048000-1770051600@wasecalesueurlibraries.com
SUMMARY:Mini Beaded Bouquets
DESCRIPTION:Learn how to craft a mini flower bouquet. These tiny blooms made up of wire and seed beads are\nperfect for gifting to a friend or turning into a unique accessory. Ages 13-18.
URL:https://wasecalesueurlibraries.com/event/mini-beaded-bouquets/
LOCATION:Janesville Public Library\, 100 W 2nd St\, Janesville\, MN\, 56048\, United States
CATEGORIES:Teen Events
GEO:44.1173302;-93.7075406
X-APPLE-STRUCTURED-LOCATION;VALUE=URI;X-ADDRESS=Janesville Public Library 100 W 2nd St Janesville MN 56048 United States;X-APPLE-RADIUS=500;X-TITLE=100 W 2nd St:geo:-93.7075406,44.1173302
END:VEVENT
BEGIN:VEVENT
DTSTART;TZID=America/Chicago:20260202T180000
DTEND;TZID=America/Chicago:20260202T190000
DTSTAMP:20260422T235138
CREATED:20260206T010258Z
LAST-MODIFIED:20260206T010258Z
UID:10012851-1770055200-1770058800@wasecalesueurlibraries.com
SUMMARY:Signs and Symbols
DESCRIPTION:Learn more about how signs and symbols can teach us more about ourselves\, how they’ve been used in storytelling\, and to find out what horoscopes\, crystals\, flowers\, and more can reveal about you. Ages 13-18.
URL:https://wasecalesueurlibraries.com/event/signs-and-symbols-4/
LOCATION:Elysian Public Library\, 202 E Main St\, Elysian\, MN\, 56028\, United States
CATEGORIES:Teen Events
GEO:44.198703;-93.6724641
X-APPLE-STRUCTURED-LOCATION;VALUE=URI;X-ADDRESS=Elysian Public Library 202 E Main St Elysian MN 56028 United States;X-APPLE-RADIUS=500;X-TITLE=202 E Main St:geo:-93.6724641,44.198703
END:VEVENT
BEGIN:VEVENT
DTSTART;TZID=America/Chicago:20260203T153000
DTEND;TZID=America/Chicago:20260203T163000
DTSTAMP:20260422T235138
CREATED:20260206T010753Z
LAST-MODIFIED:20260225T185527Z
UID:10012854-1770132600-1770136200@wasecalesueurlibraries.com
SUMMARY:Game Day Tournament
DESCRIPTION:Join us for an afternoon of gaming. This month will be playing a Pokémon TCG tournament. New and experienced players welcome. Cards will be provided if you do not have your own. Prizes will be handed out at the end of the tournament. Ages 13-18. Refreshments provided.
URL:https://wasecalesueurlibraries.com/event/game-day-tournament/2026-02-03/
LOCATION:Montgomery Public Library\, 104 Oak Ave SE\, Montgomery\, MN\, 56069\, United States
CATEGORIES:Teen Events
GEO:44.4355889;-93.5810028
X-APPLE-STRUCTURED-LOCATION;VALUE=URI;X-ADDRESS=Montgomery Public Library 104 Oak Ave SE Montgomery MN 56069 United States;X-APPLE-RADIUS=500;X-TITLE=104 Oak Ave SE:geo:-93.5810028,44.4355889
END:VEVENT
BEGIN:VEVENT
DTSTART;TZID=America/Chicago:20260204T130000
DTEND;TZID=America/Chicago:20260204T140000
DTSTAMP:20260422T235138
CREATED:20260206T005801Z
LAST-MODIFIED:20260206T005801Z
UID:10012848-1770210000-1770213600@wasecalesueurlibraries.com
SUMMARY:Name Pennants
DESCRIPTION:Love the look of vintage college pennants? Learn simple crafting techniques for creating\ncustom-made name pennants\, perfect for decorating your room or locker. Ages 13-18.
URL:https://wasecalesueurlibraries.com/event/name-pennants-2/
LOCATION:Le Sueur Public Library\, 118 Ferry St\, Le Sueur\, MN\, 56058\, United States
CATEGORIES:Teen Events
GEO:44.4601702;-93.9161364
X-APPLE-STRUCTURED-LOCATION;VALUE=URI;X-ADDRESS=Le Sueur Public Library 118 Ferry St Le Sueur MN 56058 United States;X-APPLE-RADIUS=500;X-TITLE=118 Ferry St:geo:-93.9161364,44.4601702
END:VEVENT
BEGIN:VEVENT
DTSTART;TZID=America/Chicago:20260210T153000
DTEND;TZID=America/Chicago:20260210T163000
DTSTAMP:20260422T235138
CREATED:20260206T010753Z
LAST-MODIFIED:20260225T185527Z
UID:10012855-1770737400-1770741000@wasecalesueurlibraries.com
SUMMARY:Game Day Tournament
DESCRIPTION:Join us for an afternoon of gaming. This month will be playing a Pokémon TCG tournament. New and experienced players welcome. Cards will be provided if you do not have your own. Prizes will be handed out at the end of the tournament. Ages 13-18. Refreshments provided.
URL:https://wasecalesueurlibraries.com/event/game-day-tournament/2026-02-10/
LOCATION:Montgomery Public Library\, 104 Oak Ave SE\, Montgomery\, MN\, 56069\, United States
CATEGORIES:Teen Events
GEO:44.4355889;-93.5810028
X-APPLE-STRUCTURED-LOCATION;VALUE=URI;X-ADDRESS=Montgomery Public Library 104 Oak Ave SE Montgomery MN 56069 United States;X-APPLE-RADIUS=500;X-TITLE=104 Oak Ave SE:geo:-93.5810028,44.4355889
END:VEVENT
BEGIN:VEVENT
DTSTART;TZID=America/Chicago:20260213T130000
DTEND;TZID=America/Chicago:20260213T140000
DTSTAMP:20260422T235138
CREATED:20260206T005254Z
LAST-MODIFIED:20260206T005254Z
UID:10012845-1770987600-1770991200@wasecalesueurlibraries.com
SUMMARY:Trinket Dishes
DESCRIPTION:Transform a simple dish into a sweet trinket holder by adding pretty paper to the surface. This\nsimple crafting technique turns basic into beautiful. Ages 13-18.
URL:https://wasecalesueurlibraries.com/event/trinket-dishes-3/
LOCATION:Waseca Public Library\, 408 N State St\, Waseca\, MN\, 56093\, United States
CATEGORIES:Teen Events
GEO:44.0809183;-93.5069008
X-APPLE-STRUCTURED-LOCATION;VALUE=URI;X-ADDRESS=Waseca Public Library 408 N State St Waseca MN 56093 United States;X-APPLE-RADIUS=500;X-TITLE=408 N State St:geo:-93.5069008,44.0809183
END:VEVENT
BEGIN:VEVENT
DTSTART;TZID=America/Chicago:20260217T153000
DTEND;TZID=America/Chicago:20260217T163000
DTSTAMP:20260422T235138
CREATED:20260206T010753Z
LAST-MODIFIED:20260225T185527Z
UID:10012856-1771342200-1771345800@wasecalesueurlibraries.com
SUMMARY:Game Day Tournament
DESCRIPTION:Join us for an afternoon of gaming. This month will be playing a Pokémon TCG tournament. New and experienced players welcome. Cards will be provided if you do not have your own. Prizes will be handed out at the end of the tournament. Ages 13-18. Refreshments provided.
URL:https://wasecalesueurlibraries.com/event/game-day-tournament/2026-02-17/
LOCATION:Montgomery Public Library\, 104 Oak Ave SE\, Montgomery\, MN\, 56069\, United States
CATEGORIES:Teen Events
GEO:44.4355889;-93.5810028
X-APPLE-STRUCTURED-LOCATION;VALUE=URI;X-ADDRESS=Montgomery Public Library 104 Oak Ave SE Montgomery MN 56069 United States;X-APPLE-RADIUS=500;X-TITLE=104 Oak Ave SE:geo:-93.5810028,44.4355889
END:VEVENT
BEGIN:VEVENT
DTSTART;TZID=America/Chicago:20260219T153000
DTEND;TZID=America/Chicago:20260219T163000
DTSTAMP:20260422T235138
CREATED:20260206T005909Z
LAST-MODIFIED:20260206T005909Z
UID:10012849-1771515000-1771518600@wasecalesueurlibraries.com
SUMMARY:Name Pennants
DESCRIPTION:Love the look of vintage college pennants? Learn simple crafting techniques for creating\ncustom-made name pennants\, perfect for decorating your room or locker. Ages 13-18.
URL:https://wasecalesueurlibraries.com/event/name-pennants-3/
LOCATION:Le Center Public Library\, 10 W Tyrone St\, Le Center\, MN\, 56057\, United States
CATEGORIES:Teen Events
GEO:44.3907505;-93.7316339
X-APPLE-STRUCTURED-LOCATION;VALUE=URI;X-ADDRESS=Le Center Public Library 10 W Tyrone St Le Center MN 56057 United States;X-APPLE-RADIUS=500;X-TITLE=10 W Tyrone St:geo:-93.7316339,44.3907505
END:VEVENT
BEGIN:VEVENT
DTSTART;TZID=America/Chicago:20260220T140000
DTEND;TZID=America/Chicago:20260220T150000
DTSTAMP:20260422T235138
CREATED:20260203T003534Z
LAST-MODIFIED:20260203T003534Z
UID:10012795-1771596000-1771599600@wasecalesueurlibraries.com
SUMMARY:Prairie Planetarium
DESCRIPTION:Experience the wonders of the universe with The Prairie Planetarium\, a portable\, inflatable\nplanetarium that brings the night sky indoors. Step inside the dome and be surrounded by a\nstunning projection of stars\, planets\, and celestial objects. Staff from the Wild Compass Environmental Education will lead you on a journey through different stars and planets. Ages 6+. \nRegister now. \nShows at 2\,3\, and 4 pm\nSponsored by Friends of the Le Sueur Public Library
URL:https://wasecalesueurlibraries.com/event/prairie-planetarium/2026-02-20/1/
LOCATION:Le Sueur Community Center\, 821 Ferry St\, Le Sueur\, MN\, 56058\, United States
CATEGORIES:Adult Events,All ages,Children's Events,Family,Teen Events,Tweens
END:VEVENT
BEGIN:VEVENT
DTSTART;TZID=America/Chicago:20260220T150000
DTEND;TZID=America/Chicago:20260220T160000
DTSTAMP:20260422T235138
CREATED:20260203T003534Z
LAST-MODIFIED:20260203T003534Z
UID:10012796-1771599600-1771603200@wasecalesueurlibraries.com
SUMMARY:Prairie Planetarium
DESCRIPTION:Experience the wonders of the universe with The Prairie Planetarium\, a portable\, inflatable\nplanetarium that brings the night sky indoors. Step inside the dome and be surrounded by a\nstunning projection of stars\, planets\, and celestial objects. Staff from the Wild Compass Environmental Education will lead you on a journey through different stars and planets. Ages 6+. \nRegister now. \nShows at 2\,3\, and 4 pm\nSponsored by Friends of the Le Sueur Public Library
URL:https://wasecalesueurlibraries.com/event/prairie-planetarium/2026-02-20/2/
LOCATION:Le Sueur Community Center\, 821 Ferry St\, Le Sueur\, MN\, 56058\, United States
CATEGORIES:Adult Events,All ages,Children's Events,Family,Teen Events,Tweens
END:VEVENT
BEGIN:VEVENT
DTSTART;TZID=America/Chicago:20260220T160000
DTEND;TZID=America/Chicago:20260220T170000
DTSTAMP:20260422T235138
CREATED:20260203T003534Z
LAST-MODIFIED:20260203T003534Z
UID:10012797-1771603200-1771606800@wasecalesueurlibraries.com
SUMMARY:Prairie Planetarium
DESCRIPTION:Experience the wonders of the universe with The Prairie Planetarium\, a portable\, inflatable\nplanetarium that brings the night sky indoors. Step inside the dome and be surrounded by a\nstunning projection of stars\, planets\, and celestial objects. Staff from the Wild Compass Environmental Education will lead you on a journey through different stars and planets. Ages 6+. \nRegister now. \nShows at 2\,3\, and 4 pm\nSponsored by Friends of the Le Sueur Public Library
URL:https://wasecalesueurlibraries.com/event/prairie-planetarium/2026-02-20/3/
LOCATION:Le Sueur Community Center\, 821 Ferry St\, Le Sueur\, MN\, 56058\, United States
CATEGORIES:Adult Events,All ages,Children's Events,Family,Teen Events,Tweens
END:VEVENT
BEGIN:VEVENT
DTSTART;TZID=America/Chicago:20260223T180000
DTEND;TZID=America/Chicago:20260223T190000
DTSTAMP:20260422T235138
CREATED:20260206T010603Z
LAST-MODIFIED:20260206T010603Z
UID:10012853-1771869600-1771873200@wasecalesueurlibraries.com
SUMMARY:Mini Beaded Bouquets
DESCRIPTION:Learn how to craft a mini flower bouquet. These tiny blooms made up of wire and seed beads are\nperfect for gifting to a friend or turning into a unique accessory. Ages 13-18.
URL:https://wasecalesueurlibraries.com/event/mini-beaded-bouquets-2/
LOCATION:Waterville Public Library\, 210 Paquin St\, Waterville\, MN\, 56096\, United States
CATEGORIES:Teen Events
GEO:44.2177999;-93.5709706
X-APPLE-STRUCTURED-LOCATION;VALUE=URI;X-ADDRESS=Waterville Public Library 210 Paquin St Waterville MN 56096 United States;X-APPLE-RADIUS=500;X-TITLE=210 Paquin St:geo:-93.5709706,44.2177999
END:VEVENT
BEGIN:VEVENT
DTSTART;TZID=America/Chicago:20260224T153000
DTEND;TZID=America/Chicago:20260224T163000
DTSTAMP:20260422T235138
CREATED:20260206T010753Z
LAST-MODIFIED:20260225T185527Z
UID:10012857-1771947000-1771950600@wasecalesueurlibraries.com
SUMMARY:Game Day Tournament
DESCRIPTION:Join us for an afternoon of gaming. This month will be playing a Pokémon TCG tournament. New and experienced players welcome. Cards will be provided if you do not have your own. Prizes will be handed out at the end of the tournament. Ages 13-18. Refreshments provided.
URL:https://wasecalesueurlibraries.com/event/game-day-tournament/2026-02-24/
LOCATION:Montgomery Public Library\, 104 Oak Ave SE\, Montgomery\, MN\, 56069\, United States
CATEGORIES:Teen Events
GEO:44.4355889;-93.5810028
X-APPLE-STRUCTURED-LOCATION;VALUE=URI;X-ADDRESS=Montgomery Public Library 104 Oak Ave SE Montgomery MN 56069 United States;X-APPLE-RADIUS=500;X-TITLE=104 Oak Ave SE:geo:-93.5810028,44.4355889
END:VEVENT
BEGIN:VEVENT
DTSTART;TZID=America/Chicago:20260226T160000
DTEND;TZID=America/Chicago:20260226T170000
DTSTAMP:20260422T235138
CREATED:20260206T005434Z
LAST-MODIFIED:20260206T005434Z
UID:10012846-1772121600-1772125200@wasecalesueurlibraries.com
SUMMARY:Trinket Dishes
DESCRIPTION:Transform a simple dish into a sweet trinket holder by adding pretty paper to the surface. This\nsimple crafting technique turns basic into beautiful. Ages 13-18.
URL:https://wasecalesueurlibraries.com/event/trinket-dishes-4/
LOCATION:Janesville Public Library\, 100 W 2nd St\, Janesville\, MN\, 56048\, United States
CATEGORIES:Teen Events
GEO:44.1173302;-93.7075406
X-APPLE-STRUCTURED-LOCATION;VALUE=URI;X-ADDRESS=Janesville Public Library 100 W 2nd St Janesville MN 56048 United States;X-APPLE-RADIUS=500;X-TITLE=100 W 2nd St:geo:-93.7075406,44.1173302
END:VEVENT
BEGIN:VEVENT
DTSTART;TZID=America/Chicago:20260226T160000
DTEND;TZID=America/Chicago:20260226T170000
DTSTAMP:20260422T235138
CREATED:20260206T010029Z
LAST-MODIFIED:20260206T010029Z
UID:10012850-1772121600-1772125200@wasecalesueurlibraries.com
SUMMARY:Canvas Bag Design
DESCRIPTION:Transform a canvas bag into a custom tote that reflects you. Connect with other teens while you\nadd vibrant patterns\, intricate illustrations\, or inspiring quotes. Ages 13-18.
URL:https://wasecalesueurlibraries.com/event/canvas-bag-design-7/
LOCATION:New Richland Public Library\, 129 Broadway Ave S\, New Richland\, MN\, 56072\, United States
CATEGORIES:Teen Events
GEO:43.8935599;-93.4938211
X-APPLE-STRUCTURED-LOCATION;VALUE=URI;X-ADDRESS=New Richland Public Library 129 Broadway Ave S New Richland MN 56072 United States;X-APPLE-RADIUS=500;X-TITLE=129 Broadway Ave S:geo:-93.4938211,43.8935599
END:VEVENT
END:VCALENDAR