BEGIN:VCALENDAR
VERSION:2.0
PRODID:-//Waseca-Le Sueur Library - ECPv6.15.20//NONSGML v1.0//EN
CALSCALE:GREGORIAN
METHOD:PUBLISH
X-ORIGINAL-URL:https://wasecalesueurlibraries.com
X-WR-CALDESC:Events for Waseca-Le Sueur Library
REFRESH-INTERVAL;VALUE=DURATION:PT1H
X-Robots-Tag:noindex
X-PUBLISHED-TTL:PT1H
BEGIN:VTIMEZONE
TZID:America/Chicago
BEGIN:DAYLIGHT
TZOFFSETFROM:-0600
TZOFFSETTO:-0500
TZNAME:CDT
DTSTART:20250309T080000
END:DAYLIGHT
BEGIN:STANDARD
TZOFFSETFROM:-0500
TZOFFSETTO:-0600
TZNAME:CST
DTSTART:20251102T070000
END:STANDARD
BEGIN:DAYLIGHT
TZOFFSETFROM:-0600
TZOFFSETTO:-0500
TZNAME:CDT
DTSTART:20260308T080000
END:DAYLIGHT
BEGIN:STANDARD
TZOFFSETFROM:-0500
TZOFFSETTO:-0600
TZNAME:CST
DTSTART:20261101T070000
END:STANDARD
BEGIN:DAYLIGHT
TZOFFSETFROM:-0600
TZOFFSETTO:-0500
TZNAME:CDT
DTSTART:20270314T080000
END:DAYLIGHT
BEGIN:STANDARD
TZOFFSETFROM:-0500
TZOFFSETTO:-0600
TZNAME:CST
DTSTART:20271107T070000
END:STANDARD
END:VTIMEZONE
BEGIN:VEVENT
DTSTART;TZID=America/Chicago:20260106T180000
DTEND;TZID=America/Chicago:20260106T200000
DTSTAMP:20260422T221405
CREATED:20251222T133232Z
LAST-MODIFIED:20251222T133344Z
UID:10012568-1767722400-1767729600@wasecalesueurlibraries.com
SUMMARY:Game Night Tournament
DESCRIPTION:Join us for a night of gaming. We’ll be rotating games\, starting with a Pokémon TCG tournament. Refreshments and prizes at the end of the January-long tournament. Ages 13-18.
URL:https://wasecalesueurlibraries.com/event/game-night-tournament/2026-01-06/
LOCATION:Montgomery Public Library\, 104 Oak Ave SE\, Montgomery\, MN\, 56069\, United States
CATEGORIES:Teen Events
GEO:44.4355889;-93.5810028
X-APPLE-STRUCTURED-LOCATION;VALUE=URI;X-ADDRESS=Montgomery Public Library 104 Oak Ave SE Montgomery MN 56069 United States;X-APPLE-RADIUS=500;X-TITLE=104 Oak Ave SE:geo:-93.5810028,44.4355889
END:VEVENT
BEGIN:VEVENT
DTSTART;TZID=America/Chicago:20260113T180000
DTEND;TZID=America/Chicago:20260113T200000
DTSTAMP:20260422T221405
CREATED:20251222T133232Z
LAST-MODIFIED:20251222T133344Z
UID:10012569-1768327200-1768334400@wasecalesueurlibraries.com
SUMMARY:Game Night Tournament
DESCRIPTION:Join us for a night of gaming. We’ll be rotating games\, starting with a Pokémon TCG tournament. Refreshments and prizes at the end of the January-long tournament. Ages 13-18.
URL:https://wasecalesueurlibraries.com/event/game-night-tournament/2026-01-13/
LOCATION:Montgomery Public Library\, 104 Oak Ave SE\, Montgomery\, MN\, 56069\, United States
CATEGORIES:Teen Events
GEO:44.4355889;-93.5810028
X-APPLE-STRUCTURED-LOCATION;VALUE=URI;X-ADDRESS=Montgomery Public Library 104 Oak Ave SE Montgomery MN 56069 United States;X-APPLE-RADIUS=500;X-TITLE=104 Oak Ave SE:geo:-93.5810028,44.4355889
END:VEVENT
BEGIN:VEVENT
DTSTART;TZID=America/Chicago:20260114T160000
DTEND;TZID=America/Chicago:20260114T170000
DTSTAMP:20260422T221405
CREATED:20251222T133019Z
LAST-MODIFIED:20251222T133019Z
UID:10012567-1768406400-1768410000@wasecalesueurlibraries.com
SUMMARY:Fresh Pages: Create Your Own Journal
DESCRIPTION:Kick off the new year with a personalized journal! \nTeens will design the covers of their own journal and can create either a junk or bullet journal to lay out their 2026. From book pages to magazine clippings to stickers and more\, this event is perfect for any teen interested in journaling\, planning\, art\, and memory keeping. Ages 13-18. \nSponsored by Friends of the Le Sueur Public Library
URL:https://wasecalesueurlibraries.com/event/fresh-pages-create-your-own-journal/
LOCATION:Le Sueur Public Library\, 118 Ferry St\, Le Sueur\, MN\, 56058\, United States
CATEGORIES:Teen Events
GEO:44.4601702;-93.9161364
X-APPLE-STRUCTURED-LOCATION;VALUE=URI;X-ADDRESS=Le Sueur Public Library 118 Ferry St Le Sueur MN 56058 United States;X-APPLE-RADIUS=500;X-TITLE=118 Ferry St:geo:-93.9161364,44.4601702
END:VEVENT
BEGIN:VEVENT
DTSTART;TZID=America/Chicago:20260115T160000
DTEND;TZID=America/Chicago:20260115T170000
DTSTAMP:20260422T221405
CREATED:20251222T132720Z
LAST-MODIFIED:20251222T132720Z
UID:10012565-1768492800-1768496400@wasecalesueurlibraries.com
SUMMARY:Trinket Dishes
DESCRIPTION:Transform a simple dish into a sweet trinket holder by adding pretty paper to the surface. This simple crafting technique turns basic into beautiful. Ages 13-18.
URL:https://wasecalesueurlibraries.com/event/trinket-dishes/
LOCATION:New Richland Public Library\, 129 Broadway Ave S\, New Richland\, MN\, 56072\, United States
CATEGORIES:Teen Events
GEO:43.8935599;-93.4938211
X-APPLE-STRUCTURED-LOCATION;VALUE=URI;X-ADDRESS=New Richland Public Library 129 Broadway Ave S New Richland MN 56072 United States;X-APPLE-RADIUS=500;X-TITLE=129 Broadway Ave S:geo:-93.4938211,43.8935599
END:VEVENT
BEGIN:VEVENT
DTSTART;TZID=America/Chicago:20260120T153000
DTEND;TZID=America/Chicago:20260120T163000
DTSTAMP:20260422T221405
CREATED:20251222T133513Z
LAST-MODIFIED:20251222T133513Z
UID:10012624-1768923000-1768926600@wasecalesueurlibraries.com
SUMMARY:Name Pennants
DESCRIPTION:Love the look of vintage college pennants? Learn simple crafting techniques for creating custom-made name pennants\, perfect for decorating your room or\nlocker. Ages 13-18.
URL:https://wasecalesueurlibraries.com/event/name-pennants/
LOCATION:Waseca Public Library\, 408 N State St\, Waseca\, MN\, 56093\, United States
CATEGORIES:Teen Events
GEO:44.0809183;-93.5069008
X-APPLE-STRUCTURED-LOCATION;VALUE=URI;X-ADDRESS=Waseca Public Library 408 N State St Waseca MN 56093 United States;X-APPLE-RADIUS=500;X-TITLE=408 N State St:geo:-93.5069008,44.0809183
END:VEVENT
BEGIN:VEVENT
DTSTART;TZID=America/Chicago:20260120T180000
DTEND;TZID=America/Chicago:20260120T200000
DTSTAMP:20260422T221405
CREATED:20251222T133232Z
LAST-MODIFIED:20251222T133344Z
UID:10012570-1768932000-1768939200@wasecalesueurlibraries.com
SUMMARY:Game Night Tournament
DESCRIPTION:Join us for a night of gaming. We’ll be rotating games\, starting with a Pokémon TCG tournament. Refreshments and prizes at the end of the January-long tournament. Ages 13-18.
URL:https://wasecalesueurlibraries.com/event/game-night-tournament/2026-01-20/
LOCATION:Montgomery Public Library\, 104 Oak Ave SE\, Montgomery\, MN\, 56069\, United States
CATEGORIES:Teen Events
GEO:44.4355889;-93.5810028
X-APPLE-STRUCTURED-LOCATION;VALUE=URI;X-ADDRESS=Montgomery Public Library 104 Oak Ave SE Montgomery MN 56069 United States;X-APPLE-RADIUS=500;X-TITLE=104 Oak Ave SE:geo:-93.5810028,44.4355889
END:VEVENT
BEGIN:VEVENT
DTSTART;TZID=America/Chicago:20260127T180000
DTEND;TZID=America/Chicago:20260127T200000
DTSTAMP:20260422T221405
CREATED:20251222T133232Z
LAST-MODIFIED:20251222T133344Z
UID:10012571-1769536800-1769544000@wasecalesueurlibraries.com
SUMMARY:Game Night Tournament
DESCRIPTION:Join us for a night of gaming. We’ll be rotating games\, starting with a Pokémon TCG tournament. Refreshments and prizes at the end of the January-long tournament. Ages 13-18.
URL:https://wasecalesueurlibraries.com/event/game-night-tournament/2026-01-27/
LOCATION:Montgomery Public Library\, 104 Oak Ave SE\, Montgomery\, MN\, 56069\, United States
CATEGORIES:Teen Events
GEO:44.4355889;-93.5810028
X-APPLE-STRUCTURED-LOCATION;VALUE=URI;X-ADDRESS=Montgomery Public Library 104 Oak Ave SE Montgomery MN 56069 United States;X-APPLE-RADIUS=500;X-TITLE=104 Oak Ave SE:geo:-93.5810028,44.4355889
END:VEVENT
BEGIN:VEVENT
DTSTART;TZID=America/Chicago:20260131T100000
DTEND;TZID=America/Chicago:20260131T120000
DTSTAMP:20260422T221405
CREATED:20251222T132833Z
LAST-MODIFIED:20251222T132833Z
UID:10012566-1769853600-1769860800@wasecalesueurlibraries.com
SUMMARY:Trinket Dishes
DESCRIPTION:Transform a simple dish into a sweet trinket holder by adding pretty paper to the surface. This simple crafting technique turns basic into beautiful. Ages 13-18.
URL:https://wasecalesueurlibraries.com/event/trinket-dishes-2/
LOCATION:Montgomery Public Library\, 104 Oak Ave SE\, Montgomery\, MN\, 56069\, United States
CATEGORIES:Teen Events
GEO:44.4355889;-93.5810028
X-APPLE-STRUCTURED-LOCATION;VALUE=URI;X-ADDRESS=Montgomery Public Library 104 Oak Ave SE Montgomery MN 56069 United States;X-APPLE-RADIUS=500;X-TITLE=104 Oak Ave SE:geo:-93.5810028,44.4355889
END:VEVENT
END:VCALENDAR