BEGIN:VCALENDAR
VERSION:2.0
PRODID:-//Waseca-Le Sueur Library - ECPv6.15.20//NONSGML v1.0//EN
CALSCALE:GREGORIAN
METHOD:PUBLISH
X-ORIGINAL-URL:https://wasecalesueurlibraries.com
X-WR-CALDESC:Events for Waseca-Le Sueur Library
REFRESH-INTERVAL;VALUE=DURATION:PT1H
X-Robots-Tag:noindex
X-PUBLISHED-TTL:PT1H
BEGIN:VTIMEZONE
TZID:America/Chicago
BEGIN:DAYLIGHT
TZOFFSETFROM:-0600
TZOFFSETTO:-0500
TZNAME:CDT
DTSTART:20240310T080000
END:DAYLIGHT
BEGIN:STANDARD
TZOFFSETFROM:-0500
TZOFFSETTO:-0600
TZNAME:CST
DTSTART:20241103T070000
END:STANDARD
BEGIN:DAYLIGHT
TZOFFSETFROM:-0600
TZOFFSETTO:-0500
TZNAME:CDT
DTSTART:20250309T080000
END:DAYLIGHT
BEGIN:STANDARD
TZOFFSETFROM:-0500
TZOFFSETTO:-0600
TZNAME:CST
DTSTART:20251102T070000
END:STANDARD
BEGIN:DAYLIGHT
TZOFFSETFROM:-0600
TZOFFSETTO:-0500
TZNAME:CDT
DTSTART:20260308T080000
END:DAYLIGHT
BEGIN:STANDARD
TZOFFSETFROM:-0500
TZOFFSETTO:-0600
TZNAME:CST
DTSTART:20261101T070000
END:STANDARD
END:VTIMEZONE
BEGIN:VEVENT
DTSTART;TZID=America/Chicago:20251202T160000
DTEND;TZID=America/Chicago:20251202T200000
DTSTAMP:20260423T010823
CREATED:20251204T164407Z
LAST-MODIFIED:20251204T164407Z
UID:10012438-1764691200-1764705600@wasecalesueurlibraries.com
SUMMARY:Mondrian-Inspired Mason Jars
DESCRIPTION:Embrace your inner artist and create a mason jar inspired by Piet Mondrian—one of the pioneers of\n20th-century abstract art. Ages 13-18.
URL:https://wasecalesueurlibraries.com/event/mondrian-inspired-mason-jars-6/
LOCATION:Montgomery Public Library\, 104 Oak Ave SE\, Montgomery\, MN\, 56069\, United States
CATEGORIES:Teen Events
GEO:44.4355889;-93.5810028
X-APPLE-STRUCTURED-LOCATION;VALUE=URI;X-ADDRESS=Montgomery Public Library 104 Oak Ave SE Montgomery MN 56069 United States;X-APPLE-RADIUS=500;X-TITLE=104 Oak Ave SE:geo:-93.5810028,44.4355889
END:VEVENT
BEGIN:VEVENT
DTSTART;TZID=America/Chicago:20251202T180000
DTEND;TZID=America/Chicago:20251202T190000
DTSTAMP:20260423T010823
CREATED:20251204T153908Z
LAST-MODIFIED:20251204T153908Z
UID:10012422-1764698400-1764702000@wasecalesueurlibraries.com
SUMMARY:Book Bedazzling
DESCRIPTION:Give a book a glow-up! Bring your own beloved book from home—or choose one of our fresh and popular\ntitles—and transform it into a sparkling masterpiece. We’ll provide all the supplies you need to bedazzle\,\ndecorate\, and personalize the book cover or dust jacket. Geared for teens and adults. \nRegister now.
URL:https://wasecalesueurlibraries.com/event/book-bedazzling-2/
LOCATION:Waseca Public Library\, 408 N State St\, Waseca\, MN\, 56093\, United States
CATEGORIES:Adult Events,Teen Events
GEO:44.0809183;-93.5069008
X-APPLE-STRUCTURED-LOCATION;VALUE=URI;X-ADDRESS=Waseca Public Library 408 N State St Waseca MN 56093 United States;X-APPLE-RADIUS=500;X-TITLE=408 N State St:geo:-93.5069008,44.0809183
END:VEVENT
BEGIN:VEVENT
DTSTART;TZID=America/Chicago:20251202T180000
DTEND;TZID=America/Chicago:20251202T190000
DTSTAMP:20260423T010823
CREATED:20251204T165742Z
LAST-MODIFIED:20251204T165742Z
UID:10012441-1764698400-1764702000@wasecalesueurlibraries.com
SUMMARY:Game Night
DESCRIPTION:Join us for a night of gaming. We’ll have a variety of games to choose from. Ages 13-18.
URL:https://wasecalesueurlibraries.com/event/game-night-2/2025-12-02/
LOCATION:Montgomery Public Library\, 104 Oak Ave SE\, Montgomery\, MN\, 56069\, United States
CATEGORIES:Teen Events
GEO:44.4355889;-93.5810028
X-APPLE-STRUCTURED-LOCATION;VALUE=URI;X-ADDRESS=Montgomery Public Library 104 Oak Ave SE Montgomery MN 56069 United States;X-APPLE-RADIUS=500;X-TITLE=104 Oak Ave SE:geo:-93.5810028,44.4355889
END:VEVENT
BEGIN:VEVENT
DTSTART;TZID=America/Chicago:20251209T180000
DTEND;TZID=America/Chicago:20251209T190000
DTSTAMP:20260423T010823
CREATED:20251204T165742Z
LAST-MODIFIED:20251204T165742Z
UID:10012442-1765303200-1765306800@wasecalesueurlibraries.com
SUMMARY:Game Night
DESCRIPTION:Join us for a night of gaming. We’ll have a variety of games to choose from. Ages 13-18.
URL:https://wasecalesueurlibraries.com/event/game-night-2/2025-12-09/
LOCATION:Montgomery Public Library\, 104 Oak Ave SE\, Montgomery\, MN\, 56069\, United States
CATEGORIES:Teen Events
GEO:44.4355889;-93.5810028
X-APPLE-STRUCTURED-LOCATION;VALUE=URI;X-ADDRESS=Montgomery Public Library 104 Oak Ave SE Montgomery MN 56069 United States;X-APPLE-RADIUS=500;X-TITLE=104 Oak Ave SE:geo:-93.5810028,44.4355889
END:VEVENT
BEGIN:VEVENT
DTSTART;TZID=America/Chicago:20251216T180000
DTEND;TZID=America/Chicago:20251216T190000
DTSTAMP:20260423T010823
CREATED:20251204T165742Z
LAST-MODIFIED:20251204T165742Z
UID:10012443-1765908000-1765911600@wasecalesueurlibraries.com
SUMMARY:Game Night
DESCRIPTION:Join us for a night of gaming. We’ll have a variety of games to choose from. Ages 13-18.
URL:https://wasecalesueurlibraries.com/event/game-night-2/2025-12-16/
LOCATION:Montgomery Public Library\, 104 Oak Ave SE\, Montgomery\, MN\, 56069\, United States
CATEGORIES:Teen Events
GEO:44.4355889;-93.5810028
X-APPLE-STRUCTURED-LOCATION;VALUE=URI;X-ADDRESS=Montgomery Public Library 104 Oak Ave SE Montgomery MN 56069 United States;X-APPLE-RADIUS=500;X-TITLE=104 Oak Ave SE:geo:-93.5810028,44.4355889
END:VEVENT
BEGIN:VEVENT
DTSTART;TZID=America/Chicago:20251218T080000
DTEND;TZID=America/Chicago:20251218T170000
DTSTAMP:20260423T010823
CREATED:20250831T003734Z
LAST-MODIFIED:20251204T165842Z
UID:10012444-1766044800-1766077200@wasecalesueurlibraries.com
SUMMARY:Drawing Club
DESCRIPTION:Join our drawing club for teen artists! Learn new techniques and practice your drawing skills. We’ll sample a variety of drawing styles\, including fashion\, anime\, nature\, objects\, illustration\, doodles\, portraits\, and more. Exclusively for ages 12-18. All skill levels welcome! \nSponsored by Janesville Area Foundation and The Pope Family Fund
URL:https://wasecalesueurlibraries.com/event/drawing-club-3/2025-12-18/
LOCATION:Janesville Public Library\, 100 W 2nd St\, Janesville\, MN\, 56048\, United States
CATEGORIES:Teen Events
GEO:44.1173302;-93.7075406
X-APPLE-STRUCTURED-LOCATION;VALUE=URI;X-ADDRESS=Janesville Public Library 100 W 2nd St Janesville MN 56048 United States;X-APPLE-RADIUS=500;X-TITLE=100 W 2nd St:geo:-93.7075406,44.1173302
END:VEVENT
BEGIN:VEVENT
DTSTART;TZID=America/Chicago:20251230T130000
DTEND;TZID=America/Chicago:20251230T140000
DTSTAMP:20260423T010823
CREATED:20251204T165345Z
LAST-MODIFIED:20251204T165345Z
UID:10012439-1767099600-1767103200@wasecalesueurlibraries.com
SUMMARY:Bullet Journals
DESCRIPTION:Learn how to create unique page spreads and start a journal with goal trackers\, calendars\, and more.\nGeared for teens. \nSponsored by the E.F. Johnson Foundation
URL:https://wasecalesueurlibraries.com/event/bullet-journals-8/
LOCATION:Waseca Public Library\, 408 N State St\, Waseca\, MN\, 56093\, United States
CATEGORIES:Teen Events
GEO:44.0809183;-93.5069008
X-APPLE-STRUCTURED-LOCATION;VALUE=URI;X-ADDRESS=Waseca Public Library 408 N State St Waseca MN 56093 United States;X-APPLE-RADIUS=500;X-TITLE=408 N State St:geo:-93.5069008,44.0809183
END:VEVENT
END:VCALENDAR