BEGIN:VCALENDAR
VERSION:2.0
PRODID:-//Waseca-Le Sueur Library - ECPv6.15.20//NONSGML v1.0//EN
CALSCALE:GREGORIAN
METHOD:PUBLISH
X-ORIGINAL-URL:https://wasecalesueurlibraries.com
X-WR-CALDESC:Events for Waseca-Le Sueur Library
REFRESH-INTERVAL;VALUE=DURATION:PT1H
X-Robots-Tag:noindex
X-PUBLISHED-TTL:PT1H
BEGIN:VTIMEZONE
TZID:America/Chicago
BEGIN:DAYLIGHT
TZOFFSETFROM:-0600
TZOFFSETTO:-0500
TZNAME:CDT
DTSTART:20240310T080000
END:DAYLIGHT
BEGIN:STANDARD
TZOFFSETFROM:-0500
TZOFFSETTO:-0600
TZNAME:CST
DTSTART:20241103T070000
END:STANDARD
BEGIN:DAYLIGHT
TZOFFSETFROM:-0600
TZOFFSETTO:-0500
TZNAME:CDT
DTSTART:20250309T080000
END:DAYLIGHT
BEGIN:STANDARD
TZOFFSETFROM:-0500
TZOFFSETTO:-0600
TZNAME:CST
DTSTART:20251102T070000
END:STANDARD
BEGIN:DAYLIGHT
TZOFFSETFROM:-0600
TZOFFSETTO:-0500
TZNAME:CDT
DTSTART:20260308T080000
END:DAYLIGHT
BEGIN:STANDARD
TZOFFSETFROM:-0500
TZOFFSETTO:-0600
TZNAME:CST
DTSTART:20261101T070000
END:STANDARD
END:VTIMEZONE
BEGIN:VEVENT
DTSTART;TZID=America/Chicago:20251006T130000
DTEND;TZID=America/Chicago:20251006T140000
DTSTAMP:20260425T210526
CREATED:20250926T133532Z
LAST-MODIFIED:20250926T133532Z
UID:10012324-1759755600-1759759200@wasecalesueurlibraries.com
SUMMARY:How about Them Apples?
DESCRIPTION:Discover a variety of apples as we hold a tasting with local varieties and toppings. Ages 13-18.
URL:https://wasecalesueurlibraries.com/event/how-about-them-apples-4/
LOCATION:Waseca Public Library\, 408 N State St\, Waseca\, MN\, 56093\, United States
CATEGORIES:Teen Events
GEO:44.0809183;-93.5069008
X-APPLE-STRUCTURED-LOCATION;VALUE=URI;X-ADDRESS=Waseca Public Library 408 N State St Waseca MN 56093 United States;X-APPLE-RADIUS=500;X-TITLE=408 N State St:geo:-93.5069008,44.0809183
END:VEVENT
BEGIN:VEVENT
DTSTART;TZID=America/Chicago:20251006T140000
DTEND;TZID=America/Chicago:20251006T170000
DTSTAMP:20260425T210526
CREATED:20250926T133628Z
LAST-MODIFIED:20250926T133628Z
UID:10012325-1759759200-1759770000@wasecalesueurlibraries.com
SUMMARY:Macramé Ghosts
DESCRIPTION:In this spooky twist on a classic craft\, teens will create their own macramé ghosts. Ages 13-18.
URL:https://wasecalesueurlibraries.com/event/macrame-ghosts-2/
LOCATION:Montgomery Public Library\, 104 Oak Ave SE\, Montgomery\, MN\, 56069\, United States
CATEGORIES:Teen Events
GEO:44.4355889;-93.5810028
X-APPLE-STRUCTURED-LOCATION;VALUE=URI;X-ADDRESS=Montgomery Public Library 104 Oak Ave SE Montgomery MN 56069 United States;X-APPLE-RADIUS=500;X-TITLE=104 Oak Ave SE:geo:-93.5810028,44.4355889
END:VEVENT
BEGIN:VEVENT
DTSTART;TZID=America/Chicago:20251007T180000
DTEND;TZID=America/Chicago:20251007T190000
DTSTAMP:20260425T210526
CREATED:20250926T134358Z
LAST-MODIFIED:20250926T134358Z
UID:10012334-1759860000-1759863600@wasecalesueurlibraries.com
SUMMARY:Game Night
DESCRIPTION:Join us for a night of gaming. We’ll have a variety of games to choose from. Ages 13-18.
URL:https://wasecalesueurlibraries.com/event/game-night/2025-10-07/
LOCATION:Montgomery Public Library\, 104 Oak Ave SE\, Montgomery\, MN\, 56069\, United States
CATEGORIES:Teen Events
GEO:44.4355889;-93.5810028
X-APPLE-STRUCTURED-LOCATION;VALUE=URI;X-ADDRESS=Montgomery Public Library 104 Oak Ave SE Montgomery MN 56069 United States;X-APPLE-RADIUS=500;X-TITLE=104 Oak Ave SE:geo:-93.5810028,44.4355889
END:VEVENT
BEGIN:VEVENT
DTSTART;TZID=America/Chicago:20251008T160000
DTEND;TZID=America/Chicago:20251008T170000
DTSTAMP:20260425T210526
CREATED:20250926T133400Z
LAST-MODIFIED:20250926T133400Z
UID:10012323-1759939200-1759942800@wasecalesueurlibraries.com
SUMMARY:Spotify Bookmarks
DESCRIPTION:Obsessed with music as much as books? Create Spotify-style bookmarks to capture your favorite song lyrics or album artwork. Ages 13-18.
URL:https://wasecalesueurlibraries.com/event/spotify-bookmarks-2/
LOCATION:Le Sueur Public Library\, 118 Ferry St\, Le Sueur\, MN\, 56058\, United States
CATEGORIES:Teen Events
GEO:44.4601702;-93.9161364
X-APPLE-STRUCTURED-LOCATION;VALUE=URI;X-ADDRESS=Le Sueur Public Library 118 Ferry St Le Sueur MN 56058 United States;X-APPLE-RADIUS=500;X-TITLE=118 Ferry St:geo:-93.9161364,44.4601702
END:VEVENT
BEGIN:VEVENT
DTSTART;TZID=America/Chicago:20251009T180000
DTEND;TZID=America/Chicago:20251009T190000
DTSTAMP:20260425T210526
CREATED:20250925T195741Z
LAST-MODIFIED:20250925T195741Z
UID:10012268-1760032800-1760036400@wasecalesueurlibraries.com
SUMMARY:Virtual Author Event: Leigh Bardugo
DESCRIPTION:Leigh Bardugo will talk about her highly popular Six of Crows series. The complex fantasy setting\, thoughtfully-structured magic system\, and deliciously morally gray characters collide in a world you won’t want to leave! \nThis event will be recorded and people who register will be emailed a link to the recording. \nRegister now. \nThis event is made possible by the Traverse des Sioux Library Cooperative. The event is held in coordination with Library Speakers Consortium and presented by Waseca-Le Sueur Regional Library System.
URL:https://wasecalesueurlibraries.com/event/virtual-author-event-leigh-bardugo/
LOCATION:Virtual Event\, MN\, United States
CATEGORIES:Adult Events,Author Event,Teen Events
END:VEVENT
BEGIN:VEVENT
DTSTART;TZID=America/Chicago:20251013T140000
DTEND;TZID=America/Chicago:20251013T180000
DTSTAMP:20260425T210526
CREATED:20250925T203102Z
LAST-MODIFIED:20250925T203102Z
UID:10012282-1760364000-1760378400@wasecalesueurlibraries.com
SUMMARY:Stitch & Visit
DESCRIPTION:Bring your craft projects and visit with others while embroidering\, knitting\, crocheting\, or other mobile craft project. Dianne Gahler will be on hand to problem solve. All ages.
URL:https://wasecalesueurlibraries.com/event/stitch-visit-3/
LOCATION:Le Center Public Library\, 10 W Tyrone St\, Le Center\, MN\, 56057\, United States
CATEGORIES:Adult Events,All ages,Children's Events,Teen Events,Tweens
GEO:44.3907505;-93.7316339
X-APPLE-STRUCTURED-LOCATION;VALUE=URI;X-ADDRESS=Le Center Public Library 10 W Tyrone St Le Center MN 56057 United States;X-APPLE-RADIUS=500;X-TITLE=10 W Tyrone St:geo:-93.7316339,44.3907505
END:VEVENT
BEGIN:VEVENT
DTSTART;TZID=America/Chicago:20251014T180000
DTEND;TZID=America/Chicago:20251014T190000
DTSTAMP:20260425T210526
CREATED:20250926T134358Z
LAST-MODIFIED:20250926T134358Z
UID:10012335-1760464800-1760468400@wasecalesueurlibraries.com
SUMMARY:Game Night
DESCRIPTION:Join us for a night of gaming. We’ll have a variety of games to choose from. Ages 13-18.
URL:https://wasecalesueurlibraries.com/event/game-night/2025-10-14/
LOCATION:Montgomery Public Library\, 104 Oak Ave SE\, Montgomery\, MN\, 56069\, United States
CATEGORIES:Teen Events
GEO:44.4355889;-93.5810028
X-APPLE-STRUCTURED-LOCATION;VALUE=URI;X-ADDRESS=Montgomery Public Library 104 Oak Ave SE Montgomery MN 56069 United States;X-APPLE-RADIUS=500;X-TITLE=104 Oak Ave SE:geo:-93.5810028,44.4355889
END:VEVENT
BEGIN:VEVENT
DTSTART;TZID=America/Chicago:20251015T130000
DTEND;TZID=America/Chicago:20251015T140000
DTSTAMP:20260425T210526
CREATED:20250926T133709Z
LAST-MODIFIED:20250926T133709Z
UID:10012326-1760533200-1760536800@wasecalesueurlibraries.com
SUMMARY:Macramé Ghosts
DESCRIPTION:In this spooky twist on a classic craft\, teens will create their own macramé ghosts. Ages 13-18.
URL:https://wasecalesueurlibraries.com/event/macrame-ghosts-3/
LOCATION:Waseca Public Library\, 408 N State St\, Waseca\, MN\, 56093\, United States
CATEGORIES:Teen Events
GEO:44.0809183;-93.5069008
X-APPLE-STRUCTURED-LOCATION;VALUE=URI;X-ADDRESS=Waseca Public Library 408 N State St Waseca MN 56093 United States;X-APPLE-RADIUS=500;X-TITLE=408 N State St:geo:-93.5069008,44.0809183
END:VEVENT
BEGIN:VEVENT
DTSTART;TZID=America/Chicago:20251016T140000
DTEND;TZID=America/Chicago:20251016T150000
DTSTAMP:20260425T210526
CREATED:20250926T134103Z
LAST-MODIFIED:20250926T134103Z
UID:10012331-1760623200-1760626800@wasecalesueurlibraries.com
SUMMARY:Craft Your Own Spellbook
DESCRIPTION:Bring a unique spellbook to life\, incorporating spooky designs with enchanting craft materials. Ages 13-18. \n 
URL:https://wasecalesueurlibraries.com/event/craft-your-own-spellbook-3/
LOCATION:New Richland Public Library\, 129 Broadway Ave S\, New Richland\, MN\, 56072\, United States
CATEGORIES:Teen Events
GEO:43.8935599;-93.4938211
X-APPLE-STRUCTURED-LOCATION;VALUE=URI;X-ADDRESS=New Richland Public Library 129 Broadway Ave S New Richland MN 56072 United States;X-APPLE-RADIUS=500;X-TITLE=129 Broadway Ave S:geo:-93.4938211,43.8935599
END:VEVENT
BEGIN:VEVENT
DTSTART;TZID=America/Chicago:20251016T140000
DTEND;TZID=America/Chicago:20251016T150000
DTSTAMP:20260425T210526
CREATED:20250926T134229Z
LAST-MODIFIED:20250926T134229Z
UID:10012333-1760623200-1760626800@wasecalesueurlibraries.com
SUMMARY:Self Care
DESCRIPTION:Treat yourself and take care of you. Turn a delicious dessert into Jello lip gloss. Then\, chill out with reuseable ice cubes that remind you of ways to manage stressors. Ages 13-18.
URL:https://wasecalesueurlibraries.com/event/self-care/
LOCATION:Janesville Public Library\, 100 W 2nd St\, Janesville\, MN\, 56048\, United States
CATEGORIES:Teen Events
GEO:44.1173302;-93.7075406
X-APPLE-STRUCTURED-LOCATION;VALUE=URI;X-ADDRESS=Janesville Public Library 100 W 2nd St Janesville MN 56048 United States;X-APPLE-RADIUS=500;X-TITLE=100 W 2nd St:geo:-93.7075406,44.1173302
END:VEVENT
BEGIN:VEVENT
DTSTART;TZID=America/Chicago:20251016T140000
DTEND;TZID=America/Chicago:20251016T150000
DTSTAMP:20260425T210526
CREATED:20250926T134503Z
LAST-MODIFIED:20250926T134503Z
UID:10012338-1760623200-1760626800@wasecalesueurlibraries.com
SUMMARY:True Crime Club
DESCRIPTION:The South Ridge Stalker is half urban legend\, half campfire story. Will new clues lead to a dead end\, or will you reveal The Stalker’s existence and solve the murder? Ages 13-18.
URL:https://wasecalesueurlibraries.com/event/true-crime-club-8/
LOCATION:Le Center Public Library\, 10 W Tyrone St\, Le Center\, MN\, 56057\, United States
CATEGORIES:Teen Events
GEO:44.3907505;-93.7316339
X-APPLE-STRUCTURED-LOCATION;VALUE=URI;X-ADDRESS=Le Center Public Library 10 W Tyrone St Le Center MN 56057 United States;X-APPLE-RADIUS=500;X-TITLE=10 W Tyrone St:geo:-93.7316339,44.3907505
END:VEVENT
BEGIN:VEVENT
DTSTART;TZID=America/Chicago:20251018T100000
DTEND;TZID=America/Chicago:20251018T130000
DTSTAMP:20260425T210526
CREATED:20250925T202752Z
LAST-MODIFIED:20250925T202752Z
UID:10012279-1760781600-1760792400@wasecalesueurlibraries.com
SUMMARY:Embossed Cards Workshop
DESCRIPTION:A simple watercolor wash makes the perfect background for a dreamy embossed card. For teens and adults.
URL:https://wasecalesueurlibraries.com/event/embossed-cards-workshop-2/
LOCATION:Montgomery Public Library\, 104 Oak Ave SE\, Montgomery\, MN\, 56069\, United States
CATEGORIES:Adult Events,Teen Events
GEO:44.4355889;-93.5810028
X-APPLE-STRUCTURED-LOCATION;VALUE=URI;X-ADDRESS=Montgomery Public Library 104 Oak Ave SE Montgomery MN 56069 United States;X-APPLE-RADIUS=500;X-TITLE=104 Oak Ave SE:geo:-93.5810028,44.4355889
END:VEVENT
BEGIN:VEVENT
DTSTART;TZID=America/Chicago:20251020T180000
DTEND;TZID=America/Chicago:20251020T190000
DTSTAMP:20260425T210526
CREATED:20250926T133742Z
LAST-MODIFIED:20250926T133742Z
UID:10012327-1760983200-1760986800@wasecalesueurlibraries.com
SUMMARY:Macramé Ghosts
DESCRIPTION:In this spooky twist on a classic craft\, teens will create their own macramé ghosts. Ages 13-18. \n 
URL:https://wasecalesueurlibraries.com/event/macrame-ghosts-4/
LOCATION:Waterville Public Library\, 210 Paquin St\, Waterville\, MN\, 56096\, United States
CATEGORIES:Teen Events
GEO:44.2177999;-93.5709706
X-APPLE-STRUCTURED-LOCATION;VALUE=URI;X-ADDRESS=Waterville Public Library 210 Paquin St Waterville MN 56096 United States;X-APPLE-RADIUS=500;X-TITLE=210 Paquin St:geo:-93.5709706,44.2177999
END:VEVENT
BEGIN:VEVENT
DTSTART;TZID=America/Chicago:20251021T180000
DTEND;TZID=America/Chicago:20251021T190000
DTSTAMP:20260425T210526
CREATED:20250926T134358Z
LAST-MODIFIED:20250926T134358Z
UID:10012336-1761069600-1761073200@wasecalesueurlibraries.com
SUMMARY:Game Night
DESCRIPTION:Join us for a night of gaming. We’ll have a variety of games to choose from. Ages 13-18.
URL:https://wasecalesueurlibraries.com/event/game-night/2025-10-21/
LOCATION:Montgomery Public Library\, 104 Oak Ave SE\, Montgomery\, MN\, 56069\, United States
CATEGORIES:Teen Events
GEO:44.4355889;-93.5810028
X-APPLE-STRUCTURED-LOCATION;VALUE=URI;X-ADDRESS=Montgomery Public Library 104 Oak Ave SE Montgomery MN 56069 United States;X-APPLE-RADIUS=500;X-TITLE=104 Oak Ave SE:geo:-93.5810028,44.4355889
END:VEVENT
BEGIN:VEVENT
DTSTART;TZID=America/Chicago:20251023T080000
DTEND;TZID=America/Chicago:20251023T170000
DTSTAMP:20260425T210526
CREATED:20250831T003734Z
LAST-MODIFIED:20251204T165842Z
UID:10012329-1761206400-1761238800@wasecalesueurlibraries.com
SUMMARY:Drawing Club
DESCRIPTION:Join our drawing club for teen artists! Learn new techniques and practice your drawing skills. We’ll sample a variety of drawing styles\, including fashion\, anime\, nature\, objects\, illustration\, doodles\, portraits\, and more. Exclusively for ages 12-18. All skill levels welcome! \nSponsored by Janesville Area Foundation and The Pope Family Fund
URL:https://wasecalesueurlibraries.com/event/drawing-club-3/2025-10-23/
LOCATION:Janesville Public Library\, 100 W 2nd St\, Janesville\, MN\, 56048\, United States
CATEGORIES:Teen Events
GEO:44.1173302;-93.7075406
X-APPLE-STRUCTURED-LOCATION;VALUE=URI;X-ADDRESS=Janesville Public Library 100 W 2nd St Janesville MN 56048 United States;X-APPLE-RADIUS=500;X-TITLE=100 W 2nd St:geo:-93.7075406,44.1173302
END:VEVENT
BEGIN:VEVENT
DTSTART;TZID=America/Chicago:20251025T103000
DTEND;TZID=America/Chicago:20251025T113000
DTSTAMP:20260425T210526
CREATED:20250926T134137Z
LAST-MODIFIED:20250926T134137Z
UID:10012332-1761388200-1761391800@wasecalesueurlibraries.com
SUMMARY:Craft Your Own Spellbook
DESCRIPTION:Bring a unique spellbook to life\, incorporating spooky designs with enchanting craft materials. Ages 13-18.
URL:https://wasecalesueurlibraries.com/event/craft-your-own-spellbook-4/
LOCATION:Elysian Public Library\, 202 E Main St\, Elysian\, MN\, 56028\, United States
CATEGORIES:Teen Events
GEO:44.198703;-93.6724641
X-APPLE-STRUCTURED-LOCATION;VALUE=URI;X-ADDRESS=Elysian Public Library 202 E Main St Elysian MN 56028 United States;X-APPLE-RADIUS=500;X-TITLE=202 E Main St:geo:-93.6724641,44.198703
END:VEVENT
BEGIN:VEVENT
DTSTART;TZID=America/Chicago:20251028T170000
DTEND;TZID=America/Chicago:20251028T180000
DTSTAMP:20260425T210526
CREATED:20250926T134001Z
LAST-MODIFIED:20250926T134001Z
UID:10012330-1761670800-1761674400@wasecalesueurlibraries.com
SUMMARY:Marbled Coasters
DESCRIPTION:Create a chic and colorful spin on marbled coasters. Ages 13-18.
URL:https://wasecalesueurlibraries.com/event/marbled-coasters-7/
LOCATION:Montgomery Public Library\, 104 Oak Ave SE\, Montgomery\, MN\, 56069\, United States
CATEGORIES:Teen Events
GEO:44.4355889;-93.5810028
X-APPLE-STRUCTURED-LOCATION;VALUE=URI;X-ADDRESS=Montgomery Public Library 104 Oak Ave SE Montgomery MN 56069 United States;X-APPLE-RADIUS=500;X-TITLE=104 Oak Ave SE:geo:-93.5810028,44.4355889
END:VEVENT
BEGIN:VEVENT
DTSTART;TZID=America/Chicago:20251028T180000
DTEND;TZID=America/Chicago:20251028T190000
DTSTAMP:20260425T210526
CREATED:20250926T134358Z
LAST-MODIFIED:20250926T134358Z
UID:10012337-1761674400-1761678000@wasecalesueurlibraries.com
SUMMARY:Game Night
DESCRIPTION:Join us for a night of gaming. We’ll have a variety of games to choose from. Ages 13-18.
URL:https://wasecalesueurlibraries.com/event/game-night/2025-10-28/
LOCATION:Montgomery Public Library\, 104 Oak Ave SE\, Montgomery\, MN\, 56069\, United States
CATEGORIES:Teen Events
GEO:44.4355889;-93.5810028
X-APPLE-STRUCTURED-LOCATION;VALUE=URI;X-ADDRESS=Montgomery Public Library 104 Oak Ave SE Montgomery MN 56069 United States;X-APPLE-RADIUS=500;X-TITLE=104 Oak Ave SE:geo:-93.5810028,44.4355889
END:VEVENT
BEGIN:VEVENT
DTSTART;TZID=America/Chicago:20251029T160000
DTEND;TZID=America/Chicago:20251029T170000
DTSTAMP:20260425T210526
CREATED:20250926T133821Z
LAST-MODIFIED:20250926T133821Z
UID:10012328-1761753600-1761757200@wasecalesueurlibraries.com
SUMMARY:Macramé Ghosts
DESCRIPTION:In this spooky twist on a classic craft\, teens will create their own macramé ghosts. Ages 13-18.
URL:https://wasecalesueurlibraries.com/event/macrame-ghosts-5/
LOCATION:Le Sueur Public Library\, 118 Ferry St\, Le Sueur\, MN\, 56058\, United States
CATEGORIES:Teen Events
GEO:44.4601702;-93.9161364
X-APPLE-STRUCTURED-LOCATION;VALUE=URI;X-ADDRESS=Le Sueur Public Library 118 Ferry St Le Sueur MN 56058 United States;X-APPLE-RADIUS=500;X-TITLE=118 Ferry St:geo:-93.9161364,44.4601702
END:VEVENT
END:VCALENDAR