BEGIN:VCALENDAR
VERSION:2.0
PRODID:-//Waseca-Le Sueur Library - ECPv6.15.18//NONSGML v1.0//EN
CALSCALE:GREGORIAN
METHOD:PUBLISH
X-WR-CALNAME:Waseca-Le Sueur Library
X-ORIGINAL-URL:https://wasecalesueurlibraries.com
X-WR-CALDESC:Events for Waseca-Le Sueur Library
REFRESH-INTERVAL;VALUE=DURATION:PT1H
X-Robots-Tag:noindex
X-PUBLISHED-TTL:PT1H
BEGIN:VTIMEZONE
TZID:America/Denver
BEGIN:DAYLIGHT
TZOFFSETFROM:-0700
TZOFFSETTO:-0600
TZNAME:MDT
DTSTART:20140309T090000
END:DAYLIGHT
BEGIN:STANDARD
TZOFFSETFROM:-0600
TZOFFSETTO:-0700
TZNAME:MST
DTSTART:20141102T080000
END:STANDARD
BEGIN:DAYLIGHT
TZOFFSETFROM:-0700
TZOFFSETTO:-0600
TZNAME:MDT
DTSTART:20150308T090000
END:DAYLIGHT
BEGIN:STANDARD
TZOFFSETFROM:-0600
TZOFFSETTO:-0700
TZNAME:MST
DTSTART:20151101T080000
END:STANDARD
BEGIN:DAYLIGHT
TZOFFSETFROM:-0700
TZOFFSETTO:-0600
TZNAME:MDT
DTSTART:20160313T090000
END:DAYLIGHT
BEGIN:STANDARD
TZOFFSETFROM:-0600
TZOFFSETTO:-0700
TZNAME:MST
DTSTART:20161106T080000
END:STANDARD
BEGIN:DAYLIGHT
TZOFFSETFROM:-0700
TZOFFSETTO:-0600
TZNAME:MDT
DTSTART:20170312T090000
END:DAYLIGHT
BEGIN:STANDARD
TZOFFSETFROM:-0600
TZOFFSETTO:-0700
TZNAME:MST
DTSTART:20171105T080000
END:STANDARD
BEGIN:DAYLIGHT
TZOFFSETFROM:-0700
TZOFFSETTO:-0600
TZNAME:MDT
DTSTART:20180311T090000
END:DAYLIGHT
BEGIN:STANDARD
TZOFFSETFROM:-0600
TZOFFSETTO:-0700
TZNAME:MST
DTSTART:20181104T080000
END:STANDARD
END:VTIMEZONE
BEGIN:VTIMEZONE
TZID:America/Chicago
BEGIN:DAYLIGHT
TZOFFSETFROM:-0600
TZOFFSETTO:-0500
TZNAME:CDT
DTSTART:20140309T080000
END:DAYLIGHT
BEGIN:STANDARD
TZOFFSETFROM:-0500
TZOFFSETTO:-0600
TZNAME:CST
DTSTART:20141102T070000
END:STANDARD
BEGIN:DAYLIGHT
TZOFFSETFROM:-0600
TZOFFSETTO:-0500
TZNAME:CDT
DTSTART:20150308T080000
END:DAYLIGHT
BEGIN:STANDARD
TZOFFSETFROM:-0500
TZOFFSETTO:-0600
TZNAME:CST
DTSTART:20151101T070000
END:STANDARD
BEGIN:DAYLIGHT
TZOFFSETFROM:-0600
TZOFFSETTO:-0500
TZNAME:CDT
DTSTART:20160313T080000
END:DAYLIGHT
BEGIN:STANDARD
TZOFFSETFROM:-0500
TZOFFSETTO:-0600
TZNAME:CST
DTSTART:20161106T070000
END:STANDARD
END:VTIMEZONE
BEGIN:VEVENT
DTSTART;TZID=America/Denver:20170123T173000
DTEND;TZID=America/Denver:20170123T193000
DTSTAMP:20260419T131820
CREATED:20170107T133605Z
LAST-MODIFIED:20170107T133605Z
UID:10006825-1485192600-1485199800@wasecalesueurlibraries.com
SUMMARY:Friends of the New Richland Public Library Soup Supper
DESCRIPTION:Enjoy a hearty soup supper at this fundraiser for the Friends of the New Richland Public Library.
URL:https://wasecalesueurlibraries.com/event/friends-of-the-new-richland-public-library-soup-supper/
LOCATION:New Richland Public Library\, 129 Broadway Ave S\, New Richland\, MN\, 56072\, United States
CATEGORIES:All ages,Friends of the Library Event
GEO:43.8935599;-93.4938211
X-APPLE-STRUCTURED-LOCATION;VALUE=URI;X-ADDRESS=New Richland Public Library 129 Broadway Ave S New Richland MN 56072 United States;X-APPLE-RADIUS=500;X-TITLE=129 Broadway Ave S:geo:-93.4938211,43.8935599
END:VEVENT
BEGIN:VEVENT
DTSTART;TZID=America/Denver:20170114T100000
DTEND;TZID=America/Denver:20170114T230000
DTSTAMP:20260419T131820
CREATED:20170107T133736Z
LAST-MODIFIED:20170107T133736Z
UID:10006826-1484388000-1484434800@wasecalesueurlibraries.com
SUMMARY:Sweet Treats and Reads
DESCRIPTION:Share your favorite reads while nibbling on delicious treats.
URL:https://wasecalesueurlibraries.com/event/sweet-treats-and-reads-8/
LOCATION:Waterville Public Library\, 210 Paquin St\, Waterville\, MN\, 56096\, United States
CATEGORIES:Adult Events,Book Clubs,Friends of the Library Event
GEO:44.2177999;-93.5709706
X-APPLE-STRUCTURED-LOCATION;VALUE=URI;X-ADDRESS=Waterville Public Library 210 Paquin St Waterville MN 56096 United States;X-APPLE-RADIUS=500;X-TITLE=210 Paquin St:geo:-93.5709706,44.2177999
END:VEVENT
BEGIN:VEVENT
DTSTART;TZID=America/Denver:20170110T170000
DTEND;TZID=America/Denver:20170110T190000
DTSTAMP:20260419T131820
CREATED:20170107T133438Z
LAST-MODIFIED:20170107T133438Z
UID:10006821-1484067600-1484074800@wasecalesueurlibraries.com
SUMMARY:Friends of the Le Center Public Library Open House
DESCRIPTION:Enjoy light appetizers and learn more about what’s new at the Library!
URL:https://wasecalesueurlibraries.com/event/friends-of-the-le-center-public-library-open-house/
LOCATION:Le Center Public Library\, 10 W Tyrone St\, Le Center\, MN\, 56057\, United States
CATEGORIES:All ages,Friends of the Library Event
GEO:44.3907505;-93.7316339
X-APPLE-STRUCTURED-LOCATION;VALUE=URI;X-ADDRESS=Le Center Public Library 10 W Tyrone St Le Center MN 56057 United States;X-APPLE-RADIUS=500;X-TITLE=10 W Tyrone St:geo:-93.7316339,44.3907505
END:VEVENT
BEGIN:VEVENT
DTSTART;TZID=America/Denver:20161115T100000
DTEND;TZID=America/Denver:20161115T230000
DTSTAMP:20260419T131820
CREATED:20161103T120831Z
LAST-MODIFIED:20161103T120831Z
UID:10006738-1479204000-1479250800@wasecalesueurlibraries.com
SUMMARY:Sweet Treats and Reads
DESCRIPTION:Share your favorite reads while nibbling on delicious treats.
URL:https://wasecalesueurlibraries.com/event/sweet-treats-and-reads-7/
LOCATION:Waterville Public Library\, 210 Paquin St\, Waterville\, MN\, 56096\, United States
CATEGORIES:Adult Events,Book Clubs,Friends of the Library Event
GEO:44.2177999;-93.5709706
X-APPLE-STRUCTURED-LOCATION;VALUE=URI;X-ADDRESS=Waterville Public Library 210 Paquin St Waterville MN 56096 United States;X-APPLE-RADIUS=500;X-TITLE=210 Paquin St:geo:-93.5709706,44.2177999
END:VEVENT
BEGIN:VEVENT
DTSTART;TZID=America/Denver:20161112T090000
DTEND;TZID=America/Denver:20161112T210000
DTSTAMP:20260419T131820
CREATED:20161103T120650Z
LAST-MODIFIED:20161103T120650Z
UID:10006737-1478941200-1478984400@wasecalesueurlibraries.com
SUMMARY:Barnes and Noble Bookfair
DESCRIPTION:Support the Friends of the Le Sueur Public Library by shopping at the Mankato Barnes and Noble.
URL:https://wasecalesueurlibraries.com/event/barnes-and-noble-bookfair-3/
LOCATION:Mankato Barnes and Noble\, 1850 Adams Street #404\, Mankato\, 56001\, United States
CATEGORIES:Adult Events,All ages,Children's Events,Friends of the Library Event,Teen Events
GEO:44.1729626;-93.9535688
X-APPLE-STRUCTURED-LOCATION;VALUE=URI;X-ADDRESS=Mankato Barnes and Noble 1850 Adams Street #404 Mankato 56001 United States;X-APPLE-RADIUS=500;X-TITLE=1850 Adams Street #404:geo:-93.9535688,44.1729626
END:VEVENT
BEGIN:VEVENT
DTSTART;TZID=America/Denver:20161106T080000
DTEND;TZID=America/Denver:20161106T120000
DTSTAMP:20260419T131820
CREATED:20161103T120338Z
LAST-MODIFIED:20161103T120338Z
UID:10005957-1478419200-1478433600@wasecalesueurlibraries.com
SUMMARY:Dad’s Belgian Waffle Breakfast and Silent Auction
DESCRIPTION:Support the Friends of the Elysian Area Library at this delicious free will offering event. Take-outs available.
URL:https://wasecalesueurlibraries.com/event/dads-belgian-waffle-breakfast-and-silent-auction-2/
LOCATION:American Legion Post 311\, 106 E Main Street\, Elysian\, 56028\, United States
CATEGORIES:Friends of the Library Event
GEO:44.1986999;-93.673642
X-APPLE-STRUCTURED-LOCATION;VALUE=URI;X-ADDRESS=American Legion Post 311 106 E Main Street Elysian 56028 United States;X-APPLE-RADIUS=500;X-TITLE=106 E Main Street:geo:-93.673642,44.1986999
END:VEVENT
BEGIN:VEVENT
DTSTART;TZID=America/Denver:20161008T100000
DTEND;TZID=America/Denver:20161008T130000
DTSTAMP:20260419T131820
CREATED:20161013T165614Z
LAST-MODIFIED:20161013T165614Z
UID:10006699-1475920800-1475931600@wasecalesueurlibraries.com
SUMMARY:Elysian Area Library and Heritage Center Open House
DESCRIPTION:Join us for an open house and find out more about the services we offer and the treasures in the Heritage Center. \nHeld by the Friends of the Elysian Area Library. \n  \n  \n 
URL:https://wasecalesueurlibraries.com/event/elysian-area-library-and-heritage-center-open-house/
LOCATION:Elysian Public Library\, 202 E Main St\, Elysian\, MN\, 56028\, United States
CATEGORIES:Friends of the Library Event
GEO:44.198703;-93.6724641
X-APPLE-STRUCTURED-LOCATION;VALUE=URI;X-ADDRESS=Elysian Public Library 202 E Main St Elysian MN 56028 United States;X-APPLE-RADIUS=500;X-TITLE=202 E Main St:geo:-93.6724641,44.198703
END:VEVENT
BEGIN:VEVENT
DTSTART;VALUE=DATE:20160812
DTEND;VALUE=DATE:20160814
DTSTAMP:20260419T131820
CREATED:20160809T181200Z
LAST-MODIFIED:20160809T181200Z
UID:10006609-1470960000-1471132799@wasecalesueurlibraries.com
SUMMARY:Basement Book Sale
DESCRIPTION:The Friends of the Waseca Public Library are holding a HUGE basement book sale including thousands of titles during our library’s open hours! \n  \n 
URL:https://wasecalesueurlibraries.com/event/basement-book-sale-2/
LOCATION:Waseca Public Library\, 408 N State St\, Waseca\, MN\, 56093\, United States
CATEGORIES:All ages,Book Sales,Friends of the Library Event
ATTACH;FMTTYPE=image/jpeg:https://wasecalesueurlibraries.com/wp-content/uploads/2016/08/816-Basement-Book-Sale.jpg
GEO:44.0809183;-93.5069008
X-APPLE-STRUCTURED-LOCATION;VALUE=URI;X-ADDRESS=Waseca Public Library 408 N State St Waseca MN 56093 United States;X-APPLE-RADIUS=500;X-TITLE=408 N State St:geo:-93.5069008,44.0809183
END:VEVENT
BEGIN:VEVENT
DTSTART;TZID=America/Denver:20160517T100000
DTEND;TZID=America/Denver:20160517T110000
DTSTAMP:20260419T131820
CREATED:20160511T233849Z
LAST-MODIFIED:20160511T233849Z
UID:10005810-1463479200-1463482800@wasecalesueurlibraries.com
SUMMARY:Sweet Treats and Reads
DESCRIPTION:Share your favorite reads while nibbling on delicious treats. \nHosted by the Friends of the Waterville Public Library
URL:https://wasecalesueurlibraries.com/event/sweet-treats-and-reads-6/
LOCATION:Waterville Public Library\, 210 Paquin St\, Waterville\, MN\, 56096\, United States
CATEGORIES:Friends of the Library Event
GEO:44.2177999;-93.5709706
X-APPLE-STRUCTURED-LOCATION;VALUE=URI;X-ADDRESS=Waterville Public Library 210 Paquin St Waterville MN 56096 United States;X-APPLE-RADIUS=500;X-TITLE=210 Paquin St:geo:-93.5709706,44.2177999
END:VEVENT
BEGIN:VEVENT
DTSTART;TZID=America/Denver:20160411T153000
DTEND;TZID=America/Denver:20160411T173000
DTSTAMP:20260419T131820
CREATED:20160225T163530Z
LAST-MODIFIED:20160225T163530Z
UID:10005785-1460388600-1460395800@wasecalesueurlibraries.com
SUMMARY:Spring Crafts
DESCRIPTION:Create flower and spring chick crafts. This is a Friends of the New Richland Public Library event.
URL:https://wasecalesueurlibraries.com/event/spring-crafts/
LOCATION:New Richland Public Library\, 129 Broadway Ave S\, New Richland\, MN\, 56072\, United States
CATEGORIES:Children's Events,Friends of the Library Event
GEO:43.8935599;-93.4938211
X-APPLE-STRUCTURED-LOCATION;VALUE=URI;X-ADDRESS=New Richland Public Library 129 Broadway Ave S New Richland MN 56072 United States;X-APPLE-RADIUS=500;X-TITLE=129 Broadway Ave S:geo:-93.4938211,43.8935599
END:VEVENT
BEGIN:VEVENT
DTSTART;TZID=America/Denver:20160205T170000
DTEND;TZID=America/Denver:20160205T193000
DTSTAMP:20260419T131820
CREATED:20160105T014735Z
LAST-MODIFIED:20160105T015212Z
UID:10005697-1454691600-1454700600@wasecalesueurlibraries.com
SUMMARY:Everything Chocolate
DESCRIPTION:This Friends of the Montgomery Public Library fundraiser features a chocolate tasting and a silent auction. Tickets are available for the elegant\, women-only affair at the library and Herrmann’s Drug Store. Advance tickets cost $12 and $15 at the door.
URL:https://wasecalesueurlibraries.com/event/everything-chocolate/
LOCATION:Montgomery Public Library\, 104 Oak Ave SE\, Montgomery\, MN\, 56069\, United States
CATEGORIES:Adult Events,Friends of the Library Event
GEO:44.4355889;-93.5810028
X-APPLE-STRUCTURED-LOCATION;VALUE=URI;X-ADDRESS=Montgomery Public Library 104 Oak Ave SE Montgomery MN 56069 United States;X-APPLE-RADIUS=500;X-TITLE=104 Oak Ave SE:geo:-93.5810028,44.4355889
END:VEVENT
BEGIN:VEVENT
DTSTART;TZID=America/Denver:20160124T140000
DTEND;TZID=America/Denver:20160124T170000
DTSTAMP:20260419T131820
CREATED:20160105T015012Z
LAST-MODIFIED:20160105T015012Z
UID:10005699-1453644000-1453654800@wasecalesueurlibraries.com
SUMMARY:Friends of the New Richland Public Library 2016 Kickoff
DESCRIPTION:Enjoy light appetizers with musical entertainment at this Friends kickoff event! \nJanuary 24th 2-5 PM\nNew Richland Public Library
URL:https://wasecalesueurlibraries.com/event/friends-of-the-new-richland-public-library-2016-kickoff/
LOCATION:New Richland Public Library\, 129 Broadway Ave S\, New Richland\, MN\, 56072\, United States
CATEGORIES:Adult Events,Friends of the Library Event
GEO:43.8935599;-93.4938211
X-APPLE-STRUCTURED-LOCATION;VALUE=URI;X-ADDRESS=New Richland Public Library 129 Broadway Ave S New Richland MN 56072 United States;X-APPLE-RADIUS=500;X-TITLE=129 Broadway Ave S:geo:-93.4938211,43.8935599
END:VEVENT
BEGIN:VEVENT
DTSTART;TZID=America/Denver:20160119T100000
DTEND;TZID=America/Denver:20160119T110000
DTSTAMP:20260419T131820
CREATED:20160105T015446Z
LAST-MODIFIED:20160105T015446Z
UID:10005700-1453197600-1453201200@wasecalesueurlibraries.com
SUMMARY:Sweet Treats and Reads
DESCRIPTION:Share your favorite reads while nibbling on delicious treats.
URL:https://wasecalesueurlibraries.com/event/sweet-treats-and-reads-4/
LOCATION:Waterville Public Library\, 210 Paquin St\, Waterville\, MN\, 56096\, United States
CATEGORIES:Adult Events,Friends of the Library Event
GEO:44.2177999;-93.5709706
X-APPLE-STRUCTURED-LOCATION;VALUE=URI;X-ADDRESS=Waterville Public Library 210 Paquin St Waterville MN 56096 United States;X-APPLE-RADIUS=500;X-TITLE=210 Paquin St:geo:-93.5709706,44.2177999
END:VEVENT
BEGIN:VEVENT
DTSTART;TZID=America/Denver:20160116T080000
DTEND;TZID=America/Denver:20160116T120000
DTSTAMP:20260419T131820
CREATED:20160105T015819Z
LAST-MODIFIED:20160105T015819Z
UID:10005701-1452931200-1452945600@wasecalesueurlibraries.com
SUMMARY:Friends of the Waldorf Public Library Quilt Show
DESCRIPTION:Come view 50 of our area quilters’ latest projects!
URL:https://wasecalesueurlibraries.com/event/friends-of-the-waldorf-public-library-quilt-show/
LOCATION:Waldorf Community Center\, 109 Main St N\, Waldorf\, MN\, 56091\, United States
CATEGORIES:Adult Events,Friends of the Library Event
GEO:43.9365286;-93.6975917
X-APPLE-STRUCTURED-LOCATION;VALUE=URI;X-ADDRESS=Waldorf Community Center 109 Main St N Waldorf MN 56091 United States;X-APPLE-RADIUS=500;X-TITLE=109 Main St N:geo:-93.6975917,43.9365286
END:VEVENT
BEGIN:VEVENT
DTSTART;VALUE=DATE:20151213
DTEND;VALUE=DATE:20151220
DTSTAMP:20260419T131820
CREATED:20151103T194607Z
LAST-MODIFIED:20151103T194607Z
UID:10005964-1449964800-1450569599@wasecalesueurlibraries.com
SUMMARY:Montgomery Public Library 10th Anniversary Week Celebration
DESCRIPTION:The Library will be celebrating 10 years in the current location. Treats and prize drawings throughout the week!
URL:https://wasecalesueurlibraries.com/event/montgomery-public-library-10th-anniversary-week-celebration/
LOCATION:Montgomery Public Library\, 104 Oak Ave SE\, Montgomery\, MN\, 56069\, United States
CATEGORIES:All ages,Friends of the Library Event
GEO:44.4355889;-93.5810028
X-APPLE-STRUCTURED-LOCATION;VALUE=URI;X-ADDRESS=Montgomery Public Library 104 Oak Ave SE Montgomery MN 56069 United States;X-APPLE-RADIUS=500;X-TITLE=104 Oak Ave SE:geo:-93.5810028,44.4355889
END:VEVENT
BEGIN:VEVENT
DTSTART;VALUE=DATE:20151202
DTEND;VALUE=DATE:20151203
DTSTAMP:20260419T131820
CREATED:20151103T195022Z
LAST-MODIFIED:20151103T195022Z
UID:10005970-1449014400-1449100799@wasecalesueurlibraries.com
SUMMARY:Barnes and Noble Bookfair
DESCRIPTION:Support Waseca Public Library by shopping at the Mankato Barnes and Noble.
URL:https://wasecalesueurlibraries.com/event/barnes-and-noble-bookfair-2/
LOCATION:Mankato Barnes and Noble\, 1850 Adams Street #404\, Mankato\, 56001\, United States
CATEGORIES:All ages,Friends of the Library Event
GEO:44.1729626;-93.9535688
X-APPLE-STRUCTURED-LOCATION;VALUE=URI;X-ADDRESS=Mankato Barnes and Noble 1850 Adams Street #404 Mankato 56001 United States;X-APPLE-RADIUS=500;X-TITLE=1850 Adams Street #404:geo:-93.9535688,44.1729626
END:VEVENT
BEGIN:VEVENT
DTSTART;TZID=America/Denver:20151117T100000
DTEND;TZID=America/Denver:20151117T120000
DTSTAMP:20260419T131820
CREATED:20151103T194703Z
LAST-MODIFIED:20151103T194703Z
UID:10005966-1447754400-1447761600@wasecalesueurlibraries.com
SUMMARY:Sweet Treats and Reads
DESCRIPTION:Share your favorite reads while nibbling on delicious treats. \n 
URL:https://wasecalesueurlibraries.com/event/sweet-treats-and-reads-3/
LOCATION:Waterville Public Library\, 210 Paquin St\, Waterville\, MN\, 56096\, United States
CATEGORIES:Adult Events,Friends of the Library Event
GEO:44.2177999;-93.5709706
X-APPLE-STRUCTURED-LOCATION;VALUE=URI;X-ADDRESS=Waterville Public Library 210 Paquin St Waterville MN 56096 United States;X-APPLE-RADIUS=500;X-TITLE=210 Paquin St:geo:-93.5709706,44.2177999
END:VEVENT
BEGIN:VEVENT
DTSTART;VALUE=DATE:20151114
DTEND;VALUE=DATE:20151115
DTSTAMP:20260419T131820
CREATED:20151103T194930Z
LAST-MODIFIED:20151103T194930Z
UID:10005968-1447459200-1447545599@wasecalesueurlibraries.com
SUMMARY:Barnes and Noble Bookfair
DESCRIPTION:Support Le Sueur Public Library by shopping at the Mankato Barnes and Noble.
URL:https://wasecalesueurlibraries.com/event/barnes-and-noble-bookfair/
LOCATION:Mankato Barnes and Noble\, 1850 Adams Street #404\, Mankato\, 56001\, United States
CATEGORIES:All ages,Friends of the Library Event
GEO:44.1729626;-93.9535688
X-APPLE-STRUCTURED-LOCATION;VALUE=URI;X-ADDRESS=Mankato Barnes and Noble 1850 Adams Street #404 Mankato 56001 United States;X-APPLE-RADIUS=500;X-TITLE=1850 Adams Street #404:geo:-93.9535688,44.1729626
END:VEVENT
BEGIN:VEVENT
DTSTART;TZID=America/Denver:20151101T080000
DTEND;TZID=America/Denver:20151101T120000
DTSTAMP:20260419T131820
CREATED:20151103T200555Z
LAST-MODIFIED:20151103T200555Z
UID:10005974-1446364800-1446379200@wasecalesueurlibraries.com
SUMMARY:Dad’s Belgian Waffle Breakfast and Silent Auction
DESCRIPTION:Support the Friends of the Elysian Area Library at this delicious free will offering event. Take-outs available.
URL:https://wasecalesueurlibraries.com/event/dads-belgian-waffle-breakfast-and-silent-auction/
LOCATION:American Legion Post 311\, 106 E Main Street\, Elysian\, 56028\, United States
CATEGORIES:Friends of the Library Event
GEO:44.1986999;-93.673642
X-APPLE-STRUCTURED-LOCATION;VALUE=URI;X-ADDRESS=American Legion Post 311 106 E Main Street Elysian 56028 United States;X-APPLE-RADIUS=500;X-TITLE=106 E Main Street:geo:-93.673642,44.1986999
END:VEVENT
BEGIN:VEVENT
DTSTART;TZID=America/Denver:20151029T190000
DTEND;TZID=America/Denver:20151029T203000
DTSTAMP:20260419T131820
CREATED:20150930T235432Z
LAST-MODIFIED:20150930T235432Z
UID:10005885-1446145200-1446150600@wasecalesueurlibraries.com
SUMMARY:Friends of the Le Sueur Public Library Annual Meeting Guest Speaker
DESCRIPTION:Marilyn Erickson is one of the founders of Treasures and Town. She will be talking about the history of the thrift store\, its volunteers\, and the extraordinary way they have been able to give back to the community of Le Sueur. Treasures and Town donates every penny back to the Le Sueur community and in five years\, they’ve already given $90\,000\, including to the Le Sueur Public Library!
URL:https://wasecalesueurlibraries.com/event/friends-of-the-le-sueur-public-library-annual-meeting-guest-speaker/
LOCATION:Le Sueur Public Library\, 118 Ferry St\, Le Sueur\, MN\, 56058\, United States
CATEGORIES:Adult Events,Friends of the Library Event
GEO:44.4601702;-93.9161364
X-APPLE-STRUCTURED-LOCATION;VALUE=URI;X-ADDRESS=Le Sueur Public Library 118 Ferry St Le Sueur MN 56058 United States;X-APPLE-RADIUS=500;X-TITLE=118 Ferry St:geo:-93.9161364,44.4601702
END:VEVENT
BEGIN:VEVENT
DTSTART;TZID=America/Chicago:20150915T100000
DTEND;TZID=America/Chicago:20150915T230000
DTSTAMP:20260419T131820
CREATED:20150803T112940Z
LAST-MODIFIED:20150803T112940Z
UID:10005843-1442311200-1442358000@wasecalesueurlibraries.com
SUMMARY:Sweet Treats and Reads
DESCRIPTION:Share your favorite reads while nibbling on delicious treats at this bi-monthly gathering of individuals who love to read.
URL:https://wasecalesueurlibraries.com/event/sweet-treats-and-reads-2/
LOCATION:Waterville Public Library\, 210 Paquin St\, Waterville\, MN\, 56096\, United States
CATEGORIES:Adult Events,Friends of the Library Event
GEO:44.2177999;-93.5709706
X-APPLE-STRUCTURED-LOCATION;VALUE=URI;X-ADDRESS=Waterville Public Library 210 Paquin St Waterville MN 56096 United States;X-APPLE-RADIUS=500;X-TITLE=210 Paquin St:geo:-93.5709706,44.2177999
END:VEVENT
BEGIN:VEVENT
DTSTART;VALUE=DATE:20150804
DTEND;VALUE=DATE:20150806
DTSTAMP:20260419T131820
CREATED:20150731T092025Z
LAST-MODIFIED:20150731T092025Z
UID:10005809-1438646400-1438819199@wasecalesueurlibraries.com
SUMMARY:Montgomery Area Friends of the Library Annual Pillow Fluff Fundraiser
DESCRIPTION:Have feathers from pillows cleaned and sewn into new ticking on the spot by Carlson’s Fluff and Puff Pillow Cleaning Service. Also down comforters. Proceeds go to children’s programming. For more information contact Cathy Herrmann at 507-744-2087 or call the library at 507-364-7615.
URL:https://wasecalesueurlibraries.com/event/montgomerypillowfluff/
LOCATION:Montgomery Public Library\, 104 Oak Ave SE\, Montgomery\, MN\, 56069\, United States
CATEGORIES:All ages,Friends of the Library Event
GEO:44.4355889;-93.5810028
X-APPLE-STRUCTURED-LOCATION;VALUE=URI;X-ADDRESS=Montgomery Public Library 104 Oak Ave SE Montgomery MN 56069 United States;X-APPLE-RADIUS=500;X-TITLE=104 Oak Ave SE:geo:-93.5810028,44.4355889
END:VEVENT
BEGIN:VEVENT
DTSTART;VALUE=DATE:20150730
DTEND;VALUE=DATE:20150802
DTSTAMP:20260419T131820
CREATED:20150625T230303Z
LAST-MODIFIED:20150625T230303Z
UID:10005570-1438214400-1438473599@wasecalesueurlibraries.com
SUMMARY:Basement Book Sale
DESCRIPTION:The Friends of the Waseca Public Library are holding a HUGE basement book sale including thousands of titles.
URL:https://wasecalesueurlibraries.com/event/basement-book-sale/
LOCATION:Waseca Public Library\, 408 N State St\, Waseca\, MN\, 56093\, United States
CATEGORIES:Book Sales,Friends of the Library Event
GEO:44.0809183;-93.5069008
X-APPLE-STRUCTURED-LOCATION;VALUE=URI;X-ADDRESS=Waseca Public Library 408 N State St Waseca MN 56093 United States;X-APPLE-RADIUS=500;X-TITLE=408 N State St:geo:-93.5069008,44.0809183
END:VEVENT
BEGIN:VEVENT
DTSTART;TZID=America/Chicago:20150705T080000
DTEND;TZID=America/Chicago:20150705T160000
DTSTAMP:20260419T131820
CREATED:20150625T230524Z
LAST-MODIFIED:20150625T230524Z
UID:10005571-1436083200-1436112000@wasecalesueurlibraries.com
SUMMARY:Friends of the Elysian Area Library Book Sale
DESCRIPTION:The Friends of the Elysian Area Library are holding a book sale including hundreds of titles. All donations\, magazines\, and DVDs will be accepted at the Elysian Area Library until the time of sale.
URL:https://wasecalesueurlibraries.com/event/friends-of-the-elysian-area-library-book-sale/
LOCATION:Flea Market tent\, Elysian\, MN\, 56028\, United States
CATEGORIES:Book Sales,Friends of the Library Event
GEO:44.1985771;-93.673838
END:VEVENT
BEGIN:VEVENT
DTSTART;TZID=America/Chicago:20150616T100000
DTEND;TZID=America/Chicago:20150616T110000
DTSTAMP:20260419T131820
CREATED:20150603T090955Z
LAST-MODIFIED:20150603T090955Z
UID:10005639-1434448800-1434452400@wasecalesueurlibraries.com
SUMMARY:Sweet Treats and Reads
DESCRIPTION:The Friends of the Waterville Public Library welcome you to share your favorite reads while nibbling on delicious treats.
URL:https://wasecalesueurlibraries.com/event/sweet-treats-and-reads/
LOCATION:Waterville Public Library\, 210 Paquin St\, Waterville\, MN\, 56096\, United States
CATEGORIES:Adult Events,Friends of the Library Event
GEO:44.2177999;-93.5709706
X-APPLE-STRUCTURED-LOCATION;VALUE=URI;X-ADDRESS=Waterville Public Library 210 Paquin St Waterville MN 56096 United States;X-APPLE-RADIUS=500;X-TITLE=210 Paquin St:geo:-93.5709706,44.2177999
END:VEVENT
END:VCALENDAR