BEGIN:VCALENDAR
VERSION:2.0
PRODID:-//Waseca-Le Sueur Library - ECPv6.15.18//NONSGML v1.0//EN
CALSCALE:GREGORIAN
METHOD:PUBLISH
X-ORIGINAL-URL:https://wasecalesueurlibraries.com
X-WR-CALDESC:Events for Waseca-Le Sueur Library
REFRESH-INTERVAL;VALUE=DURATION:PT1H
X-Robots-Tag:noindex
X-PUBLISHED-TTL:PT1H
BEGIN:VTIMEZONE
TZID:America/Chicago
BEGIN:DAYLIGHT
TZOFFSETFROM:-0600
TZOFFSETTO:-0500
TZNAME:CDT
DTSTART:20250309T080000
END:DAYLIGHT
BEGIN:STANDARD
TZOFFSETFROM:-0500
TZOFFSETTO:-0600
TZNAME:CST
DTSTART:20251102T070000
END:STANDARD
BEGIN:DAYLIGHT
TZOFFSETFROM:-0600
TZOFFSETTO:-0500
TZNAME:CDT
DTSTART:20260308T080000
END:DAYLIGHT
BEGIN:STANDARD
TZOFFSETFROM:-0500
TZOFFSETTO:-0600
TZNAME:CST
DTSTART:20261101T070000
END:STANDARD
BEGIN:DAYLIGHT
TZOFFSETFROM:-0600
TZOFFSETTO:-0500
TZNAME:CDT
DTSTART:20270314T080000
END:DAYLIGHT
BEGIN:STANDARD
TZOFFSETFROM:-0500
TZOFFSETTO:-0600
TZNAME:CST
DTSTART:20271107T070000
END:STANDARD
END:VTIMEZONE
BEGIN:VEVENT
DTSTART;TZID=America/Chicago:20260401T140000
DTEND;TZID=America/Chicago:20260401T150000
DTSTAMP:20260419T123439
CREATED:20260408T175048Z
LAST-MODIFIED:20260408T175048Z
UID:10013033-1775052000-1775055600@wasecalesueurlibraries.com
SUMMARY:Personalized Clay Designs
DESCRIPTION:Use polymer clay\, paint\, and stamps to make tiny tags\, motivational houses\, and message magnets. Ages 18+.
URL:https://wasecalesueurlibraries.com/event/personalized-clay-designs-6/
LOCATION:Waldorf Public Library\, 119 S Main St\, Waldorf\, MN\, 56091\, United States
CATEGORIES:Adult Events
GEO:43.9365286;-93.697592
X-APPLE-STRUCTURED-LOCATION;VALUE=URI;X-ADDRESS=Waldorf Public Library 119 S Main St Waldorf MN 56091 United States;X-APPLE-RADIUS=500;X-TITLE=119 S Main St:geo:-93.697592,43.9365286
END:VEVENT
BEGIN:VEVENT
DTSTART;TZID=America/Chicago:20260401T140000
DTEND;TZID=America/Chicago:20260401T170000
DTSTAMP:20260419T123439
CREATED:20260409T225930Z
LAST-MODIFIED:20260409T225930Z
UID:10013068-1775052000-1775062800@wasecalesueurlibraries.com
SUMMARY:Popcorn and Puzzles
DESCRIPTION:Coffee\, tea\, water\, and some of the Snack Shack’s delicious popcorn will be available. Stop in and talk about books\, put together a puzzle\, or just enjoy some conversation and community. All ages.
URL:https://wasecalesueurlibraries.com/event/popcorn-and-puzzles-8/
LOCATION:Waterville Public Library\, 210 Paquin St\, Waterville\, MN\, 56096\, United States
CATEGORIES:Adult Events
GEO:44.2177999;-93.5709706
X-APPLE-STRUCTURED-LOCATION;VALUE=URI;X-ADDRESS=Waterville Public Library 210 Paquin St Waterville MN 56096 United States;X-APPLE-RADIUS=500;X-TITLE=210 Paquin St:geo:-93.5709706,44.2177999
END:VEVENT
BEGIN:VEVENT
DTSTART;TZID=America/Chicago:20260402T130000
DTEND;TZID=America/Chicago:20260402T140000
DTSTAMP:20260419T123439
CREATED:20260407T203503Z
LAST-MODIFIED:20260407T203503Z
UID:10013015-1775134800-1775138400@wasecalesueurlibraries.com
SUMMARY:Virtual Author Event: Valerie Neal
DESCRIPTION:On a mission: the history of US women astronauts with a Smithsonian Curator Emerita. \nThis event will be recorded and people who register will be emailed a link to the recording. \nRegister now. \nThis event is made possible by the Traverse des Sioux Library Cooperative. The event is held in coordination with Library Speakers Consortium and presented by Waseca-Le Sueur Regional Library System.
URL:https://wasecalesueurlibraries.com/event/virtual-author-event-valerie-neal/
LOCATION:Virtual Event\, MN\, United States
CATEGORIES:Adult Events,Author Event
END:VEVENT
BEGIN:VEVENT
DTSTART;TZID=America/Chicago:20260404T093000
DTEND;TZID=America/Chicago:20260404T133000
DTSTAMP:20260419T123439
CREATED:20251222T131936Z
LAST-MODIFIED:20251222T131936Z
UID:10012505-1775295000-1775309400@wasecalesueurlibraries.com
SUMMARY:Books and Bagels
DESCRIPTION:Bagels\, coffee\, juice\, and community. Stop in at the library to talk about books. All ages. \nSponsored by Montgomery Area Friends of the Library
URL:https://wasecalesueurlibraries.com/event/books-and-bagels-5/2026-04-04/
LOCATION:Montgomery Public Library\, 104 Oak Ave SE\, Montgomery\, MN\, 56069\, United States
CATEGORIES:Adult Events,All ages
GEO:44.4355889;-93.5810028
X-APPLE-STRUCTURED-LOCATION;VALUE=URI;X-ADDRESS=Montgomery Public Library 104 Oak Ave SE Montgomery MN 56069 United States;X-APPLE-RADIUS=500;X-TITLE=104 Oak Ave SE:geo:-93.5810028,44.4355889
END:VEVENT
BEGIN:VEVENT
DTSTART;TZID=America/Chicago:20260407T180000
DTEND;TZID=America/Chicago:20260407T190000
DTSTAMP:20260419T123439
CREATED:20260408T172022Z
LAST-MODIFIED:20260408T172022Z
UID:10013026-1775584800-1775588400@wasecalesueurlibraries.com
SUMMARY:Renee Wendinger Author Talk
DESCRIPTION:Wendinger reveals the life story of orphaned and runaway children of immigrant parents in 19th-century New York. Wendinger will share details about children who faced nearly insurmountable odds and discuss Minnesota’s orphan train history. \nThis event is made possible in part with a grant from the Arts & Cultural Heritage Fund of the Minnesota Clean Water\, Land\, and Legacy Amendment through the Traverse des Sioux Library System.
URL:https://wasecalesueurlibraries.com/event/renee-wendinger-author-talk/
LOCATION:Waseca Public Library\, 408 N State St\, Waseca\, MN\, 56093\, United States
CATEGORIES:Adult Events,Author Event
GEO:44.0809183;-93.5069008
X-APPLE-STRUCTURED-LOCATION;VALUE=URI;X-ADDRESS=Waseca Public Library 408 N State St Waseca MN 56093 United States;X-APPLE-RADIUS=500;X-TITLE=408 N State St:geo:-93.5069008,44.0809183
END:VEVENT
BEGIN:VEVENT
DTSTART;TZID=America/Chicago:20260407T180000
DTEND;TZID=America/Chicago:20260407T190000
DTSTAMP:20260419T123439
CREATED:20260408T174852Z
LAST-MODIFIED:20260408T174852Z
UID:10013032-1775584800-1775588400@wasecalesueurlibraries.com
SUMMARY:Memory Bracelets
DESCRIPTION:Create a bracelet to represent a loved one for when you are apart. Ages 18+.
URL:https://wasecalesueurlibraries.com/event/memory-bracelets-4/
LOCATION:Janesville Public Library\, 100 W 2nd St\, Janesville\, MN\, 56048\, United States
CATEGORIES:Adult Events
GEO:44.1173302;-93.7075406
X-APPLE-STRUCTURED-LOCATION;VALUE=URI;X-ADDRESS=Janesville Public Library 100 W 2nd St Janesville MN 56048 United States;X-APPLE-RADIUS=500;X-TITLE=100 W 2nd St:geo:-93.7075406,44.1173302
END:VEVENT
BEGIN:VEVENT
DTSTART;TZID=America/Chicago:20260407T180000
DTEND;TZID=America/Chicago:20260407T190000
DTSTAMP:20260419T123439
CREATED:20260408T214822Z
LAST-MODIFIED:20260408T214822Z
UID:10013059-1775584800-1775588400@wasecalesueurlibraries.com
SUMMARY:The Plot Thickens
DESCRIPTION:Join us for a book club discussion. about this month’s book—The Ghostwriter by Julie Clark. There will be treats! Ages 18+. \nSponsored by Friends of the Le Sueur Public Library
URL:https://wasecalesueurlibraries.com/event/the-plot-thickens-16/
LOCATION:Le Sueur Public Library\, 118 Ferry St\, Le Sueur\, MN\, 56058\, United States
CATEGORIES:Adult Events,Book Clubs
GEO:44.4601702;-93.9161364
X-APPLE-STRUCTURED-LOCATION;VALUE=URI;X-ADDRESS=Le Sueur Public Library 118 Ferry St Le Sueur MN 56058 United States;X-APPLE-RADIUS=500;X-TITLE=118 Ferry St:geo:-93.9161364,44.4601702
END:VEVENT
BEGIN:VEVENT
DTSTART;TZID=America/Chicago:20260409T130000
DTEND;TZID=America/Chicago:20260409T140000
DTSTAMP:20260419T123439
CREATED:20260408T155225Z
LAST-MODIFIED:20260408T155225Z
UID:10013022-1775739600-1775743200@wasecalesueurlibraries.com
SUMMARY:Herb Planters
DESCRIPTION:Transform a can into a decorative planter\, then plant herbs to add flavor to your culinary dishes. Ages 18+.
URL:https://wasecalesueurlibraries.com/event/herb-planters-7/2026-04-09/1/
LOCATION:Le Sueur Public Library\, 118 Ferry St\, Le Sueur\, MN\, 56058\, United States
CATEGORIES:Adult Events
GEO:44.4601702;-93.9161364
X-APPLE-STRUCTURED-LOCATION;VALUE=URI;X-ADDRESS=Le Sueur Public Library 118 Ferry St Le Sueur MN 56058 United States;X-APPLE-RADIUS=500;X-TITLE=118 Ferry St:geo:-93.9161364,44.4601702
END:VEVENT
BEGIN:VEVENT
DTSTART;TZID=America/Chicago:20260409T140000
DTEND;TZID=America/Chicago:20260409T150000
DTSTAMP:20260419T123439
CREATED:20260408T213330Z
LAST-MODIFIED:20260408T213330Z
UID:10013054-1775743200-1775746800@wasecalesueurlibraries.com
SUMMARY:Spice Club
DESCRIPTION:Do you like to try new flavors and recipes? Each month we’ll feature a new spice and make it available in a small FREE take-home kit. Then we’ll meet up to learn more about the spice’s history and its uses. Plus we’ll share what everyone made with the spice. Register at the library.
URL:https://wasecalesueurlibraries.com/event/spice-club-12/
LOCATION:Le Center Public Library\, 10 W Tyrone St\, Le Center\, MN\, 56057\, United States
CATEGORIES:Adult Events
GEO:44.3907505;-93.7316339
X-APPLE-STRUCTURED-LOCATION;VALUE=URI;X-ADDRESS=Le Center Public Library 10 W Tyrone St Le Center MN 56057 United States;X-APPLE-RADIUS=500;X-TITLE=10 W Tyrone St:geo:-93.7316339,44.3907505
END:VEVENT
BEGIN:VEVENT
DTSTART;TZID=America/Chicago:20260409T170000
DTEND;TZID=America/Chicago:20260409T200000
DTSTAMP:20260419T123439
CREATED:20260408T183351Z
LAST-MODIFIED:20260408T183351Z
UID:10013037-1775754000-1775764800@wasecalesueurlibraries.com
SUMMARY:Candle Painting
DESCRIPTION:Capture the warmth of candlelight in vibrant hues and delicate strokes in this candle painting workshop. Leave with an elegant\, unique work of art! Ages 18+.
URL:https://wasecalesueurlibraries.com/event/candle-painting-8/
LOCATION:Montgomery Public Library\, 104 Oak Ave SE\, Montgomery\, MN\, 56069\, United States
CATEGORIES:Adult Events
GEO:44.4355889;-93.5810028
X-APPLE-STRUCTURED-LOCATION;VALUE=URI;X-ADDRESS=Montgomery Public Library 104 Oak Ave SE Montgomery MN 56069 United States;X-APPLE-RADIUS=500;X-TITLE=104 Oak Ave SE:geo:-93.5810028,44.4355889
END:VEVENT
BEGIN:VEVENT
DTSTART;TZID=America/Chicago:20260409T180000
DTEND;TZID=America/Chicago:20260409T190000
DTSTAMP:20260419T123439
CREATED:20260408T155225Z
LAST-MODIFIED:20260408T155225Z
UID:10013023-1775757600-1775761200@wasecalesueurlibraries.com
SUMMARY:Herb Planters
DESCRIPTION:Transform a can into a decorative planter\, then plant herbs to add flavor to your culinary dishes. Ages 18+.
URL:https://wasecalesueurlibraries.com/event/herb-planters-7/2026-04-09/2/
LOCATION:Le Sueur Public Library\, 118 Ferry St\, Le Sueur\, MN\, 56058\, United States
CATEGORIES:Adult Events
GEO:44.4601702;-93.9161364
X-APPLE-STRUCTURED-LOCATION;VALUE=URI;X-ADDRESS=Le Sueur Public Library 118 Ferry St Le Sueur MN 56058 United States;X-APPLE-RADIUS=500;X-TITLE=118 Ferry St:geo:-93.9161364,44.4601702
END:VEVENT
BEGIN:VEVENT
DTSTART;TZID=America/Chicago:20260410T180000
DTEND;TZID=America/Chicago:20260410T190000
DTSTAMP:20260419T123439
CREATED:20250227T162719Z
LAST-MODIFIED:20260411T163810Z
UID:10013073-1775844000-1775847600@wasecalesueurlibraries.com
SUMMARY:Pie & Puzzles
DESCRIPTION:Assemble a team of up to 4 players to compete in a jigsaw puzzle competition. The first team to complete the puzzle wins a prize (and bragging rights)! Registration required. \nSponsored by Friends of the Le Sueur Public Library
URL:https://wasecalesueurlibraries.com/event/pie-puzzles-2/2026-04-10/
LOCATION:Le Sueur Public Library\, 118 Ferry St\, Le Sueur\, MN\, 56058\, United States
CATEGORIES:Adult Events
GEO:44.4601702;-93.9161364
X-APPLE-STRUCTURED-LOCATION;VALUE=URI;X-ADDRESS=Le Sueur Public Library 118 Ferry St Le Sueur MN 56058 United States;X-APPLE-RADIUS=500;X-TITLE=118 Ferry St:geo:-93.9161364,44.4601702
END:VEVENT
BEGIN:VEVENT
DTSTART;TZID=America/Chicago:20260413T140000
DTEND;TZID=America/Chicago:20260413T180000
DTSTAMP:20260419T123439
CREATED:20260408T182923Z
LAST-MODIFIED:20260408T182923Z
UID:10013036-1776088800-1776103200@wasecalesueurlibraries.com
SUMMARY:Stitch & Visit
DESCRIPTION:Help is available for you to learn to sew on a button or use a sewing machine to stitch up a seam. Dianne Gahler and Kathy Mentjes will be on hand to problem solve. All ages.
URL:https://wasecalesueurlibraries.com/event/stitch-visit-6/
LOCATION:Le Center Public Library\, 10 W Tyrone St\, Le Center\, MN\, 56057\, United States
CATEGORIES:Adult Events,All ages
GEO:44.3907505;-93.7316339
X-APPLE-STRUCTURED-LOCATION;VALUE=URI;X-ADDRESS=Le Center Public Library 10 W Tyrone St Le Center MN 56057 United States;X-APPLE-RADIUS=500;X-TITLE=10 W Tyrone St:geo:-93.7316339,44.3907505
END:VEVENT
BEGIN:VEVENT
DTSTART;TZID=America/Chicago:20260414T150000
DTEND;TZID=America/Chicago:20260414T180000
DTSTAMP:20260419T123439
CREATED:20260408T175448Z
LAST-MODIFIED:20260408T175448Z
UID:10013034-1776178800-1776189600@wasecalesueurlibraries.com
SUMMARY:Personalized Clay Designs
DESCRIPTION:Use polymer clay\, paint\, and stamps to make tiny tags\, motivational houses\, and message magnets. Ages 18+.
URL:https://wasecalesueurlibraries.com/event/personalized-clay-designs-7/
LOCATION:Montgomery Public Library\, 104 Oak Ave SE\, Montgomery\, MN\, 56069\, United States
CATEGORIES:Adult Events
GEO:44.4355889;-93.5810028
X-APPLE-STRUCTURED-LOCATION;VALUE=URI;X-ADDRESS=Montgomery Public Library 104 Oak Ave SE Montgomery MN 56069 United States;X-APPLE-RADIUS=500;X-TITLE=104 Oak Ave SE:geo:-93.5810028,44.4355889
END:VEVENT
BEGIN:VEVENT
DTSTART;TZID=America/Chicago:20260414T180000
DTEND;TZID=America/Chicago:20260414T190000
DTSTAMP:20260419T123439
CREATED:20260407T203840Z
LAST-MODIFIED:20260407T203840Z
UID:10013016-1776189600-1776193200@wasecalesueurlibraries.com
SUMMARY:Virtual Author Event: Brad Taylor
DESCRIPTION:On writing action-packed and suspenseful spycraft with the former special forces and author of the Pike Logan series\, Brad Taylor. \nThis event will be recorded and people who register will be emailed a link to the recording. \nRegister now. \nThis event is made possible by the Traverse des Sioux Library Cooperative. The event is held in coordination with Library Speakers Consortium and presented by Waseca-Le Sueur Regional Library System.
URL:https://wasecalesueurlibraries.com/event/virtual-author-event-brad-taylor/
LOCATION:Virtual Event\, MN\, United States
CATEGORIES:Adult Events,Author Event
END:VEVENT
BEGIN:VEVENT
DTSTART;TZID=America/Chicago:20260414T180000
DTEND;TZID=America/Chicago:20260414T190000
DTSTAMP:20260419T123439
CREATED:20260407T204446Z
LAST-MODIFIED:20260407T204446Z
UID:10013018-1776189600-1776193200@wasecalesueurlibraries.com
SUMMARY:Latte Art Workshop
DESCRIPTION:Level up your barista skills! Practice creating latte art using an expresso machine\, a steam wand\, a frother\, and stencils.
URL:https://wasecalesueurlibraries.com/event/latte-art-workshop/
LOCATION:Le Center Public Library\, 10 W Tyrone St\, Le Center\, MN\, 56057\, United States
CATEGORIES:Adult Events
GEO:44.3907505;-93.7316339
X-APPLE-STRUCTURED-LOCATION;VALUE=URI;X-ADDRESS=Le Center Public Library 10 W Tyrone St Le Center MN 56057 United States;X-APPLE-RADIUS=500;X-TITLE=10 W Tyrone St:geo:-93.7316339,44.3907505
END:VEVENT
BEGIN:VEVENT
DTSTART;TZID=America/Chicago:20260414T180000
DTEND;TZID=America/Chicago:20260414T190000
DTSTAMP:20260419T123439
CREATED:20260408T172847Z
LAST-MODIFIED:20260408T172847Z
UID:10013027-1776189600-1776193200@wasecalesueurlibraries.com
SUMMARY:Renee Wendinger Author Talk
DESCRIPTION:Wendinger reveals the life story of orphaned and runaway children of immigrant parents in 19th-century New York. Wendinger will share details about children who faced nearly insurmountable odds and discuss Minnesota’s orphan train history. \nThis event is made possible in part with a grant from the Arts & Cultural Heritage Fund of the Minnesota Clean Water\, Land\, and Legacy Amendment through the Traverse des Sioux Library System.
URL:https://wasecalesueurlibraries.com/event/renee-wendinger-author-talk-2/
LOCATION:Janesville Public Library\, 100 W 2nd St\, Janesville\, MN\, 56048\, United States
CATEGORIES:Adult Events,Author Event
GEO:44.1173302;-93.7075406
X-APPLE-STRUCTURED-LOCATION;VALUE=URI;X-ADDRESS=Janesville Public Library 100 W 2nd St Janesville MN 56048 United States;X-APPLE-RADIUS=500;X-TITLE=100 W 2nd St:geo:-93.7075406,44.1173302
END:VEVENT
BEGIN:VEVENT
DTSTART;TZID=America/Chicago:20260415T100000
DTEND;TZID=America/Chicago:20260415T110000
DTSTAMP:20260419T123439
CREATED:20251222T134207Z
LAST-MODIFIED:20260411T151505Z
UID:10013071-1776247200-1776250800@wasecalesueurlibraries.com
SUMMARY:Jigsaw Puzzle Derby
DESCRIPTION:Assemble a team of up to 4 players to compete in a jigsaw puzzle competition. The first team to complete the puzzle wins a prize! Registration required. \nSponsored by Friends of the Waseca Public Library
URL:https://wasecalesueurlibraries.com/event/jigsaw-puzzle-derby-50/2026-04-15/
LOCATION:Waseca Public Library\, 408 N State St\, Waseca\, MN\, 56093\, United States
CATEGORIES:Adult Events
GEO:44.0809183;-93.5069008
X-APPLE-STRUCTURED-LOCATION;VALUE=URI;X-ADDRESS=Waseca Public Library 408 N State St Waseca MN 56093 United States;X-APPLE-RADIUS=500;X-TITLE=408 N State St:geo:-93.5069008,44.0809183
END:VEVENT
BEGIN:VEVENT
DTSTART;TZID=America/Chicago:20260416T163000
DTEND;TZID=America/Chicago:20260416T173000
DTSTAMP:20260419T123439
CREATED:20260408T214030Z
LAST-MODIFIED:20260408T214030Z
UID:10013055-1776357000-1776360600@wasecalesueurlibraries.com
SUMMARY:Cook the Book
DESCRIPTION:Visit the library to choose a recipe from the selected cookbook. Then bring the finished dish to the event. It’s a great way to share cooking tips and try out delicious food. \nThis month’s book: Sweet Farm! by Molly Yeh
URL:https://wasecalesueurlibraries.com/event/cook-the-book-53/
LOCATION:Janesville Public Library\, 100 W 2nd St\, Janesville\, MN\, 56048\, United States
CATEGORIES:Adult Events,Book Clubs
GEO:44.1173302;-93.7075406
X-APPLE-STRUCTURED-LOCATION;VALUE=URI;X-ADDRESS=Janesville Public Library 100 W 2nd St Janesville MN 56048 United States;X-APPLE-RADIUS=500;X-TITLE=100 W 2nd St:geo:-93.7075406,44.1173302
END:VEVENT
BEGIN:VEVENT
DTSTART;TZID=America/Chicago:20260418T090000
DTEND;TZID=America/Chicago:20260418T100000
DTSTAMP:20260419T123439
CREATED:20260408T174153Z
LAST-MODIFIED:20260408T174153Z
UID:10013030-1776502800-1776506400@wasecalesueurlibraries.com
SUMMARY:Genealogy Club
DESCRIPTION:Learn new family history search skills. Get advice on resources\, common challenges and problem-solving techniques\, and family history presentation ideas.\nNewcomers are welcome!
URL:https://wasecalesueurlibraries.com/event/genealogy-club-28/
LOCATION:Waterville Public Library\, 210 Paquin St\, Waterville\, MN\, 56096\, United States
CATEGORIES:Adult Events
GEO:44.2177999;-93.5709706
X-APPLE-STRUCTURED-LOCATION;VALUE=URI;X-ADDRESS=Waterville Public Library 210 Paquin St Waterville MN 56096 United States;X-APPLE-RADIUS=500;X-TITLE=210 Paquin St:geo:-93.5709706,44.2177999
END:VEVENT
BEGIN:VEVENT
DTSTART;TZID=America/Chicago:20260418T100000
DTEND;TZID=America/Chicago:20260418T130000
DTSTAMP:20260419T123439
CREATED:20260407T203102Z
LAST-MODIFIED:20260407T203102Z
UID:10013014-1776506400-1776517200@wasecalesueurlibraries.com
SUMMARY:How-To Festival
DESCRIPTION:Learn a wide variety of skills at this community-based all-ages interactive learning event! From pouring latte art to keeping bees\, from creating flour sack dish towels to making a clay creation\, add a few tricks up your sleeve in these short sessions! Choose from 16 skills to learn. \nSponsored by Friends of the Waseca Public Library \n\nThe full schedule: \n10 AM \nHOW TO DEFEND YOURSELF\nRobert Tackett\, Meeting Room \nHOW TO UNDERSTAND CASH FLOWS AND SINKING FUNDS\nStacy Ewert from Dufault CPA\, Teen Area \nHOW TO MAKE A POLYMEAR CLAY CREATION\nJessica Peters\, Children’s Area \nHOW TO KEEP BEES\nSun Honey\, New Adult Books Area \n11 AM \nHOW TO POUR LATTE ART\nWaseca Public Library\, Meeting Room \nHOW TO PACK FOR A TRIP\nAsh Aboki\, Teen Area \nHOW TO CREATE AN ALEBRIJE (COLORFUL MEXICAN FOLK ART SCULPTURE)\nDazed Bat Artistry\, Children’s Area \nHOW TO PROPEGATE PLANTS\nMaster Gardener\, New Adult Books Area \n11:30 am \nLIGHT LUNCH\nLibrary \n12 PM \nHOW TO TURN A FAVORITE LYRIC OR QUOTE INTO A CANVAS WALL TARP\nWaseca Public Library\, Meeting Room \nHOW TO CREATE BEADED FRIENDSHIP BRACELETS\nWaseca Public Library\, Teen Area \nHOW TO MAKE PIPE CLEANER CRITTERS\nMankato Makerspace\, Children’s Area \nHOW TO REGISTER TO VOTE\nLeague of Women Voters\, New Adult Books Area \n12:30 PM \nHOW TO CREATE A FLOUR SACK KITCHEN TOWEL\nDazed Bat Artistry\, Meeting Room \nHOW TO MAKE EMBROIDERY ART\nWaseca Public Library\, Teen Area \nHOW TO CREATE BUTTONS WITH A BUTTON MAKER\nWaseca Public Library\, Children’s Area \nHOW TO MAKE A BEESWAX WRAP\nWaseca Public Library\, New Adult Books Area \n 
URL:https://wasecalesueurlibraries.com/event/how-to-festival-6/
LOCATION:Waseca Public Library\, 408 N State St\, Waseca\, MN\, 56093\, United States
CATEGORIES:Adult Events,All ages,Children's Events,Teen Events,Tweens
GEO:44.0809183;-93.5069008
X-APPLE-STRUCTURED-LOCATION;VALUE=URI;X-ADDRESS=Waseca Public Library 408 N State St Waseca MN 56093 United States;X-APPLE-RADIUS=500;X-TITLE=408 N State St:geo:-93.5069008,44.0809183
END:VEVENT
BEGIN:VEVENT
DTSTART;TZID=America/Chicago:20260418T103000
DTEND;TZID=America/Chicago:20260418T113000
DTSTAMP:20260419T123439
CREATED:20260408T173531Z
LAST-MODIFIED:20260408T173531Z
UID:10013028-1776508200-1776511800@wasecalesueurlibraries.com
SUMMARY:Renee Wendinger Author Talk
DESCRIPTION:Wendinger reveals the life story of orphaned and runaway children of immigrant parents in 19th-century New York. Wendinger will share details about children who faced nearly insurmountable odds and discuss Minnesota’s orphan train history. \nThis event is made possible in part with a grant from the Arts & Cultural Heritage Fund of the Minnesota Clean Water\, Land\, and Legacy Amendment through the Traverse des Sioux Library System.
URL:https://wasecalesueurlibraries.com/event/renee-wendinger-author-talk-3/
LOCATION:Elysian Public Library\, 202 E Main St\, Elysian\, MN\, 56028\, United States
CATEGORIES:Adult Events,Author Event
GEO:44.198703;-93.6724641
X-APPLE-STRUCTURED-LOCATION;VALUE=URI;X-ADDRESS=Elysian Public Library 202 E Main St Elysian MN 56028 United States;X-APPLE-RADIUS=500;X-TITLE=202 E Main St:geo:-93.6724641,44.198703
END:VEVENT
BEGIN:VEVENT
DTSTART;TZID=America/Chicago:20260420T180000
DTEND;TZID=America/Chicago:20260420T190000
DTSTAMP:20260419T123439
CREATED:20260408T160216Z
LAST-MODIFIED:20260408T160216Z
UID:10013024-1776708000-1776711600@wasecalesueurlibraries.com
SUMMARY:Ellie Palmer Author Talk
DESCRIPTION:Join us for a conversation with the author of the witty Minnesota romcoms\, Anywhere but You\, Four Weekends and a Funeral\, and the upcoming Married with Benefits. \nThese events are made possible in part with a grant from the Arts & Cultural Heritage Fund of the Minnesota Clean Water\, Land\, and Legacy Amendment through the Traverse des Sioux Library System.
URL:https://wasecalesueurlibraries.com/event/ellie-palmer-author-talk/
LOCATION:Le Sueur Public Library\, 118 Ferry St\, Le Sueur\, MN\, 56058\, United States
CATEGORIES:Adult Events,Author Event
GEO:44.4601702;-93.9161364
X-APPLE-STRUCTURED-LOCATION;VALUE=URI;X-ADDRESS=Le Sueur Public Library 118 Ferry St Le Sueur MN 56058 United States;X-APPLE-RADIUS=500;X-TITLE=118 Ferry St:geo:-93.9161364,44.4601702
END:VEVENT
BEGIN:VEVENT
DTSTART;TZID=America/Chicago:20260420T180000
DTEND;TZID=America/Chicago:20260420T190000
DTSTAMP:20260419T123439
CREATED:20260408T182308Z
LAST-MODIFIED:20260408T182308Z
UID:10013035-1776708000-1776711600@wasecalesueurlibraries.com
SUMMARY:Embossed Cards Workshop
DESCRIPTION:A simple watercolor wash makes the perfect background for a dreamy embossed card. Ages 18+.
URL:https://wasecalesueurlibraries.com/event/embossed-cards-workshop-4/
LOCATION:Elysian Public Library\, 202 E Main St\, Elysian\, MN\, 56028\, United States
CATEGORIES:Adult Events
GEO:44.198703;-93.6724641
X-APPLE-STRUCTURED-LOCATION;VALUE=URI;X-ADDRESS=Elysian Public Library 202 E Main St Elysian MN 56028 United States;X-APPLE-RADIUS=500;X-TITLE=202 E Main St:geo:-93.6724641,44.198703
END:VEVENT
BEGIN:VEVENT
DTSTART;TZID=America/Chicago:20260421T180000
DTEND;TZID=America/Chicago:20260421T190000
DTSTAMP:20260419T123439
CREATED:20260408T174007Z
LAST-MODIFIED:20260408T174007Z
UID:10013029-1776794400-1776798000@wasecalesueurlibraries.com
SUMMARY:Renee Wendinger Author Talk
DESCRIPTION:Wendinger reveals the life story of orphaned and runaway children of immigrant parents in 19th-century New York. Wendinger will share details about children who faced nearly insurmountable odds and discuss Minnesota’s orphan train history. \nThis event is made possible in part with a grant from the Arts & Cultural Heritage Fund of the Minnesota Clean Water\, Land\, and Legacy Amendment through the Traverse des Sioux Library System.
URL:https://wasecalesueurlibraries.com/event/renee-wendinger-author-talk-4/
LOCATION:Montgomery Public Library\, 104 Oak Ave SE\, Montgomery\, MN\, 56069\, United States
CATEGORIES:Adult Events,Author Event
GEO:44.4355889;-93.5810028
X-APPLE-STRUCTURED-LOCATION;VALUE=URI;X-ADDRESS=Montgomery Public Library 104 Oak Ave SE Montgomery MN 56069 United States;X-APPLE-RADIUS=500;X-TITLE=104 Oak Ave SE:geo:-93.5810028,44.4355889
END:VEVENT
BEGIN:VEVENT
DTSTART;TZID=America/Chicago:20260421T183000
DTEND;TZID=America/Chicago:20260421T193000
DTSTAMP:20260419T123439
CREATED:20260408T214329Z
LAST-MODIFIED:20260408T214329Z
UID:10013056-1776796200-1776799800@wasecalesueurlibraries.com
SUMMARY:Books & Brews
DESCRIPTION:It’s the perfect combo of bookworm babble and beer. Pick up a copy of the book at the library\, then meet us out to discuss the book. \nThis month’s book: Firekeeper’s Daughter by Angeline Boulley \nFood and drinks not provided but can be purchased.
URL:https://wasecalesueurlibraries.com/event/books-brews-4/
LOCATION:Classics Pub\, 125 S 3rd St\, Waterville\, 56096\, United States
CATEGORIES:Adult Events,Book Clubs
END:VEVENT
BEGIN:VEVENT
DTSTART;TZID=America/Chicago:20260422T130000
DTEND;TZID=America/Chicago:20260422T140000
DTSTAMP:20260419T123439
CREATED:20260407T204237Z
LAST-MODIFIED:20260407T204237Z
UID:10013017-1776862800-1776866400@wasecalesueurlibraries.com
SUMMARY:Virtual Author Event: Miranda Cowley Heller
DESCRIPTION:Heller takes us on an intimate journey through the life stages of a woman in her new poetry collection. \nThis event will be recorded and people who register will be emailed a link to the recording. \nRegister now. \nThis event is made possible by the Traverse des Sioux Library Cooperative. The event is held in coordination with Library Speakers Consortium and presented by Waseca-Le Sueur Regional Library System.
URL:https://wasecalesueurlibraries.com/event/virtual-author-event-miranda-cowley-heller/
LOCATION:Virtual Event\, MN\, United States
CATEGORIES:Adult Events,Author Event
END:VEVENT
BEGIN:VEVENT
DTSTART;TZID=America/Chicago:20260423T130000
DTEND;TZID=America/Chicago:20260423T140000
DTSTAMP:20260419T123439
CREATED:20260409T230427Z
LAST-MODIFIED:20260409T230427Z
UID:10013070-1776949200-1776952800@wasecalesueurlibraries.com
SUMMARY:Adult BINGO
DESCRIPTION:It’s BINGO time! Prizes for winners but fun for all. Registration required. \nPrizes sponsored by Friends of the Le Sueur Public Library
URL:https://wasecalesueurlibraries.com/event/adult-bingo-9/
LOCATION:Le Sueur Public Library\, 118 Ferry St\, Le Sueur\, MN\, 56058\, United States
CATEGORIES:Adult Events
GEO:44.4601702;-93.9161364
X-APPLE-STRUCTURED-LOCATION;VALUE=URI;X-ADDRESS=Le Sueur Public Library 118 Ferry St Le Sueur MN 56058 United States;X-APPLE-RADIUS=500;X-TITLE=118 Ferry St:geo:-93.9161364,44.4601702
END:VEVENT
BEGIN:VEVENT
DTSTART;TZID=America/Chicago:20260423T180000
DTEND;TZID=America/Chicago:20260423T190000
DTSTAMP:20260419T123439
CREATED:20260409T230149Z
LAST-MODIFIED:20260409T230149Z
UID:10013069-1776967200-1776970800@wasecalesueurlibraries.com
SUMMARY:Back to the Future Trivia
DESCRIPTION:Participants will go back in time with Marty McFly and explore trivia from the Back to the Future franchise. Have your flux capacitors ready to go Back to the Future. Geared for adults.
URL:https://wasecalesueurlibraries.com/event/back-to-the-future-trivia/
LOCATION:DT’s 118 Saloon\, 118 S 3rd St\, Waterville\, MN\, 56096\, United States
CATEGORIES:Adult Events
END:VEVENT
BEGIN:VEVENT
DTSTART;TZID=America/Chicago:20260425T100000
DTEND;TZID=America/Chicago:20260425T110000
DTSTAMP:20260419T123439
CREATED:20260408T140937Z
LAST-MODIFIED:20260408T154544Z
UID:10013019-1777111200-1777114800@wasecalesueurlibraries.com
SUMMARY:Herb Planters
DESCRIPTION:Transform a can into a decorative planter\, then plant herbs to add flavor to your culinary dishes. Ages 18+.
URL:https://wasecalesueurlibraries.com/event/herb-planters-6/
LOCATION:Waterville Public Library\, 210 Paquin St\, Waterville\, MN\, 56096\, United States
CATEGORIES:Adult Events
GEO:44.2177999;-93.5709706
X-APPLE-STRUCTURED-LOCATION;VALUE=URI;X-ADDRESS=Waterville Public Library 210 Paquin St Waterville MN 56096 United States;X-APPLE-RADIUS=500;X-TITLE=210 Paquin St:geo:-93.5709706,44.2177999
END:VEVENT
END:VCALENDAR