BEGIN:VCALENDAR
VERSION:2.0
PRODID:-//Waseca-Le Sueur Library - ECPv6.15.20//NONSGML v1.0//EN
CALSCALE:GREGORIAN
METHOD:PUBLISH
X-WR-CALNAME:Waseca-Le Sueur Library
X-ORIGINAL-URL:https://wasecalesueurlibraries.com
X-WR-CALDESC:Events for Waseca-Le Sueur Library
REFRESH-INTERVAL;VALUE=DURATION:PT1H
X-Robots-Tag:noindex
X-PUBLISHED-TTL:PT1H
BEGIN:VTIMEZONE
TZID:America/Chicago
BEGIN:DAYLIGHT
TZOFFSETFROM:-0600
TZOFFSETTO:-0500
TZNAME:CDT
DTSTART:20230312T080000
END:DAYLIGHT
BEGIN:STANDARD
TZOFFSETFROM:-0500
TZOFFSETTO:-0600
TZNAME:CST
DTSTART:20231105T070000
END:STANDARD
BEGIN:DAYLIGHT
TZOFFSETFROM:-0600
TZOFFSETTO:-0500
TZNAME:CDT
DTSTART:20240310T080000
END:DAYLIGHT
BEGIN:STANDARD
TZOFFSETFROM:-0500
TZOFFSETTO:-0600
TZNAME:CST
DTSTART:20241103T070000
END:STANDARD
BEGIN:DAYLIGHT
TZOFFSETFROM:-0600
TZOFFSETTO:-0500
TZNAME:CDT
DTSTART:20250309T080000
END:DAYLIGHT
BEGIN:STANDARD
TZOFFSETFROM:-0500
TZOFFSETTO:-0600
TZNAME:CST
DTSTART:20251102T070000
END:STANDARD
END:VTIMEZONE
BEGIN:VEVENT
DTSTART;TZID=America/Chicago:20241120T180000
DTEND;TZID=America/Chicago:20241120T190000
DTSTAMP:20260420T215205
CREATED:20241029T212822Z
LAST-MODIFIED:20241029T212822Z
UID:10008938-1732125600-1732129200@wasecalesueurlibraries.com
SUMMARY:Virtual Author Event: Mona Susan Power
DESCRIPTION:A modern masterpiece\, A Council of Dolls is gorgeous\, quietly devastating\, and ultimately hopeful\, shining a light on the echoing damage wrought by Indian boarding schools\, and the historical massacres of Indigenous people. Mona Susan Power weaves a spell of love and healing that comes alive on the page. \nThis event will be recorded and people who register will be emailed a link to the recording. \nRegister now. \nThis event is made possible by the voters of Minnesota through a grant provided by the Traverse des Sioux Library Cooperative\, thanks to a legislative appropriation from the arts and cultural heritage fund. The event is held in coordination with Library Speakers Consortium and presented by Waseca-Le Sueur Regional Library System. \n 
URL:https://wasecalesueurlibraries.com/event/virtual-author-event-mona-susan-power/
LOCATION:Virtual Event\, MN\, United States
CATEGORIES:Adult Events,Children's Events
END:VEVENT
END:VCALENDAR