BEGIN:VCALENDAR
VERSION:2.0
PRODID:-//Waseca-Le Sueur Library - ECPv6.15.20//NONSGML v1.0//EN
CALSCALE:GREGORIAN
METHOD:PUBLISH
X-WR-CALNAME:Waseca-Le Sueur Library
X-ORIGINAL-URL:https://wasecalesueurlibraries.com
X-WR-CALDESC:Events for Waseca-Le Sueur Library
REFRESH-INTERVAL;VALUE=DURATION:PT1H
X-Robots-Tag:noindex
X-PUBLISHED-TTL:PT1H
BEGIN:VTIMEZONE
TZID:America/Chicago
BEGIN:DAYLIGHT
TZOFFSETFROM:-0600
TZOFFSETTO:-0500
TZNAME:CDT
DTSTART:20230312T080000
END:DAYLIGHT
BEGIN:STANDARD
TZOFFSETFROM:-0500
TZOFFSETTO:-0600
TZNAME:CST
DTSTART:20231105T070000
END:STANDARD
BEGIN:DAYLIGHT
TZOFFSETFROM:-0600
TZOFFSETTO:-0500
TZNAME:CDT
DTSTART:20240310T080000
END:DAYLIGHT
BEGIN:STANDARD
TZOFFSETFROM:-0500
TZOFFSETTO:-0600
TZNAME:CST
DTSTART:20241103T070000
END:STANDARD
BEGIN:DAYLIGHT
TZOFFSETFROM:-0600
TZOFFSETTO:-0500
TZNAME:CDT
DTSTART:20250309T080000
END:DAYLIGHT
BEGIN:STANDARD
TZOFFSETFROM:-0500
TZOFFSETTO:-0600
TZNAME:CST
DTSTART:20251102T070000
END:STANDARD
END:VTIMEZONE
BEGIN:VEVENT
DTSTART;TZID=America/Chicago:20241112T120000
DTEND;TZID=America/Chicago:20241112T130000
DTSTAMP:20260422T071811
CREATED:20241029T214408Z
LAST-MODIFIED:20241029T214408Z
UID:10008949-1731412800-1731416400@wasecalesueurlibraries.com
SUMMARY:Colorful Abstract Painting
DESCRIPTION:Learn how to create a cohesive palette\, then evaluate and build your work of art until you determine that it’s ready to grace your walls with its confident swaths of color. Geared for adults. \nRegister now!
URL:https://wasecalesueurlibraries.com/event/colorful-abstract-painting-5/2024-11-12/1/
LOCATION:Waseca Public Library\, 408 N State St\, Waseca\, MN\, 56093\, United States
CATEGORIES:Adult Events
GEO:44.0809183;-93.5069008
X-APPLE-STRUCTURED-LOCATION;VALUE=URI;X-ADDRESS=Waseca Public Library 408 N State St Waseca MN 56093 United States;X-APPLE-RADIUS=500;X-TITLE=408 N State St:geo:-93.5069008,44.0809183
END:VEVENT
BEGIN:VEVENT
DTSTART;TZID=America/Chicago:20241112T133000
DTEND;TZID=America/Chicago:20241112T143000
DTSTAMP:20260422T071811
CREATED:20241029T214141Z
LAST-MODIFIED:20241029T214141Z
UID:10008947-1731418200-1731421800@wasecalesueurlibraries.com
SUMMARY:Learn to Crochet
DESCRIPTION:Dianne Gahler will teach the basics of crocheting. Supplies will be provided. Register at the library before November 4th. Geared for adults. \n 
URL:https://wasecalesueurlibraries.com/event/learn-to-crochet-4/
LOCATION:Le Center Public Library\, 10 W Tyrone St\, Le Center\, MN\, 56057\, United States
CATEGORIES:Adult Events
GEO:44.3907505;-93.7316339
X-APPLE-STRUCTURED-LOCATION;VALUE=URI;X-ADDRESS=Le Center Public Library 10 W Tyrone St Le Center MN 56057 United States;X-APPLE-RADIUS=500;X-TITLE=10 W Tyrone St:geo:-93.7316339,44.3907505
END:VEVENT
BEGIN:VEVENT
DTSTART;TZID=America/Chicago:20241112T173000
DTEND;TZID=America/Chicago:20241112T183000
DTSTAMP:20260422T071811
CREATED:20241029T211515Z
LAST-MODIFIED:20241029T211515Z
UID:10011020-1731432600-1731436200@wasecalesueurlibraries.com
SUMMARY:Garter Stitch Slippers
DESCRIPTION:Keep your toes toasty with this easy-to-knit project! The delectably simple slipper pattern was designed by Creativebug’s resident knitter\, Faith Hale\, and requires knitting just one rectangular piece. Simple increases and just two seams give the slipper its shape\, making it a great project for last-minute gifting. Geared for teens and adults. \nSponsored by Janesville Area Foundation \n 
URL:https://wasecalesueurlibraries.com/event/garter-stitch-slippers/
LOCATION:Janesville Public Library\, 100 W 2nd St\, Janesville\, MN\, 56048\, United States
CATEGORIES:Adult Events,Teen Events
GEO:44.1173302;-93.7075406
X-APPLE-STRUCTURED-LOCATION;VALUE=URI;X-ADDRESS=Janesville Public Library 100 W 2nd St Janesville MN 56048 United States;X-APPLE-RADIUS=500;X-TITLE=100 W 2nd St:geo:-93.7075406,44.1173302
END:VEVENT
BEGIN:VEVENT
DTSTART;TZID=America/Chicago:20241112T180000
DTEND;TZID=America/Chicago:20241112T190000
DTSTAMP:20260422T071811
CREATED:20241029T214408Z
LAST-MODIFIED:20241029T214408Z
UID:10008950-1731434400-1731438000@wasecalesueurlibraries.com
SUMMARY:Colorful Abstract Painting
DESCRIPTION:Learn how to create a cohesive palette\, then evaluate and build your work of art until you determine that it’s ready to grace your walls with its confident swaths of color. Geared for adults. \nRegister now!
URL:https://wasecalesueurlibraries.com/event/colorful-abstract-painting-5/2024-11-12/2/
LOCATION:Waseca Public Library\, 408 N State St\, Waseca\, MN\, 56093\, United States
CATEGORIES:Adult Events
GEO:44.0809183;-93.5069008
X-APPLE-STRUCTURED-LOCATION;VALUE=URI;X-ADDRESS=Waseca Public Library 408 N State St Waseca MN 56093 United States;X-APPLE-RADIUS=500;X-TITLE=408 N State St:geo:-93.5069008,44.0809183
END:VEVENT
END:VCALENDAR