BEGIN:VCALENDAR
VERSION:2.0
PRODID:-//Waseca-Le Sueur Library - ECPv6.15.20//NONSGML v1.0//EN
CALSCALE:GREGORIAN
METHOD:PUBLISH
X-ORIGINAL-URL:https://wasecalesueurlibraries.com
X-WR-CALDESC:Events for Waseca-Le Sueur Library
REFRESH-INTERVAL;VALUE=DURATION:PT1H
X-Robots-Tag:noindex
X-PUBLISHED-TTL:PT1H
BEGIN:VTIMEZONE
TZID:America/Chicago
BEGIN:DAYLIGHT
TZOFFSETFROM:-0600
TZOFFSETTO:-0500
TZNAME:CDT
DTSTART:20250309T080000
END:DAYLIGHT
BEGIN:STANDARD
TZOFFSETFROM:-0500
TZOFFSETTO:-0600
TZNAME:CST
DTSTART:20251102T070000
END:STANDARD
BEGIN:DAYLIGHT
TZOFFSETFROM:-0600
TZOFFSETTO:-0500
TZNAME:CDT
DTSTART:20260308T080000
END:DAYLIGHT
BEGIN:STANDARD
TZOFFSETFROM:-0500
TZOFFSETTO:-0600
TZNAME:CST
DTSTART:20261101T070000
END:STANDARD
BEGIN:DAYLIGHT
TZOFFSETFROM:-0600
TZOFFSETTO:-0500
TZNAME:CDT
DTSTART:20270314T080000
END:DAYLIGHT
BEGIN:STANDARD
TZOFFSETFROM:-0500
TZOFFSETTO:-0600
TZNAME:CST
DTSTART:20271107T070000
END:STANDARD
END:VTIMEZONE
BEGIN:VEVENT
DTSTART;TZID=America/Chicago:20260103T080000
DTEND;TZID=America/Chicago:20260103T170000
DTSTAMP:20260423T114348
CREATED:20251222T131936Z
LAST-MODIFIED:20251222T131936Z
UID:10012501-1767427200-1767459600@wasecalesueurlibraries.com
SUMMARY:Books and Bagels
DESCRIPTION:Bagels\, coffee\, juice\, and community. Stop in at the library to talk about books. All ages. \nSponsored by Montgomery Area Friends of the Library
URL:https://wasecalesueurlibraries.com/event/books-and-bagels-5/2026-01-03/1/
LOCATION:Montgomery Public Library\, 104 Oak Ave SE\, Montgomery\, MN\, 56069\, United States
CATEGORIES:Adult Events,All ages
GEO:44.4355889;-93.5810028
X-APPLE-STRUCTURED-LOCATION;VALUE=URI;X-ADDRESS=Montgomery Public Library 104 Oak Ave SE Montgomery MN 56069 United States;X-APPLE-RADIUS=500;X-TITLE=104 Oak Ave SE:geo:-93.5810028,44.4355889
END:VEVENT
BEGIN:VEVENT
DTSTART;TZID=America/Chicago:20260103T093000
DTEND;TZID=America/Chicago:20260103T133000
DTSTAMP:20260423T114348
CREATED:20251222T131936Z
LAST-MODIFIED:20251222T131936Z
UID:10012502-1767432600-1767447000@wasecalesueurlibraries.com
SUMMARY:Books and Bagels
DESCRIPTION:Bagels\, coffee\, juice\, and community. Stop in at the library to talk about books. All ages. \nSponsored by Montgomery Area Friends of the Library
URL:https://wasecalesueurlibraries.com/event/books-and-bagels-5/2026-01-03/2/
LOCATION:Montgomery Public Library\, 104 Oak Ave SE\, Montgomery\, MN\, 56069\, United States
CATEGORIES:Adult Events,All ages
GEO:44.4355889;-93.5810028
X-APPLE-STRUCTURED-LOCATION;VALUE=URI;X-ADDRESS=Montgomery Public Library 104 Oak Ave SE Montgomery MN 56069 United States;X-APPLE-RADIUS=500;X-TITLE=104 Oak Ave SE:geo:-93.5810028,44.4355889
END:VEVENT
BEGIN:VEVENT
DTSTART;TZID=America/Chicago:20260105T180000
DTEND;TZID=America/Chicago:20260105T190000
DTSTAMP:20260423T114348
CREATED:20251218T222004Z
LAST-MODIFIED:20251218T222004Z
UID:10012478-1767636000-1767639600@wasecalesueurlibraries.com
SUMMARY:Personalized Clay Designs
DESCRIPTION:Use polymer clay\, paint\, and stamps to make tiny tags\, motivational houses\, and message magnets.
URL:https://wasecalesueurlibraries.com/event/personalized-clay-designs/
LOCATION:Waterville Public Library\, 210 Paquin St\, Waterville\, MN\, 56096\, United States
CATEGORIES:Adult Events
GEO:44.2177999;-93.5709706
X-APPLE-STRUCTURED-LOCATION;VALUE=URI;X-ADDRESS=Waterville Public Library 210 Paquin St Waterville MN 56096 United States;X-APPLE-RADIUS=500;X-TITLE=210 Paquin St:geo:-93.5709706,44.2177999
END:VEVENT
BEGIN:VEVENT
DTSTART;TZID=America/Chicago:20260106T180000
DTEND;TZID=America/Chicago:20260106T190000
DTSTAMP:20260423T114348
CREATED:20251222T132403Z
LAST-MODIFIED:20251222T132403Z
UID:10012563-1767722400-1767726000@wasecalesueurlibraries.com
SUMMARY:The Plot Thickens
DESCRIPTION:Join us for a book club discussion about books published in 2025. There will be treats! Ages 18+ \nSponsored by Friends of the Le Sueur Public Library
URL:https://wasecalesueurlibraries.com/event/the-plot-thickens-13/
LOCATION:Le Sueur Public Library\, 118 Ferry St\, Le Sueur\, MN\, 56058\, United States
CATEGORIES:Adult Events,Book Clubs
GEO:44.4601702;-93.9161364
X-APPLE-STRUCTURED-LOCATION;VALUE=URI;X-ADDRESS=Le Sueur Public Library 118 Ferry St Le Sueur MN 56058 United States;X-APPLE-RADIUS=500;X-TITLE=118 Ferry St:geo:-93.9161364,44.4601702
END:VEVENT
BEGIN:VEVENT
DTSTART;TZID=America/Chicago:20260107T090000
DTEND;TZID=America/Chicago:20260107T110000
DTSTAMP:20260423T114348
CREATED:20251222T134005Z
LAST-MODIFIED:20260206T011306Z
UID:10012627-1767776400-1767783600@wasecalesueurlibraries.com
SUMMARY:Jigsaw Puzzle Derby
DESCRIPTION:Assemble a team of up to 4 players to compete in a jigsaw puzzle competition. The first team to complete the puzzle wins a prize! Registration required. \nSponsored by Friends of the Elysian Area Library
URL:https://wasecalesueurlibraries.com/event/jigsaw-puzzle-derby-49/2026-01-07/
LOCATION:Elysian Public Library\, 202 E Main St\, Elysian\, MN\, 56028\, United States
CATEGORIES:Adult Events
GEO:44.198703;-93.6724641
X-APPLE-STRUCTURED-LOCATION;VALUE=URI;X-ADDRESS=Elysian Public Library 202 E Main St Elysian MN 56028 United States;X-APPLE-RADIUS=500;X-TITLE=202 E Main St:geo:-93.6724641,44.198703
END:VEVENT
BEGIN:VEVENT
DTSTART;TZID=America/Chicago:20260107T090000
DTEND;TZID=America/Chicago:20260107T110000
DTSTAMP:20260423T114348
CREATED:20260225T194634Z
LAST-MODIFIED:20260411T154003Z
UID:10012628-1767776400-1767783600@wasecalesueurlibraries.com
SUMMARY:Jigsaw Puzzle Derby
DESCRIPTION:Assemble a team of up to 4 players to compete in a jigsaw puzzle competition. The first team to complete the puzzle wins a prize! Registration required. \nSponsored by Friends of the Elysian Area Library
URL:https://wasecalesueurlibraries.com/event/jigsaw-puzzle-derby-51/2026-01-07/
LOCATION:Elysian Public Library\, 202 E Main St\, Elysian\, MN\, 56028\, United States
CATEGORIES:Adult Events
GEO:44.198703;-93.6724641
X-APPLE-STRUCTURED-LOCATION;VALUE=URI;X-ADDRESS=Elysian Public Library 202 E Main St Elysian MN 56028 United States;X-APPLE-RADIUS=500;X-TITLE=202 E Main St:geo:-93.6724641,44.198703
END:VEVENT
BEGIN:VEVENT
DTSTART;TZID=America/Chicago:20260107T140000
DTEND;TZID=America/Chicago:20260107T170000
DTSTAMP:20260423T114348
CREATED:20251222T133619Z
LAST-MODIFIED:20251222T133619Z
UID:10012625-1767794400-1767805200@wasecalesueurlibraries.com
SUMMARY:Popcorn and Puzzles
DESCRIPTION:Coffee\, tea\, water\, and some of the Snack Shack’s delicious popcorn will be available. Stop in and talk about books\, put together a puzzle\, or just enjoy some conversation and community. All ages.
URL:https://wasecalesueurlibraries.com/event/popcorn-and-puzzles-5/
LOCATION:Waterville Public Library\, 210 Paquin St\, Waterville\, MN\, 56096\, United States
CATEGORIES:Adult Events
GEO:44.2177999;-93.5709706
X-APPLE-STRUCTURED-LOCATION;VALUE=URI;X-ADDRESS=Waterville Public Library 210 Paquin St Waterville MN 56096 United States;X-APPLE-RADIUS=500;X-TITLE=210 Paquin St:geo:-93.5709706,44.2177999
END:VEVENT
BEGIN:VEVENT
DTSTART;TZID=America/Chicago:20260107T180000
DTEND;TZID=America/Chicago:20260107T190000
DTSTAMP:20260423T114348
CREATED:20251218T221509Z
LAST-MODIFIED:20251218T221509Z
UID:10012475-1767808800-1767812400@wasecalesueurlibraries.com
SUMMARY:Understanding Medicare
DESCRIPTION:Learn how to navigate Medicare and all the parts that can be a challenge. Diane Beckmann will help participants understand what Medicare is and how it works. No sales activity will occur at this event.
URL:https://wasecalesueurlibraries.com/event/understanding-medicare-2/
LOCATION:Elysian Public Library\, 202 E Main St\, Elysian\, MN\, 56028\, United States
CATEGORIES:Adult Events
GEO:44.198703;-93.6724641
X-APPLE-STRUCTURED-LOCATION;VALUE=URI;X-ADDRESS=Elysian Public Library 202 E Main St Elysian MN 56028 United States;X-APPLE-RADIUS=500;X-TITLE=202 E Main St:geo:-93.6724641,44.198703
END:VEVENT
BEGIN:VEVENT
DTSTART;TZID=America/Chicago:20260110T100000
DTEND;TZID=America/Chicago:20260110T120000
DTSTAMP:20260423T114348
CREATED:20251218T225345Z
LAST-MODIFIED:20251218T225345Z
UID:10012485-1768039200-1768046400@wasecalesueurlibraries.com
SUMMARY:Beginning Crochet Class
DESCRIPTION:In this two-part class\, Dianne Gahler will introduce the basics of crochet: chain\, single crochet. Participants will create a washcloth. Materials will be provided.
URL:https://wasecalesueurlibraries.com/event/beginning-crochet-class/2026-01-10/
LOCATION:Elysian Public Library\, 202 E Main St\, Elysian\, MN\, 56028\, United States
CATEGORIES:Adult Events
GEO:44.198703;-93.6724641
X-APPLE-STRUCTURED-LOCATION;VALUE=URI;X-ADDRESS=Elysian Public Library 202 E Main St Elysian MN 56028 United States;X-APPLE-RADIUS=500;X-TITLE=202 E Main St:geo:-93.6724641,44.198703
END:VEVENT
BEGIN:VEVENT
DTSTART;TZID=America/Chicago:20260112T140000
DTEND;TZID=America/Chicago:20260112T180000
DTSTAMP:20260423T114348
CREATED:20251218T225929Z
LAST-MODIFIED:20251218T225929Z
UID:10012487-1768226400-1768240800@wasecalesueurlibraries.com
SUMMARY:Stitch and Visit
DESCRIPTION:Bring your craft projects and visit with others while embroidering\, knitting\, crocheting\, or other mobile craft project. Dianne Gahler will be on hand to problem solve. All ages.
URL:https://wasecalesueurlibraries.com/event/stitch-and-visit-3/
LOCATION:Le Center Public Library\, 10 W Tyrone St\, Le Center\, MN\, 56057\, United States
CATEGORIES:Adult Events,All ages
GEO:44.3907505;-93.7316339
X-APPLE-STRUCTURED-LOCATION;VALUE=URI;X-ADDRESS=Le Center Public Library 10 W Tyrone St Le Center MN 56057 United States;X-APPLE-RADIUS=500;X-TITLE=10 W Tyrone St:geo:-93.7316339,44.3907505
END:VEVENT
BEGIN:VEVENT
DTSTART;TZID=America/Chicago:20260113T130000
DTEND;TZID=America/Chicago:20260113T140000
DTSTAMP:20260423T114348
CREATED:20251218T220705Z
LAST-MODIFIED:20251218T220705Z
UID:10012471-1768309200-1768312800@wasecalesueurlibraries.com
SUMMARY:Virtual Author Event: David Brooks
DESCRIPTION:The creative and compassionate art of seeing others deeply with David Brooks. \n  \nThis event will be recorded and people who register will be emailed a link to the recording. \nRegister now. \nThis event is made possible by the Traverse des Sioux Library Cooperative. The event is held in coordination with Library Speakers Consortium and presented by Waseca-Le Sueur Regional Library System.
URL:https://wasecalesueurlibraries.com/event/virtual-author-event-david-brooks/
LOCATION:Virtual Event\, MN\, United States
CATEGORIES:Adult Events,Author Event
END:VEVENT
BEGIN:VEVENT
DTSTART;TZID=America/Chicago:20260113T180000
DTEND;TZID=America/Chicago:20260113T190000
DTSTAMP:20260423T114348
CREATED:20251218T224757Z
LAST-MODIFIED:20251218T224757Z
UID:10012483-1768327200-1768330800@wasecalesueurlibraries.com
SUMMARY:Clothespin Snowflakes
DESCRIPTION:Create winter wall art with this simple craft project. These clothespin snowflakes can be upscaled through paint\, gems\, glitter\, or sequins. \nSponsored by Friends of the Janesville Public Library
URL:https://wasecalesueurlibraries.com/event/clothespin-snowflakes/
LOCATION:Janesville Public Library\, 100 W 2nd St\, Janesville\, MN\, 56048\, United States
CATEGORIES:Adult Events
GEO:44.1173302;-93.7075406
X-APPLE-STRUCTURED-LOCATION;VALUE=URI;X-ADDRESS=Janesville Public Library 100 W 2nd St Janesville MN 56048 United States;X-APPLE-RADIUS=500;X-TITLE=100 W 2nd St:geo:-93.7075406,44.1173302
END:VEVENT
BEGIN:VEVENT
DTSTART;TZID=America/Chicago:20260115T140000
DTEND;TZID=America/Chicago:20260115T150000
DTSTAMP:20260423T114348
CREATED:20251222T131502Z
LAST-MODIFIED:20260206T004213Z
UID:10012499-1768485600-1768489200@wasecalesueurlibraries.com
SUMMARY:Spice Club
DESCRIPTION:Do you like to try new flavors and recipes? Each month we’ll feature a new spice and make it available in a small FREE take-home kit. Then we’ll meet up to learn more about the spice’s history and its uses. Plus we’ll share what everyone made with the spice. Register at the library.
URL:https://wasecalesueurlibraries.com/event/spice-club-10/2026-01-15/
LOCATION:Le Center Public Library\, 10 W Tyrone St\, Le Center\, MN\, 56057\, United States
CATEGORIES:Adult Events
GEO:44.3907505;-93.7316339
X-APPLE-STRUCTURED-LOCATION;VALUE=URI;X-ADDRESS=Le Center Public Library 10 W Tyrone St Le Center MN 56057 United States;X-APPLE-RADIUS=500;X-TITLE=10 W Tyrone St:geo:-93.7316339,44.3907505
END:VEVENT
BEGIN:VEVENT
DTSTART;TZID=America/Chicago:20260115T180000
DTEND;TZID=America/Chicago:20260115T190000
DTSTAMP:20260423T114348
CREATED:20251218T220414Z
LAST-MODIFIED:20251218T220414Z
UID:10012470-1768500000-1768503600@wasecalesueurlibraries.com
SUMMARY:Scandinavian Embroidery
DESCRIPTION:Scandinavian enthusiast and artist Cami Anderson will teach how to cross stitch with a\nfolk art twist. Enjoy a short introduction to Scandinavian folk art and history\, then choose from several fanciful designs: fox\, a reindeer\, or a bird\, and create a bespoke cross stitch piece. No previous cross stitch or sewing experience necessary. \nRegister now.\nSponsored by Friends of the Le Sueur Public Library
URL:https://wasecalesueurlibraries.com/event/scandinavian-embroidery/
LOCATION:Le Sueur Public Library\, 118 Ferry St\, Le Sueur\, MN\, 56058\, United States
CATEGORIES:Adult Events
GEO:44.4601702;-93.9161364
X-APPLE-STRUCTURED-LOCATION;VALUE=URI;X-ADDRESS=Le Sueur Public Library 118 Ferry St Le Sueur MN 56058 United States;X-APPLE-RADIUS=500;X-TITLE=118 Ferry St:geo:-93.9161364,44.4601702
END:VEVENT
BEGIN:VEVENT
DTSTART;TZID=America/Chicago:20260117T100000
DTEND;TZID=America/Chicago:20260117T120000
DTSTAMP:20260423T114348
CREATED:20251218T225345Z
LAST-MODIFIED:20251218T225345Z
UID:10012486-1768644000-1768651200@wasecalesueurlibraries.com
SUMMARY:Beginning Crochet Class
DESCRIPTION:In this two-part class\, Dianne Gahler will introduce the basics of crochet: chain\, single crochet. Participants will create a washcloth. Materials will be provided.
URL:https://wasecalesueurlibraries.com/event/beginning-crochet-class/2026-01-17/
LOCATION:Elysian Public Library\, 202 E Main St\, Elysian\, MN\, 56028\, United States
CATEGORIES:Adult Events
GEO:44.198703;-93.6724641
X-APPLE-STRUCTURED-LOCATION;VALUE=URI;X-ADDRESS=Elysian Public Library 202 E Main St Elysian MN 56028 United States;X-APPLE-RADIUS=500;X-TITLE=202 E Main St:geo:-93.6724641,44.198703
END:VEVENT
BEGIN:VEVENT
DTSTART;TZID=America/Chicago:20260120T130000
DTEND;TZID=America/Chicago:20260120T140000
DTSTAMP:20260423T114348
CREATED:20251218T220912Z
LAST-MODIFIED:20251218T220912Z
UID:10012472-1768914000-1768917600@wasecalesueurlibraries.com
SUMMARY:Virtual Author Event: Julia Hotz
DESCRIPTION:Nature\, art\, and service as medicine with journalist Julia Hotz. \n  \nThis event will be recorded and people who register will be emailed a link to the recording. \nRegister now. \nThis event is made possible by the Traverse des Sioux Library Cooperative. The event is held in coordination with Library Speakers Consortium and presented by Waseca-Le Sueur Regional Library System.
URL:https://wasecalesueurlibraries.com/event/virtual-author-event-julia-hotz/
LOCATION:Virtual Event\, MN\, United States
CATEGORIES:Adult Events,Author Event
END:VEVENT
BEGIN:VEVENT
DTSTART;TZID=America/Chicago:20260120T173000
DTEND;TZID=America/Chicago:20260120T183000
DTSTAMP:20260423T114348
CREATED:20251218T221841Z
LAST-MODIFIED:20251218T221841Z
UID:10012477-1768930200-1768933800@wasecalesueurlibraries.com
SUMMARY:Painting Roulette
DESCRIPTION:Try your hand at this collaborative\, interactive art event where you work on shared canvases\, passing your work on to the next person every few minutes to create unique\npieces in a creative\, pressure-free environment. Ages 18+.
URL:https://wasecalesueurlibraries.com/event/painting-roulette/
LOCATION:Le Center Public Library\, 10 W Tyrone St\, Le Center\, MN\, 56057\, United States
CATEGORIES:Adult Events
GEO:44.3907505;-93.7316339
X-APPLE-STRUCTURED-LOCATION;VALUE=URI;X-ADDRESS=Le Center Public Library 10 W Tyrone St Le Center MN 56057 United States;X-APPLE-RADIUS=500;X-TITLE=10 W Tyrone St:geo:-93.7316339,44.3907505
END:VEVENT
BEGIN:VEVENT
DTSTART;TZID=America/Chicago:20260120T180000
DTEND;TZID=America/Chicago:20260120T190000
DTSTAMP:20260423T114348
CREATED:20251218T221324Z
LAST-MODIFIED:20251218T221324Z
UID:10012474-1768932000-1768935600@wasecalesueurlibraries.com
SUMMARY:The History of the Minnesota Twins
DESCRIPTION:Harmon Killebrew\, Rod Carew\, Kirby Puckett\, Joe Mauer. Minnesota Twins legends. Steve Minor will share the history of the franchise\, club stories\, and details from the team’s greatest games. \nSponsored by Friends of the Waterville Public Library
URL:https://wasecalesueurlibraries.com/event/the-history-of-the-minnesota-twins/
LOCATION:Waterville Public Library\, 210 Paquin St\, Waterville\, MN\, 56096\, United States
CATEGORIES:Adult Events
GEO:44.2177999;-93.5709706
X-APPLE-STRUCTURED-LOCATION;VALUE=URI;X-ADDRESS=Waterville Public Library 210 Paquin St Waterville MN 56096 United States;X-APPLE-RADIUS=500;X-TITLE=210 Paquin St:geo:-93.5709706,44.2177999
END:VEVENT
BEGIN:VEVENT
DTSTART;TZID=America/Chicago:20260120T180000
DTEND;TZID=America/Chicago:20260120T200000
DTSTAMP:20260423T114348
CREATED:20251218T221715Z
LAST-MODIFIED:20251218T221715Z
UID:10012476-1768932000-1768939200@wasecalesueurlibraries.com
SUMMARY:Memory Bracelets
DESCRIPTION:Create a bracelet to represent a loved one. Add beads that represent different attributes of your loved one to connect you to them when you are apart. Ages 18+.
URL:https://wasecalesueurlibraries.com/event/memory-bracelets/
LOCATION:Montgomery Public Library\, 104 Oak Ave SE\, Montgomery\, MN\, 56069\, United States
CATEGORIES:Adult Events
GEO:44.4355889;-93.5810028
X-APPLE-STRUCTURED-LOCATION;VALUE=URI;X-ADDRESS=Montgomery Public Library 104 Oak Ave SE Montgomery MN 56069 United States;X-APPLE-RADIUS=500;X-TITLE=104 Oak Ave SE:geo:-93.5810028,44.4355889
END:VEVENT
BEGIN:VEVENT
DTSTART;TZID=America/Chicago:20260121T100000
DTEND;TZID=America/Chicago:20260121T120000
DTSTAMP:20260423T114348
CREATED:20251222T134207Z
LAST-MODIFIED:20260411T151505Z
UID:10012629-1768989600-1768996800@wasecalesueurlibraries.com
SUMMARY:Jigsaw Puzzle Derby
DESCRIPTION:Assemble a team of up to 4 players to compete in a jigsaw puzzle competition. The first team to complete the puzzle wins a prize! Registration required. \nSponsored by Friends of the Waseca Public Library
URL:https://wasecalesueurlibraries.com/event/jigsaw-puzzle-derby-50/2026-01-21/
LOCATION:Waseca Public Library\, 408 N State St\, Waseca\, MN\, 56093\, United States
CATEGORIES:Adult Events
GEO:44.0809183;-93.5069008
X-APPLE-STRUCTURED-LOCATION;VALUE=URI;X-ADDRESS=Waseca Public Library 408 N State St Waseca MN 56093 United States;X-APPLE-RADIUS=500;X-TITLE=408 N State St:geo:-93.5069008,44.0809183
END:VEVENT
BEGIN:VEVENT
DTSTART;TZID=America/Chicago:20260122T100000
DTEND;TZID=America/Chicago:20260122T110000
DTSTAMP:20260423T114348
CREATED:20251222T133837Z
LAST-MODIFIED:20251222T133837Z
UID:10012626-1769076000-1769079600@wasecalesueurlibraries.com
SUMMARY:Movie Theme Song Trivia
DESCRIPTION:Crank up your amps to eleven. Teams of up to four players compete to win Academy\nAward status in this movie theme song trivia contest.
URL:https://wasecalesueurlibraries.com/event/movie-theme-song-trivia-5/
LOCATION:DT’s 118 Saloon\, 118 S 3rd St\, Waterville\, MN\, 56096\, United States
CATEGORIES:Adult Events
END:VEVENT
BEGIN:VEVENT
DTSTART;TZID=America/Chicago:20260122T130000
DTEND;TZID=America/Chicago:20260122T140000
DTSTAMP:20260423T114348
CREATED:20251218T223659Z
LAST-MODIFIED:20251218T223659Z
UID:10012481-1769086800-1769090400@wasecalesueurlibraries.com
SUMMARY:Literary Floral Plaques
DESCRIPTION:Give new life to book pages through a collage project combining text and dried botanicals. Ages 18+. \nRegister now.
URL:https://wasecalesueurlibraries.com/event/literary-floral-plaques/2026-01-22/1/
LOCATION:Le Sueur Public Library\, 118 Ferry St\, Le Sueur\, MN\, 56058\, United States
CATEGORIES:Adult Events
GEO:44.4601702;-93.9161364
X-APPLE-STRUCTURED-LOCATION;VALUE=URI;X-ADDRESS=Le Sueur Public Library 118 Ferry St Le Sueur MN 56058 United States;X-APPLE-RADIUS=500;X-TITLE=118 Ferry St:geo:-93.9161364,44.4601702
END:VEVENT
BEGIN:VEVENT
DTSTART;TZID=America/Chicago:20260122T180000
DTEND;TZID=America/Chicago:20260122T190000
DTSTAMP:20260423T114348
CREATED:20251218T223659Z
LAST-MODIFIED:20251218T223659Z
UID:10012482-1769104800-1769108400@wasecalesueurlibraries.com
SUMMARY:Literary Floral Plaques
DESCRIPTION:Give new life to book pages through a collage project combining text and dried botanicals. Ages 18+. \nRegister now.
URL:https://wasecalesueurlibraries.com/event/literary-floral-plaques/2026-01-22/2/
LOCATION:Le Sueur Public Library\, 118 Ferry St\, Le Sueur\, MN\, 56058\, United States
CATEGORIES:Adult Events
GEO:44.4601702;-93.9161364
X-APPLE-STRUCTURED-LOCATION;VALUE=URI;X-ADDRESS=Le Sueur Public Library 118 Ferry St Le Sueur MN 56058 United States;X-APPLE-RADIUS=500;X-TITLE=118 Ferry St:geo:-93.9161364,44.4601702
END:VEVENT
BEGIN:VEVENT
DTSTART;TZID=America/Chicago:20260124T100000
DTEND;TZID=America/Chicago:20260124T110000
DTSTAMP:20260423T114348
CREATED:20251218T222158Z
LAST-MODIFIED:20251218T222158Z
UID:10012479-1769248800-1769252400@wasecalesueurlibraries.com
SUMMARY:Herb Planters
DESCRIPTION:Create a patterned planter for your favorite herbs! In this workshop\, you will transform a can into a decorative planter\, then plant herbs to add flavor to your culinary dishes.\nAges 18+.
URL:https://wasecalesueurlibraries.com/event/herb-planters/
LOCATION:Elysian Public Library\, 202 E Main St\, Elysian\, MN\, 56028\, United States
CATEGORIES:Adult Events
GEO:44.198703;-93.6724641
X-APPLE-STRUCTURED-LOCATION;VALUE=URI;X-ADDRESS=Elysian Public Library 202 E Main St Elysian MN 56028 United States;X-APPLE-RADIUS=500;X-TITLE=202 E Main St:geo:-93.6724641,44.198703
END:VEVENT
BEGIN:VEVENT
DTSTART;TZID=America/Chicago:20260126T140000
DTEND;TZID=America/Chicago:20260126T150000
DTSTAMP:20260423T114348
CREATED:20251218T222621Z
LAST-MODIFIED:20251218T222621Z
UID:10012480-1769436000-1769439600@wasecalesueurlibraries.com
SUMMARY:Bird Feeder Crafternoon
DESCRIPTION:Make your own edible bird feeder using molds. Then learn how to customize your bird feed for different types of backyard birds.
URL:https://wasecalesueurlibraries.com/event/bird-feeder-crafternoon/
LOCATION:Le Center Public Library\, 10 W Tyrone St\, Le Center\, MN\, 56057\, United States
CATEGORIES:Adult Events
GEO:44.3907505;-93.7316339
X-APPLE-STRUCTURED-LOCATION;VALUE=URI;X-ADDRESS=Le Center Public Library 10 W Tyrone St Le Center MN 56057 United States;X-APPLE-RADIUS=500;X-TITLE=10 W Tyrone St:geo:-93.7316339,44.3907505
END:VEVENT
BEGIN:VEVENT
DTSTART;TZID=America/Chicago:20260126T180000
DTEND;TZID=America/Chicago:20260126T190000
DTSTAMP:20260423T114348
CREATED:20251222T131654Z
LAST-MODIFIED:20251222T131654Z
UID:10012500-1769450400-1769454000@wasecalesueurlibraries.com
SUMMARY:Cook the Book
DESCRIPTION:Visit the library to choose a recipe from the selected cookbook. Then bring the finished dish to the event. It’s a great way to share cooking tips and try out delicious food. \nThis month’s book: Home Is Where the Eggs Are by Molly Yeh
URL:https://wasecalesueurlibraries.com/event/cook-the-book-49/
LOCATION:Waterville Public Library\, 210 Paquin St\, Waterville\, MN\, 56096\, United States
CATEGORIES:Adult Events,Book Clubs
GEO:44.2177999;-93.5709706
X-APPLE-STRUCTURED-LOCATION;VALUE=URI;X-ADDRESS=Waterville Public Library 210 Paquin St Waterville MN 56096 United States;X-APPLE-RADIUS=500;X-TITLE=210 Paquin St:geo:-93.5709706,44.2177999
END:VEVENT
BEGIN:VEVENT
DTSTART;TZID=America/Chicago:20260127T180000
DTEND;TZID=America/Chicago:20260127T190000
DTSTAMP:20260423T114348
CREATED:20251218T225034Z
LAST-MODIFIED:20251218T225034Z
UID:10012484-1769536800-1769540400@wasecalesueurlibraries.com
SUMMARY:Frosted Luminaries
DESCRIPTION:Light up the darkest days by creating beautiful luminaries. Place along a walkway or in a dark corner in your home to create a little winter magic moment. \nSponsored by Friends of the Janesville Public Library
URL:https://wasecalesueurlibraries.com/event/frosted-luminaries/
LOCATION:Janesville Public Library\, 100 W 2nd St\, Janesville\, MN\, 56048\, United States
CATEGORIES:Adult Events
GEO:44.1173302;-93.7075406
X-APPLE-STRUCTURED-LOCATION;VALUE=URI;X-ADDRESS=Janesville Public Library 100 W 2nd St Janesville MN 56048 United States;X-APPLE-RADIUS=500;X-TITLE=100 W 2nd St:geo:-93.7075406,44.1173302
END:VEVENT
BEGIN:VEVENT
DTSTART;TZID=America/Chicago:20260127T183000
DTEND;TZID=America/Chicago:20260127T193000
DTSTAMP:20260423T114348
CREATED:20251222T132135Z
LAST-MODIFIED:20251222T132135Z
UID:10012562-1769538600-1769542200@wasecalesueurlibraries.com
SUMMARY:Books and Brews
DESCRIPTION:It’s the perfect combo of bookworm babble and beer. Pick up a copy of the book at the library\, then meet us out to discuss the book. \nThis month’s book: The House in the Cerulean Sea by T.J. Klune \nFood and drinks not provided but can be purchased.
URL:https://wasecalesueurlibraries.com/event/books-and-brews-35/
LOCATION:Classics Pub\, 125 S 3rd St\, Waterville\, 56096\, United States
CATEGORIES:Adult Events,Book Clubs
END:VEVENT
BEGIN:VEVENT
DTSTART;TZID=America/Chicago:20260128T100000
DTEND;TZID=America/Chicago:20260128T110000
DTSTAMP:20260423T114348
CREATED:20251222T132550Z
LAST-MODIFIED:20251222T132550Z
UID:10012564-1769594400-1769598000@wasecalesueurlibraries.com
SUMMARY:Book Talk
DESCRIPTION:Join our book discussion group and chat us up about these compelling books. Geared for adults. \nThis month’s book: Remarkably Bright Creatures by Shelby Van Pelt
URL:https://wasecalesueurlibraries.com/event/book-talk-22/
LOCATION:Elysian Public Library\, 202 E Main St\, Elysian\, MN\, 56028\, United States
CATEGORIES:Adult Events,Book Clubs
GEO:44.198703;-93.6724641
X-APPLE-STRUCTURED-LOCATION;VALUE=URI;X-ADDRESS=Elysian Public Library 202 E Main St Elysian MN 56028 United States;X-APPLE-RADIUS=500;X-TITLE=202 E Main St:geo:-93.6724641,44.198703
END:VEVENT
BEGIN:VEVENT
DTSTART;TZID=America/Chicago:20260128T180000
DTEND;TZID=America/Chicago:20260128T190000
DTSTAMP:20260423T114348
CREATED:20251218T221131Z
LAST-MODIFIED:20251218T221131Z
UID:10012473-1769623200-1769626800@wasecalesueurlibraries.com
SUMMARY:Virtual Author Event: Liz Moore
DESCRIPTION:Secrets and second chances with Liz Moore. \n  \nThis event will be recorded and people who register will be emailed a link to the recording. \nRegister now. \nThis event is made possible by the Traverse des Sioux Library Cooperative. The event is held in coordination with Library Speakers Consortium and presented by Waseca-Le Sueur Regional Library System.
URL:https://wasecalesueurlibraries.com/event/virtual-author-event-liz-moore/
LOCATION:Virtual Event\, MN\, United States
CATEGORIES:Adult Events,Author Event
END:VEVENT
END:VCALENDAR