BEGIN:VCALENDAR
VERSION:2.0
PRODID:-//Waseca-Le Sueur Library - ECPv6.15.18//NONSGML v1.0//EN
CALSCALE:GREGORIAN
METHOD:PUBLISH
X-WR-CALNAME:Waseca-Le Sueur Library
X-ORIGINAL-URL:https://wasecalesueurlibraries.com
X-WR-CALDESC:Events for Waseca-Le Sueur Library
REFRESH-INTERVAL;VALUE=DURATION:PT1H
X-Robots-Tag:noindex
X-PUBLISHED-TTL:PT1H
BEGIN:VTIMEZONE
TZID:America/Chicago
BEGIN:DAYLIGHT
TZOFFSETFROM:-0600
TZOFFSETTO:-0500
TZNAME:CDT
DTSTART:20250309T080000
END:DAYLIGHT
BEGIN:STANDARD
TZOFFSETFROM:-0500
TZOFFSETTO:-0600
TZNAME:CST
DTSTART:20251102T070000
END:STANDARD
BEGIN:DAYLIGHT
TZOFFSETFROM:-0600
TZOFFSETTO:-0500
TZNAME:CDT
DTSTART:20260308T080000
END:DAYLIGHT
BEGIN:STANDARD
TZOFFSETFROM:-0500
TZOFFSETTO:-0600
TZNAME:CST
DTSTART:20261101T070000
END:STANDARD
BEGIN:DAYLIGHT
TZOFFSETFROM:-0600
TZOFFSETTO:-0500
TZNAME:CDT
DTSTART:20270314T080000
END:DAYLIGHT
BEGIN:STANDARD
TZOFFSETFROM:-0500
TZOFFSETTO:-0600
TZNAME:CST
DTSTART:20271107T070000
END:STANDARD
END:VTIMEZONE
BEGIN:VEVENT
DTSTART;TZID=America/Chicago:20260309T110000
DTEND;TZID=America/Chicago:20260309T120000
DTSTAMP:20260419T094256
CREATED:20260225T201312Z
LAST-MODIFIED:20260225T201312Z
UID:10013012-1773054000-1773057600@wasecalesueurlibraries.com
SUMMARY:Romp and Rhyme Story Time
DESCRIPTION:Waterville Public Library holds Romp and Rhyme story times at 11 am on select dates. From puppets to pumping music\, from bubble machines to banging bands\, these are not your average story time. The Library uses movement\, STEAM activities\, curiosity\, imaginative play\, and active learning to keep kids engaged. Free and open to the public.
URL:https://wasecalesueurlibraries.com/event/romp-and-rhyme-story-time-136/
LOCATION:Waterville Public Library\, 210 Paquin St\, Waterville\, MN\, 56096\, United States
CATEGORIES:Children's Events,Story Times
GEO:44.2177999;-93.5709706
X-APPLE-STRUCTURED-LOCATION;VALUE=URI;X-ADDRESS=Waterville Public Library 210 Paquin St Waterville MN 56096 United States;X-APPLE-RADIUS=500;X-TITLE=210 Paquin St:geo:-93.5709706,44.2177999
END:VEVENT
BEGIN:VEVENT
DTSTART;TZID=America/Chicago:20260309T130000
DTEND;TZID=America/Chicago:20260309T160000
DTSTAMP:20260419T094256
CREATED:20260222T154157Z
LAST-MODIFIED:20260222T154157Z
UID:10012950-1773061200-1773072000@wasecalesueurlibraries.com
SUMMARY:Birds\, Bears\, and Bunnies\, Oh My!
DESCRIPTION:Ney Nature Center will share animal artifacts and talk about some of the most iconic Minnesota animals. Afterwards\, join us for a variety of animal themed crafts to relax. Make bird ornaments out of wood slices\, weave bear keychains\, and make cute bunny portraits! Oh MY! Ages 7-12. \nSchedule:\n1 pm Ney Nature Center\n2-4 pm Crafts
URL:https://wasecalesueurlibraries.com/event/birds-bears-and-bunnies-oh-my/
LOCATION:Waseca Public Library\, 408 N State St\, Waseca\, MN\, 56093\, United States
CATEGORIES:Children's Events
GEO:44.0809183;-93.5069008
X-APPLE-STRUCTURED-LOCATION;VALUE=URI;X-ADDRESS=Waseca Public Library 408 N State St Waseca MN 56093 United States;X-APPLE-RADIUS=500;X-TITLE=408 N State St:geo:-93.5069008,44.0809183
END:VEVENT
BEGIN:VEVENT
DTSTART;TZID=America/Chicago:20260309T140000
DTEND;TZID=America/Chicago:20260309T180000
DTSTAMP:20260419T094256
CREATED:20260222T032758Z
LAST-MODIFIED:20260222T032758Z
UID:10012941-1773064800-1773079200@wasecalesueurlibraries.com
SUMMARY:Stitch and Visit
DESCRIPTION:Help is available for you to learn to sew on a button or use a sewing machine to stitch up a seam. Dianne\nGahler and Kathy Mentjes will be on hand to problem solve. All ages.
URL:https://wasecalesueurlibraries.com/event/stitch-and-visit-4/
LOCATION:Le Center Public Library\, 10 W Tyrone St\, Le Center\, MN\, 56057\, United States
CATEGORIES:Adult Events
GEO:44.3907505;-93.7316339
X-APPLE-STRUCTURED-LOCATION;VALUE=URI;X-ADDRESS=Le Center Public Library 10 W Tyrone St Le Center MN 56057 United States;X-APPLE-RADIUS=500;X-TITLE=10 W Tyrone St:geo:-93.7316339,44.3907505
END:VEVENT
BEGIN:VEVENT
DTSTART;TZID=America/Chicago:20260309T153000
DTEND;TZID=America/Chicago:20260309T163000
DTSTAMP:20260419T094256
CREATED:20260225T192136Z
LAST-MODIFIED:20260225T192136Z
UID:10012991-1773070200-1773073800@wasecalesueurlibraries.com
SUMMARY:Trinket Dishes
DESCRIPTION:Transform a simple dish into a sweet trinket holder by adding pretty paper to the surface. This simple crafting technique turns basic into beautiful. Ages 13-18.
URL:https://wasecalesueurlibraries.com/event/trinket-dishes-5/
LOCATION:Le Center Public Library\, 10 W Tyrone St\, Le Center\, MN\, 56057\, United States
CATEGORIES:Teen Events
GEO:44.3907505;-93.7316339
X-APPLE-STRUCTURED-LOCATION;VALUE=URI;X-ADDRESS=Le Center Public Library 10 W Tyrone St Le Center MN 56057 United States;X-APPLE-RADIUS=500;X-TITLE=10 W Tyrone St:geo:-93.7316339,44.3907505
END:VEVENT
BEGIN:VEVENT
DTSTART;TZID=America/Chicago:20260309T160000
DTEND;TZID=America/Chicago:20260309T170000
DTSTAMP:20260419T094256
CREATED:20260222T154951Z
LAST-MODIFIED:20260225T184046Z
UID:10012955-1773072000-1773075600@wasecalesueurlibraries.com
SUMMARY:Hazardous Histories: Adventures with Nathan Hale
DESCRIPTION:Explore the wild and weird sides of American history through storytelling\, games\, crafts\, and creative challenges. Ages 8-12.
URL:https://wasecalesueurlibraries.com/event/hazardous-histories-adventures-with-nathan-hale-2/
LOCATION:Montgomery Public Library\, 104 Oak Ave SE\, Montgomery\, MN\, 56069\, United States
CATEGORIES:Children's Events
GEO:44.4355889;-93.5810028
X-APPLE-STRUCTURED-LOCATION;VALUE=URI;X-ADDRESS=Montgomery Public Library 104 Oak Ave SE Montgomery MN 56069 United States;X-APPLE-RADIUS=500;X-TITLE=104 Oak Ave SE:geo:-93.5810028,44.4355889
END:VEVENT
BEGIN:VEVENT
DTSTART;TZID=America/Chicago:20260309T160000
DTEND;TZID=America/Chicago:20260309T170000
DTSTAMP:20260419T094256
CREATED:20260225T182015Z
LAST-MODIFIED:20260225T182015Z
UID:10012965-1773072000-1773075600@wasecalesueurlibraries.com
SUMMARY:Pokémon Terrariums
DESCRIPTION:Create your own little Pokémon world with these Pokéball-inspired terrariums.
URL:https://wasecalesueurlibraries.com/event/pokemon-terrariums-4/
LOCATION:Janesville Public Library\, 100 W 2nd St\, Janesville\, MN\, 56048\, United States
CATEGORIES:Children's Events
GEO:44.1173302;-93.7075406
X-APPLE-STRUCTURED-LOCATION;VALUE=URI;X-ADDRESS=Janesville Public Library 100 W 2nd St Janesville MN 56048 United States;X-APPLE-RADIUS=500;X-TITLE=100 W 2nd St:geo:-93.7075406,44.1173302
END:VEVENT
END:VCALENDAR