BEGIN:VCALENDAR
VERSION:2.0
PRODID:-//Waseca-Le Sueur Library - ECPv6.15.20//NONSGML v1.0//EN
CALSCALE:GREGORIAN
METHOD:PUBLISH
X-WR-CALNAME:Waseca-Le Sueur Library
X-ORIGINAL-URL:https://wasecalesueurlibraries.com
X-WR-CALDESC:Events for Waseca-Le Sueur Library
REFRESH-INTERVAL;VALUE=DURATION:PT1H
X-Robots-Tag:noindex
X-PUBLISHED-TTL:PT1H
BEGIN:VTIMEZONE
TZID:America/Chicago
BEGIN:DAYLIGHT
TZOFFSETFROM:-0600
TZOFFSETTO:-0500
TZNAME:CDT
DTSTART:20240310T080000
END:DAYLIGHT
BEGIN:STANDARD
TZOFFSETFROM:-0500
TZOFFSETTO:-0600
TZNAME:CST
DTSTART:20241103T070000
END:STANDARD
BEGIN:DAYLIGHT
TZOFFSETFROM:-0600
TZOFFSETTO:-0500
TZNAME:CDT
DTSTART:20250309T080000
END:DAYLIGHT
BEGIN:STANDARD
TZOFFSETFROM:-0500
TZOFFSETTO:-0600
TZNAME:CST
DTSTART:20251102T070000
END:STANDARD
BEGIN:DAYLIGHT
TZOFFSETFROM:-0600
TZOFFSETTO:-0500
TZNAME:CDT
DTSTART:20260308T080000
END:DAYLIGHT
BEGIN:STANDARD
TZOFFSETFROM:-0500
TZOFFSETTO:-0600
TZNAME:CST
DTSTART:20261101T070000
END:STANDARD
END:VTIMEZONE
BEGIN:VEVENT
DTSTART;TZID=America/Chicago:20251018T090000
DTEND;TZID=America/Chicago:20251018T100000
DTSTAMP:20260423T185835
CREATED:20250926T133045Z
LAST-MODIFIED:20250926T133045Z
UID:10012321-1760778000-1760781600@wasecalesueurlibraries.com
SUMMARY:Genealogy Club
DESCRIPTION:Learn new family history search skills. Get advice on resources\, common challenges and problem-solving techniques\, and family history presentation ideas. Newcomers are welcome!
URL:https://wasecalesueurlibraries.com/event/genealogy-club-26/
LOCATION:Waterville Public Library\, 210 Paquin St\, Waterville\, MN\, 56096\, United States
CATEGORIES:Adult Events
GEO:44.2177999;-93.5709706
X-APPLE-STRUCTURED-LOCATION;VALUE=URI;X-ADDRESS=Waterville Public Library 210 Paquin St Waterville MN 56096 United States;X-APPLE-RADIUS=500;X-TITLE=210 Paquin St:geo:-93.5709706,44.2177999
END:VEVENT
BEGIN:VEVENT
DTSTART;TZID=America/Chicago:20251018T100000
DTEND;TZID=America/Chicago:20251018T130000
DTSTAMP:20260423T185835
CREATED:20250925T202752Z
LAST-MODIFIED:20250925T202752Z
UID:10012279-1760781600-1760792400@wasecalesueurlibraries.com
SUMMARY:Embossed Cards Workshop
DESCRIPTION:A simple watercolor wash makes the perfect background for a dreamy embossed card. For teens and adults.
URL:https://wasecalesueurlibraries.com/event/embossed-cards-workshop-2/
LOCATION:Montgomery Public Library\, 104 Oak Ave SE\, Montgomery\, MN\, 56069\, United States
CATEGORIES:Adult Events,Teen Events
GEO:44.4355889;-93.5810028
X-APPLE-STRUCTURED-LOCATION;VALUE=URI;X-ADDRESS=Montgomery Public Library 104 Oak Ave SE Montgomery MN 56069 United States;X-APPLE-RADIUS=500;X-TITLE=104 Oak Ave SE:geo:-93.5810028,44.4355889
END:VEVENT
BEGIN:VEVENT
DTSTART;TZID=America/Chicago:20251018T160000
DTEND;TZID=America/Chicago:20251018T170000
DTSTAMP:20260423T185835
CREATED:20250926T132554Z
LAST-MODIFIED:20250926T132554Z
UID:10012316-1760803200-1760806800@wasecalesueurlibraries.com
SUMMARY:Books & Brews
DESCRIPTION:It’s the perfect combo of bookworm babble and beer. Pick up a copy of the book at the library\, then meet us out to discuss the book. \nThis month’s pick: We Used to Live Here by Marcus Kliewer \nFood and drinks not provided but can be purchased.
URL:https://wasecalesueurlibraries.com/event/books-brews/
LOCATION:Half-Pint Brewery\, 40099 150th St\, Waseca\, MN\, 56093\, United States
CATEGORIES:Adult Events,Book Clubs
GEO:44.1393696;-93.4682239
X-APPLE-STRUCTURED-LOCATION;VALUE=URI;X-ADDRESS=Half-Pint Brewery 40099 150th St Waseca MN 56093 United States;X-APPLE-RADIUS=500;X-TITLE=40099 150th St:geo:-93.4682239,44.1393696
END:VEVENT
END:VCALENDAR