BEGIN:VCALENDAR
VERSION:2.0
PRODID:-//Waseca-Le Sueur Library - ECPv6.15.20//NONSGML v1.0//EN
CALSCALE:GREGORIAN
METHOD:PUBLISH
X-WR-CALNAME:Waseca-Le Sueur Library
X-ORIGINAL-URL:https://wasecalesueurlibraries.com
X-WR-CALDESC:Events for Waseca-Le Sueur Library
REFRESH-INTERVAL;VALUE=DURATION:PT1H
X-Robots-Tag:noindex
X-PUBLISHED-TTL:PT1H
BEGIN:VTIMEZONE
TZID:America/Chicago
BEGIN:DAYLIGHT
TZOFFSETFROM:-0600
TZOFFSETTO:-0500
TZNAME:CDT
DTSTART:20240310T080000
END:DAYLIGHT
BEGIN:STANDARD
TZOFFSETFROM:-0500
TZOFFSETTO:-0600
TZNAME:CST
DTSTART:20241103T070000
END:STANDARD
BEGIN:DAYLIGHT
TZOFFSETFROM:-0600
TZOFFSETTO:-0500
TZNAME:CDT
DTSTART:20250309T080000
END:DAYLIGHT
BEGIN:STANDARD
TZOFFSETFROM:-0500
TZOFFSETTO:-0600
TZNAME:CST
DTSTART:20251102T070000
END:STANDARD
BEGIN:DAYLIGHT
TZOFFSETFROM:-0600
TZOFFSETTO:-0500
TZNAME:CDT
DTSTART:20260308T080000
END:DAYLIGHT
BEGIN:STANDARD
TZOFFSETFROM:-0500
TZOFFSETTO:-0600
TZNAME:CST
DTSTART:20261101T070000
END:STANDARD
END:VTIMEZONE
BEGIN:VEVENT
DTSTART;TZID=America/Chicago:20251016T093000
DTEND;TZID=America/Chicago:20251016T103000
DTSTAMP:20260423T042120
CREATED:20250831T005230Z
LAST-MODIFIED:20250926T135428Z
UID:10012011-1760607000-1760610600@wasecalesueurlibraries.com
SUMMARY:Romp and Rhyme Story Time
DESCRIPTION:Janesville Public Library holds Romp and Rhyme story times on Thursdays at 9:30 am. From puppets to pumping music\, from bubble machines to banging bands\, these are not your average story time. The Library uses movement\, STEAM activities\, curiosity\, imaginative play\, and active learning to keep kids engaged. Free and open to the public.
URL:https://wasecalesueurlibraries.com/event/romp-and-rhyme-story-time-121/2025-10-16/
LOCATION:Janesville Public Library\, 100 W 2nd St\, Janesville\, MN\, 56048\, United States
CATEGORIES:Children's Events,Story Times
GEO:44.1173302;-93.7075406
X-APPLE-STRUCTURED-LOCATION;VALUE=URI;X-ADDRESS=Janesville Public Library 100 W 2nd St Janesville MN 56048 United States;X-APPLE-RADIUS=500;X-TITLE=100 W 2nd St:geo:-93.7075406,44.1173302
END:VEVENT
BEGIN:VEVENT
DTSTART;TZID=America/Chicago:20251016T100000
DTEND;TZID=America/Chicago:20251016T110000
DTSTAMP:20260423T042120
CREATED:20250831T005442Z
LAST-MODIFIED:20251204T170842Z
UID:10012072-1760608800-1760612400@wasecalesueurlibraries.com
SUMMARY:Romp and Rhyme Story Time
DESCRIPTION:Montgomery Public Library holds Romp and Rhyme story times. From puppets to pumping music\, from bubble machines to banging bands\, these are not your average story time. The Library uses movement\, STEAM activities\, curiosity\, imaginative play\, and active learning to keep kids engaged. Free and open to the public.
URL:https://wasecalesueurlibraries.com/event/romp-and-rhyme-story-time-122/2025-10-16/
LOCATION:Montgomery Public Library\, 104 Oak Ave SE\, Montgomery\, MN\, 56069\, United States
CATEGORIES:Children's Events,Story Times
GEO:44.4355889;-93.5810028
X-APPLE-STRUCTURED-LOCATION;VALUE=URI;X-ADDRESS=Montgomery Public Library 104 Oak Ave SE Montgomery MN 56069 United States;X-APPLE-RADIUS=500;X-TITLE=104 Oak Ave SE:geo:-93.5810028,44.4355889
END:VEVENT
BEGIN:VEVENT
DTSTART;TZID=America/Chicago:20251016T100000
DTEND;TZID=America/Chicago:20251016T110000
DTSTAMP:20260423T042120
CREATED:20250925T204345Z
LAST-MODIFIED:20250925T204345Z
UID:10012291-1760608800-1760612400@wasecalesueurlibraries.com
SUMMARY:Little Explorers
DESCRIPTION:Enjoy a playdate with interactive sensory activities for kids 2-5\, including mold and dig\, scoop and pour\, snap and pop\, count and sort\, & color and texture.
URL:https://wasecalesueurlibraries.com/event/little-explorers-23/
LOCATION:Waseca Public Library\, 408 N State St\, Waseca\, MN\, 56093\, United States
CATEGORIES:Children's Events
GEO:44.0809183;-93.5069008
X-APPLE-STRUCTURED-LOCATION;VALUE=URI;X-ADDRESS=Waseca Public Library 408 N State St Waseca MN 56093 United States;X-APPLE-RADIUS=500;X-TITLE=408 N State St:geo:-93.5069008,44.0809183
END:VEVENT
BEGIN:VEVENT
DTSTART;TZID=America/Chicago:20251016T130000
DTEND;TZID=America/Chicago:20251016T140000
DTSTAMP:20260423T042120
CREATED:20250925T202109Z
LAST-MODIFIED:20250925T202109Z
UID:10012275-1760619600-1760623200@wasecalesueurlibraries.com
SUMMARY:DIY Book Vase Workshops
DESCRIPTION:Transform recycled books into stunning book vases. Ages 18+. \nRegister now.
URL:https://wasecalesueurlibraries.com/event/diy-book-vase-workshops/
LOCATION:Le Sueur Public Library\, 118 Ferry St\, Le Sueur\, MN\, 56058\, United States
CATEGORIES:Adult Events
GEO:44.4601702;-93.9161364
X-APPLE-STRUCTURED-LOCATION;VALUE=URI;X-ADDRESS=Le Sueur Public Library 118 Ferry St Le Sueur MN 56058 United States;X-APPLE-RADIUS=500;X-TITLE=118 Ferry St:geo:-93.9161364,44.4601702
END:VEVENT
BEGIN:VEVENT
DTSTART;TZID=America/Chicago:20251016T140000
DTEND;TZID=America/Chicago:20251016T150000
DTSTAMP:20260423T042120
CREATED:20250926T134103Z
LAST-MODIFIED:20250926T134103Z
UID:10012331-1760623200-1760626800@wasecalesueurlibraries.com
SUMMARY:Craft Your Own Spellbook
DESCRIPTION:Bring a unique spellbook to life\, incorporating spooky designs with enchanting craft materials. Ages 13-18. \n 
URL:https://wasecalesueurlibraries.com/event/craft-your-own-spellbook-3/
LOCATION:New Richland Public Library\, 129 Broadway Ave S\, New Richland\, MN\, 56072\, United States
CATEGORIES:Teen Events
GEO:43.8935599;-93.4938211
X-APPLE-STRUCTURED-LOCATION;VALUE=URI;X-ADDRESS=New Richland Public Library 129 Broadway Ave S New Richland MN 56072 United States;X-APPLE-RADIUS=500;X-TITLE=129 Broadway Ave S:geo:-93.4938211,43.8935599
END:VEVENT
BEGIN:VEVENT
DTSTART;TZID=America/Chicago:20251016T140000
DTEND;TZID=America/Chicago:20251016T150000
DTSTAMP:20260423T042120
CREATED:20250926T134229Z
LAST-MODIFIED:20250926T134229Z
UID:10012333-1760623200-1760626800@wasecalesueurlibraries.com
SUMMARY:Self Care
DESCRIPTION:Treat yourself and take care of you. Turn a delicious dessert into Jello lip gloss. Then\, chill out with reuseable ice cubes that remind you of ways to manage stressors. Ages 13-18.
URL:https://wasecalesueurlibraries.com/event/self-care/
LOCATION:Janesville Public Library\, 100 W 2nd St\, Janesville\, MN\, 56048\, United States
CATEGORIES:Teen Events
GEO:44.1173302;-93.7075406
X-APPLE-STRUCTURED-LOCATION;VALUE=URI;X-ADDRESS=Janesville Public Library 100 W 2nd St Janesville MN 56048 United States;X-APPLE-RADIUS=500;X-TITLE=100 W 2nd St:geo:-93.7075406,44.1173302
END:VEVENT
BEGIN:VEVENT
DTSTART;TZID=America/Chicago:20251016T140000
DTEND;TZID=America/Chicago:20251016T150000
DTSTAMP:20260423T042120
CREATED:20250926T134503Z
LAST-MODIFIED:20250926T134503Z
UID:10012338-1760623200-1760626800@wasecalesueurlibraries.com
SUMMARY:True Crime Club
DESCRIPTION:The South Ridge Stalker is half urban legend\, half campfire story. Will new clues lead to a dead end\, or will you reveal The Stalker’s existence and solve the murder? Ages 13-18.
URL:https://wasecalesueurlibraries.com/event/true-crime-club-8/
LOCATION:Le Center Public Library\, 10 W Tyrone St\, Le Center\, MN\, 56057\, United States
CATEGORIES:Teen Events
GEO:44.3907505;-93.7316339
X-APPLE-STRUCTURED-LOCATION;VALUE=URI;X-ADDRESS=Le Center Public Library 10 W Tyrone St Le Center MN 56057 United States;X-APPLE-RADIUS=500;X-TITLE=10 W Tyrone St:geo:-93.7316339,44.3907505
END:VEVENT
BEGIN:VEVENT
DTSTART;TZID=America/Chicago:20251016T180000
DTEND;TZID=America/Chicago:20251016T190000
DTSTAMP:20260423T042120
CREATED:20250925T202126Z
LAST-MODIFIED:20250925T202126Z
UID:10012276-1760637600-1760641200@wasecalesueurlibraries.com
SUMMARY:DIY Book Vase Workshops
DESCRIPTION:Transform recycled books into stunning book vases. Ages 18+. \nRegister now.
URL:https://wasecalesueurlibraries.com/event/diy-book-vase-workshops-2/
LOCATION:Le Sueur Public Library\, 118 Ferry St\, Le Sueur\, MN\, 56058\, United States
CATEGORIES:Adult Events
GEO:44.4601702;-93.9161364
X-APPLE-STRUCTURED-LOCATION;VALUE=URI;X-ADDRESS=Le Sueur Public Library 118 Ferry St Le Sueur MN 56058 United States;X-APPLE-RADIUS=500;X-TITLE=118 Ferry St:geo:-93.9161364,44.4601702
END:VEVENT
BEGIN:VEVENT
DTSTART;TZID=America/Chicago:20251016T180000
DTEND;TZID=America/Chicago:20251016T190000
DTSTAMP:20260423T042120
CREATED:20250926T132400Z
LAST-MODIFIED:20250926T132400Z
UID:10012315-1760637600-1760641200@wasecalesueurlibraries.com
SUMMARY:Mother-Daughter Book Club
DESCRIPTION:Geared for girls in grades 3-6 and a significant adult female\, this book club features the latest children’s books and fun activities. October’s book club selection is Cinderella and the Beast by Kim Bussing. \nASL interpreter funded by Friends of the Library.
URL:https://wasecalesueurlibraries.com/event/mother-daughter-book-club-33/
LOCATION:Waseca Public Library\, 408 N State St\, Waseca\, MN\, 56093\, United States
CATEGORIES:Book Clubs,Children's Events
GEO:44.0809183;-93.5069008
X-APPLE-STRUCTURED-LOCATION;VALUE=URI;X-ADDRESS=Waseca Public Library 408 N State St Waseca MN 56093 United States;X-APPLE-RADIUS=500;X-TITLE=408 N State St:geo:-93.5069008,44.0809183
END:VEVENT
END:VCALENDAR