BEGIN:VCALENDAR
VERSION:2.0
PRODID:-//Waseca-Le Sueur Library - ECPv6.15.20//NONSGML v1.0//EN
CALSCALE:GREGORIAN
METHOD:PUBLISH
X-ORIGINAL-URL:https://wasecalesueurlibraries.com
X-WR-CALDESC:Events for Waseca-Le Sueur Library
REFRESH-INTERVAL;VALUE=DURATION:PT1H
X-Robots-Tag:noindex
X-PUBLISHED-TTL:PT1H
BEGIN:VTIMEZONE
TZID:America/Chicago
BEGIN:DAYLIGHT
TZOFFSETFROM:-0600
TZOFFSETTO:-0500
TZNAME:CDT
DTSTART:20240310T080000
END:DAYLIGHT
BEGIN:STANDARD
TZOFFSETFROM:-0500
TZOFFSETTO:-0600
TZNAME:CST
DTSTART:20241103T070000
END:STANDARD
BEGIN:DAYLIGHT
TZOFFSETFROM:-0600
TZOFFSETTO:-0500
TZNAME:CDT
DTSTART:20250309T080000
END:DAYLIGHT
BEGIN:STANDARD
TZOFFSETFROM:-0500
TZOFFSETTO:-0600
TZNAME:CST
DTSTART:20251102T070000
END:STANDARD
BEGIN:DAYLIGHT
TZOFFSETFROM:-0600
TZOFFSETTO:-0500
TZNAME:CDT
DTSTART:20260308T080000
END:DAYLIGHT
BEGIN:STANDARD
TZOFFSETFROM:-0500
TZOFFSETTO:-0600
TZNAME:CST
DTSTART:20261101T070000
END:STANDARD
END:VTIMEZONE
BEGIN:VEVENT
DTSTART;TZID=America/Chicago:20251007T100000
DTEND;TZID=America/Chicago:20251007T110000
DTSTAMP:20260423T174201
CREATED:20250831T004750Z
LAST-MODIFIED:20251204T170634Z
UID:10011889-1759831200-1759834800@wasecalesueurlibraries.com
SUMMARY:Romp and Rhyme Story Time
DESCRIPTION:Le Sueur Public Library holds Romp and Rhyme story times. From puppets to pumping music\, from bubble machines to banging bands\, these are not your average story time. The Library uses movement\, STEAM activities\, curiosity\, imaginative play\, and active learning to keep kids engaged. Free and open to the public.
URL:https://wasecalesueurlibraries.com/event/romp-and-rhyme-story-time-114/2025-10-07/
LOCATION:Le Sueur Public Library\, 118 Ferry St\, Le Sueur\, MN\, 56058\, United States
CATEGORIES:Children's Events,Story Times
GEO:44.4601702;-93.9161364
X-APPLE-STRUCTURED-LOCATION;VALUE=URI;X-ADDRESS=Le Sueur Public Library 118 Ferry St Le Sueur MN 56058 United States;X-APPLE-RADIUS=500;X-TITLE=118 Ferry St:geo:-93.9161364,44.4601702
END:VEVENT
BEGIN:VEVENT
DTSTART;TZID=America/Chicago:20251007T103000
DTEND;TZID=America/Chicago:20251007T110000
DTSTAMP:20260423T174201
CREATED:20250831T004956Z
LAST-MODIFIED:20251204T170714Z
UID:10012352-1759833000-1759834800@wasecalesueurlibraries.com
SUMMARY:Romp and Rhyme Baby Lapsit Story Time
DESCRIPTION:Waseca Public Library holds Romp and Rhyme Baby Lapsit story times. From puppets to pumping music\, from bubble machines to banging bands\, these are not your average story time. The Library uses movement\, STEAM activities\, curiosity\, imaginative play\, and active learning to keep kids engaged. Free and open to the public.
URL:https://wasecalesueurlibraries.com/event/romp-and-rhyme-story-time-120/2025-10-07/
LOCATION:Waseca Public Library\, 408 N State St\, Waseca\, MN\, 56093\, United States
CATEGORIES:Children's Events,Story Times
GEO:44.0809183;-93.5069008
X-APPLE-STRUCTURED-LOCATION;VALUE=URI;X-ADDRESS=Waseca Public Library 408 N State St Waseca MN 56093 United States;X-APPLE-RADIUS=500;X-TITLE=408 N State St:geo:-93.5069008,44.0809183
END:VEVENT
BEGIN:VEVENT
DTSTART;TZID=America/Chicago:20251007T180000
DTEND;TZID=America/Chicago:20251007T190000
DTSTAMP:20260423T174201
CREATED:20250925T194843Z
LAST-MODIFIED:20250925T194843Z
UID:10012261-1759860000-1759863600@wasecalesueurlibraries.com
SUMMARY:Loretta Ellsworth Author Event
DESCRIPTION:Join us for a conversation with the author of the historical fiction novels The French Winemaker’s Daughter and Stars over Clear Lake. \nThese events are made possible in part with a grant from the Arts & Cultural Heritage Fund of the Minnesota Clean Water\, Land\, and Legacy Amendment through the Traverse des Sioux Library\nSystem.
URL:https://wasecalesueurlibraries.com/event/loretta-ellsworth-author-event/
LOCATION:Montgomery Public Library\, 104 Oak Ave SE\, Montgomery\, MN\, 56069\, United States
CATEGORIES:Adult Events,Author Event
GEO:44.4355889;-93.5810028
X-APPLE-STRUCTURED-LOCATION;VALUE=URI;X-ADDRESS=Montgomery Public Library 104 Oak Ave SE Montgomery MN 56069 United States;X-APPLE-RADIUS=500;X-TITLE=104 Oak Ave SE:geo:-93.5810028,44.4355889
END:VEVENT
BEGIN:VEVENT
DTSTART;TZID=America/Chicago:20251007T180000
DTEND;TZID=America/Chicago:20251007T190000
DTSTAMP:20260423T174201
CREATED:20250925T201446Z
LAST-MODIFIED:20250925T201446Z
UID:10012273-1759860000-1759863600@wasecalesueurlibraries.com
SUMMARY:Are You There\, Doctor? It’s Me\, Menopause.
DESCRIPTION:Dr. Jean Marie McGowan will discuss the signs and symptoms of perimenopause and menopause. She will lead a candid Q&A discussion answering your questions\, from hormone therapy to mental health and weight gain. \nDr. McGowan serves as a Senior Associate Consultant at the Mayo Clinic.
URL:https://wasecalesueurlibraries.com/event/are-you-there-doctor-its-me-menopause/
LOCATION:Waseca Public Library\, 408 N State St\, Waseca\, MN\, 56093\, United States
CATEGORIES:Adult Events
GEO:44.0809183;-93.5069008
X-APPLE-STRUCTURED-LOCATION;VALUE=URI;X-ADDRESS=Waseca Public Library 408 N State St Waseca MN 56093 United States;X-APPLE-RADIUS=500;X-TITLE=408 N State St:geo:-93.5069008,44.0809183
END:VEVENT
BEGIN:VEVENT
DTSTART;TZID=America/Chicago:20251007T180000
DTEND;TZID=America/Chicago:20251007T190000
DTSTAMP:20260423T174201
CREATED:20250926T132812Z
LAST-MODIFIED:20250926T132812Z
UID:10012318-1759860000-1759863600@wasecalesueurlibraries.com
SUMMARY:The Plot Thickens
DESCRIPTION:This month read a book from your TBR (To Be Read) list and join us for a book club discussion. There will be treats! Ages 18+ \nSponsored by Friends of the Le Sueur Public Library
URL:https://wasecalesueurlibraries.com/event/the-plot-thickens-10/
LOCATION:Le Sueur Public Library\, 118 Ferry St\, Le Sueur\, MN\, 56058\, United States
CATEGORIES:Adult Events,Book Clubs
GEO:44.4601702;-93.9161364
X-APPLE-STRUCTURED-LOCATION;VALUE=URI;X-ADDRESS=Le Sueur Public Library 118 Ferry St Le Sueur MN 56058 United States;X-APPLE-RADIUS=500;X-TITLE=118 Ferry St:geo:-93.9161364,44.4601702
END:VEVENT
BEGIN:VEVENT
DTSTART;TZID=America/Chicago:20251007T180000
DTEND;TZID=America/Chicago:20251007T190000
DTSTAMP:20260423T174201
CREATED:20250926T134358Z
LAST-MODIFIED:20250926T134358Z
UID:10012334-1759860000-1759863600@wasecalesueurlibraries.com
SUMMARY:Game Night
DESCRIPTION:Join us for a night of gaming. We’ll have a variety of games to choose from. Ages 13-18.
URL:https://wasecalesueurlibraries.com/event/game-night/2025-10-07/
LOCATION:Montgomery Public Library\, 104 Oak Ave SE\, Montgomery\, MN\, 56069\, United States
CATEGORIES:Teen Events
GEO:44.4355889;-93.5810028
X-APPLE-STRUCTURED-LOCATION;VALUE=URI;X-ADDRESS=Montgomery Public Library 104 Oak Ave SE Montgomery MN 56069 United States;X-APPLE-RADIUS=500;X-TITLE=104 Oak Ave SE:geo:-93.5810028,44.4355889
END:VEVENT
BEGIN:VEVENT
DTSTART;TZID=America/Chicago:20251007T180000
DTEND;TZID=America/Chicago:20251007T190000
DTSTAMP:20260423T174201
CREATED:20250926T134626Z
LAST-MODIFIED:20250926T134626Z
UID:10012339-1759860000-1759863600@wasecalesueurlibraries.com
SUMMARY:Game Night: Learning Euchre
DESCRIPTION:Join us for an evening of cards\, whether you are an old hat at Euchre or want to learn. The game of Euchre has been played in the U.S. as early as 1810. Players will learn the game rules and scoring.
URL:https://wasecalesueurlibraries.com/event/game-night-learning-euchre/
LOCATION:Waterville Public Library\, 210 Paquin St\, Waterville\, MN\, 56096\, United States
CATEGORIES:Adult Events
GEO:44.2177999;-93.5709706
X-APPLE-STRUCTURED-LOCATION;VALUE=URI;X-ADDRESS=Waterville Public Library 210 Paquin St Waterville MN 56096 United States;X-APPLE-RADIUS=500;X-TITLE=210 Paquin St:geo:-93.5709706,44.2177999
END:VEVENT
END:VCALENDAR