BEGIN:VCALENDAR
VERSION:2.0
PRODID:-//Waseca-Le Sueur Library - ECPv6.15.20//NONSGML v1.0//EN
CALSCALE:GREGORIAN
METHOD:PUBLISH
X-ORIGINAL-URL:https://wasecalesueurlibraries.com
X-WR-CALDESC:Events for Waseca-Le Sueur Library
REFRESH-INTERVAL;VALUE=DURATION:PT1H
X-Robots-Tag:noindex
X-PUBLISHED-TTL:PT1H
BEGIN:VTIMEZONE
TZID:America/Chicago
BEGIN:DAYLIGHT
TZOFFSETFROM:-0600
TZOFFSETTO:-0500
TZNAME:CDT
DTSTART:20240310T080000
END:DAYLIGHT
BEGIN:STANDARD
TZOFFSETFROM:-0500
TZOFFSETTO:-0600
TZNAME:CST
DTSTART:20241103T070000
END:STANDARD
BEGIN:DAYLIGHT
TZOFFSETFROM:-0600
TZOFFSETTO:-0500
TZNAME:CDT
DTSTART:20250309T080000
END:DAYLIGHT
BEGIN:STANDARD
TZOFFSETFROM:-0500
TZOFFSETTO:-0600
TZNAME:CST
DTSTART:20251102T070000
END:STANDARD
BEGIN:DAYLIGHT
TZOFFSETFROM:-0600
TZOFFSETTO:-0500
TZNAME:CDT
DTSTART:20260308T080000
END:DAYLIGHT
BEGIN:STANDARD
TZOFFSETFROM:-0500
TZOFFSETTO:-0600
TZNAME:CST
DTSTART:20261101T070000
END:STANDARD
END:VTIMEZONE
BEGIN:VEVENT
DTSTART;VALUE=DATE:20250729
DTEND;VALUE=DATE:20250802
DTSTAMP:20260422T135632
CREATED:20250626T195704Z
LAST-MODIFIED:20250626T195704Z
UID:10011762-1753747200-1754092799@wasecalesueurlibraries.com
SUMMARY:Quetzal Birds Craft
DESCRIPTION:Use colored pages and markers to craft the beautiful central American bird. Ages 5+. \nJuly 29th-August 1st                   open hours \n 
URL:https://wasecalesueurlibraries.com/event/quetzal-birds-craft/
LOCATION:Waldorf Public Library\, 119 S Main St\, Waldorf\, MN\, 56091\, United States
CATEGORIES:Children's Events
GEO:43.9365286;-93.697592
X-APPLE-STRUCTURED-LOCATION;VALUE=URI;X-ADDRESS=Waldorf Public Library 119 S Main St Waldorf MN 56091 United States;X-APPLE-RADIUS=500;X-TITLE=119 S Main St:geo:-93.697592,43.9365286
END:VEVENT
BEGIN:VEVENT
DTSTART;TZID=America/Chicago:20250729T100000
DTEND;TZID=America/Chicago:20250729T103000
DTSTAMP:20260422T135632
CREATED:20250509T195051Z
LAST-MODIFIED:20250731T162139Z
UID:10011366-1753783200-1753785000@wasecalesueurlibraries.com
SUMMARY:Romp and Rhyme Story Time
DESCRIPTION:Le Center Public Library holds Romp and Rhyme story times on Tuesdays at 10 am. From puppets to pumping music\, from bubble machines to banging bands\, these are not your average story time. The Library uses movement\, STEAM activities\, curiosity\, imaginative play\, and active learning to keep kids engaged. Free and open to the public.
URL:https://wasecalesueurlibraries.com/event/romp-and-rhyme-story-time-113/2025-07-29/
LOCATION:Le Center Public Library\, 10 W Tyrone St\, Le Center\, MN\, 56057\, United States
CATEGORIES:Children's Events,Story Times
GEO:44.3907505;-93.7316339
X-APPLE-STRUCTURED-LOCATION;VALUE=URI;X-ADDRESS=Le Center Public Library 10 W Tyrone St Le Center MN 56057 United States;X-APPLE-RADIUS=500;X-TITLE=10 W Tyrone St:geo:-93.7316339,44.3907505
END:VEVENT
BEGIN:VEVENT
DTSTART;TZID=America/Chicago:20250729T130000
DTEND;TZID=America/Chicago:20250729T140000
DTSTAMP:20260422T135632
CREATED:20250626T200315Z
LAST-MODIFIED:20250626T200315Z
UID:10011770-1753794000-1753797600@wasecalesueurlibraries.com
SUMMARY:Poetry Rx
DESCRIPTION:Sometimes words of encouragement are all you really need to get through your heartbreak\, to boost your confidence\, or to get you in the mindset for plotting revenge. Fill your pill bottles with lyrics/poetry/quotes and more. Ages 13-18.
URL:https://wasecalesueurlibraries.com/event/poetry-rx-4/
LOCATION:Le Sueur Public Library\, 118 Ferry St\, Le Sueur\, MN\, 56058\, United States
CATEGORIES:Teen Events
GEO:44.4601702;-93.9161364
X-APPLE-STRUCTURED-LOCATION;VALUE=URI;X-ADDRESS=Le Sueur Public Library 118 Ferry St Le Sueur MN 56058 United States;X-APPLE-RADIUS=500;X-TITLE=118 Ferry St:geo:-93.9161364,44.4601702
END:VEVENT
BEGIN:VEVENT
DTSTART;TZID=America/Chicago:20250729T130000
DTEND;TZID=America/Chicago:20250729T140000
DTSTAMP:20260422T135632
CREATED:20250626T200416Z
LAST-MODIFIED:20250626T200416Z
UID:10011771-1753794000-1753797600@wasecalesueurlibraries.com
SUMMARY:Mario Kart Tourney
DESCRIPTION:Start your engines. Avoid the shells. Fly by competitors. Conquer Rainbow Road. Ages 13-18. \n 
URL:https://wasecalesueurlibraries.com/event/mario-kart-tourney/
LOCATION:Waseca Public Library\, 408 N State St\, Waseca\, MN\, 56093\, United States
CATEGORIES:Teen Events
GEO:44.0809183;-93.5069008
X-APPLE-STRUCTURED-LOCATION;VALUE=URI;X-ADDRESS=Waseca Public Library 408 N State St Waseca MN 56093 United States;X-APPLE-RADIUS=500;X-TITLE=408 N State St:geo:-93.5069008,44.0809183
END:VEVENT
BEGIN:VEVENT
DTSTART;TZID=America/Chicago:20250729T143000
DTEND;TZID=America/Chicago:20250729T153000
DTSTAMP:20260422T135632
CREATED:20250626T201247Z
LAST-MODIFIED:20250626T201247Z
UID:10011780-1753799400-1753803000@wasecalesueurlibraries.com
SUMMARY:Teen Solar Printing
DESCRIPTION:Harness the power of the sun to create beautiful prints with cyanotype paper\, stencils\, and objects such as leaves and flowers. Ages 13-18.
URL:https://wasecalesueurlibraries.com/event/teen-solar-printing-2/
LOCATION:Janesville Public Library\, 100 W 2nd St\, Janesville\, MN\, 56048\, United States
CATEGORIES:Teen Events
GEO:44.1173302;-93.7075406
X-APPLE-STRUCTURED-LOCATION;VALUE=URI;X-ADDRESS=Janesville Public Library 100 W 2nd St Janesville MN 56048 United States;X-APPLE-RADIUS=500;X-TITLE=100 W 2nd St:geo:-93.7075406,44.1173302
END:VEVENT
BEGIN:VEVENT
DTSTART;TZID=America/Chicago:20250729T170000
DTEND;TZID=America/Chicago:20250729T180000
DTSTAMP:20260422T135632
CREATED:20250626T184231Z
LAST-MODIFIED:20250626T184231Z
UID:10011708-1753808400-1753812000@wasecalesueurlibraries.com
SUMMARY:Stenciled Book Edges
DESCRIPTION:Jump into the world of book artistry by stenciling the edges of a popular book for your home library. Books and supplies provided. Geared for adults. \nThis event is made possible in part with a grant from the Arts & Cultural Heritage Fund of the Minnesota Clean Water\, Land\, and Legacy Amendment through the Traverse des Sioux Library System.
URL:https://wasecalesueurlibraries.com/event/stenciled-book-edges-8/
LOCATION:Waterville Public Library\, 210 Paquin St\, Waterville\, MN\, 56096\, United States
CATEGORIES:Adult Events
GEO:44.2177999;-93.5709706
X-APPLE-STRUCTURED-LOCATION;VALUE=URI;X-ADDRESS=Waterville Public Library 210 Paquin St Waterville MN 56096 United States;X-APPLE-RADIUS=500;X-TITLE=210 Paquin St:geo:-93.5709706,44.2177999
END:VEVENT
BEGIN:VEVENT
DTSTART;TZID=America/Chicago:20250729T170000
DTEND;TZID=America/Chicago:20250729T200000
DTSTAMP:20260422T135632
CREATED:20250626T195924Z
LAST-MODIFIED:20250626T195924Z
UID:10011765-1753808400-1753819200@wasecalesueurlibraries.com
SUMMARY:The Summer I Turned Pretty Party
DESCRIPTION:Make team pennants\, create banana splits\, design an arrangement from our flower bar\, play carnival games\, and more. Ages 13-18. \nThis event is made possible by the voters of Minnesota through a grant provided by the Traverse des Sioux Library Cooperative\, thanks to a legislative appropriation from the arts and cultural heritage fund. \n 
URL:https://wasecalesueurlibraries.com/event/the-summer-i-turned-pretty-party-3/
LOCATION:Montgomery Public Library\, 104 Oak Ave SE\, Montgomery\, MN\, 56069\, United States
CATEGORIES:Teen Events
GEO:44.4355889;-93.5810028
X-APPLE-STRUCTURED-LOCATION;VALUE=URI;X-ADDRESS=Montgomery Public Library 104 Oak Ave SE Montgomery MN 56069 United States;X-APPLE-RADIUS=500;X-TITLE=104 Oak Ave SE:geo:-93.5810028,44.4355889
END:VEVENT
BEGIN:VEVENT
DTSTART;TZID=America/Chicago:20250729T180000
DTEND;TZID=America/Chicago:20250729T190000
DTSTAMP:20260422T135632
CREATED:20250626T184959Z
LAST-MODIFIED:20250626T184959Z
UID:10011717-1753812000-1753815600@wasecalesueurlibraries.com
SUMMARY:Pine Cone Succulents
DESCRIPTION:Transform ordinary pine cones into beautiful\, faux succulents. A unique crafting experience! Geared for adults. \n 
URL:https://wasecalesueurlibraries.com/event/pine-cone-succulents-7/
LOCATION:Le Center Public Library\, 10 W Tyrone St\, Le Center\, MN\, 56057\, United States
CATEGORIES:Adult Events
GEO:44.3907505;-93.7316339
X-APPLE-STRUCTURED-LOCATION;VALUE=URI;X-ADDRESS=Le Center Public Library 10 W Tyrone St Le Center MN 56057 United States;X-APPLE-RADIUS=500;X-TITLE=10 W Tyrone St:geo:-93.7316339,44.3907505
END:VEVENT
END:VCALENDAR