BEGIN:VCALENDAR
VERSION:2.0
PRODID:-//Waseca-Le Sueur Library - ECPv6.15.20//NONSGML v1.0//EN
CALSCALE:GREGORIAN
METHOD:PUBLISH
X-WR-CALNAME:Waseca-Le Sueur Library
X-ORIGINAL-URL:https://wasecalesueurlibraries.com
X-WR-CALDESC:Events for Waseca-Le Sueur Library
REFRESH-INTERVAL;VALUE=DURATION:PT1H
X-Robots-Tag:noindex
X-PUBLISHED-TTL:PT1H
BEGIN:VTIMEZONE
TZID:America/Chicago
BEGIN:DAYLIGHT
TZOFFSETFROM:-0600
TZOFFSETTO:-0500
TZNAME:CDT
DTSTART:20240310T080000
END:DAYLIGHT
BEGIN:STANDARD
TZOFFSETFROM:-0500
TZOFFSETTO:-0600
TZNAME:CST
DTSTART:20241103T070000
END:STANDARD
BEGIN:DAYLIGHT
TZOFFSETFROM:-0600
TZOFFSETTO:-0500
TZNAME:CDT
DTSTART:20250309T080000
END:DAYLIGHT
BEGIN:STANDARD
TZOFFSETFROM:-0500
TZOFFSETTO:-0600
TZNAME:CST
DTSTART:20251102T070000
END:STANDARD
BEGIN:DAYLIGHT
TZOFFSETFROM:-0600
TZOFFSETTO:-0500
TZNAME:CDT
DTSTART:20260308T080000
END:DAYLIGHT
BEGIN:STANDARD
TZOFFSETFROM:-0500
TZOFFSETTO:-0600
TZNAME:CST
DTSTART:20261101T070000
END:STANDARD
END:VTIMEZONE
BEGIN:VEVENT
DTSTART;TZID=America/Chicago:20250715T100000
DTEND;TZID=America/Chicago:20250715T103000
DTSTAMP:20260422T152736
CREATED:20250509T195051Z
LAST-MODIFIED:20250731T162139Z
UID:10011364-1752573600-1752575400@wasecalesueurlibraries.com
SUMMARY:Romp and Rhyme Story Time
DESCRIPTION:Le Center Public Library holds Romp and Rhyme story times on Tuesdays at 10 am. From puppets to pumping music\, from bubble machines to banging bands\, these are not your average story time. The Library uses movement\, STEAM activities\, curiosity\, imaginative play\, and active learning to keep kids engaged. Free and open to the public.
URL:https://wasecalesueurlibraries.com/event/romp-and-rhyme-story-time-113/2025-07-15/
LOCATION:Le Center Public Library\, 10 W Tyrone St\, Le Center\, MN\, 56057\, United States
CATEGORIES:Children's Events,Story Times
GEO:44.3907505;-93.7316339
X-APPLE-STRUCTURED-LOCATION;VALUE=URI;X-ADDRESS=Le Center Public Library 10 W Tyrone St Le Center MN 56057 United States;X-APPLE-RADIUS=500;X-TITLE=10 W Tyrone St:geo:-93.7316339,44.3907505
END:VEVENT
BEGIN:VEVENT
DTSTART;TZID=America/Chicago:20250715T100000
DTEND;TZID=America/Chicago:20250715T120000
DTSTAMP:20260422T152736
CREATED:20250626T182543Z
LAST-MODIFIED:20250626T183141Z
UID:10011692-1752573600-1752580800@wasecalesueurlibraries.com
SUMMARY:Colorful Mosaics
DESCRIPTION:Learn how to make a stained glass mosaic from mosaic artist\, Laura Ruprecht. Ages 10-14. Register today! \nThis event is made possible by the voters of Minnesota through a grant provided by the Traverse des Sioux Library Cooperative\, thanks to a legislative appropriation from the arts and cultural heritage fund. \n 
URL:https://wasecalesueurlibraries.com/event/colorful-mosaics/
LOCATION:Elysian Public Library\, 202 E Main St\, Elysian\, MN\, 56028\, United States
CATEGORIES:Children's Events,Tweens
GEO:44.198703;-93.6724641
X-APPLE-STRUCTURED-LOCATION;VALUE=URI;X-ADDRESS=Elysian Public Library 202 E Main St Elysian MN 56028 United States;X-APPLE-RADIUS=500;X-TITLE=202 E Main St:geo:-93.6724641,44.198703
END:VEVENT
BEGIN:VEVENT
DTSTART;TZID=America/Chicago:20250715T130000
DTEND;TZID=America/Chicago:20250715T140000
DTSTAMP:20260422T152736
CREATED:20250626T201356Z
LAST-MODIFIED:20250626T201356Z
UID:10011781-1752584400-1752588000@wasecalesueurlibraries.com
SUMMARY:Stenciled Book Edges
DESCRIPTION:Jump into the world of book artistry by stenciling the edges of a popular book for your home library. Books and supplies provided. Ages 13-18. \n 
URL:https://wasecalesueurlibraries.com/event/stenciled-book-edges-9/
LOCATION:Le Sueur Public Library\, 118 Ferry St\, Le Sueur\, MN\, 56058\, United States
CATEGORIES:Teen Events
GEO:44.4601702;-93.9161364
X-APPLE-STRUCTURED-LOCATION;VALUE=URI;X-ADDRESS=Le Sueur Public Library 118 Ferry St Le Sueur MN 56058 United States;X-APPLE-RADIUS=500;X-TITLE=118 Ferry St:geo:-93.9161364,44.4601702
END:VEVENT
BEGIN:VEVENT
DTSTART;TZID=America/Chicago:20250715T133000
DTEND;TZID=America/Chicago:20250715T143000
DTSTAMP:20260422T152736
CREATED:20250626T190349Z
LAST-MODIFIED:20250626T190349Z
UID:10011724-1752586200-1752589800@wasecalesueurlibraries.com
SUMMARY:Magna-Tile Villages
DESCRIPTION:The mayor needs a village up and running as soon as possible. Create design plans and speed build with an amazing assortment of Magna-Tile sets. Ages 7-12. \n 
URL:https://wasecalesueurlibraries.com/event/magna-tile-villages-8/
LOCATION:Le Center Public Library\, 10 W Tyrone St\, Le Center\, MN\, 56057\, United States
CATEGORIES:Children's Events
GEO:44.3907505;-93.7316339
X-APPLE-STRUCTURED-LOCATION;VALUE=URI;X-ADDRESS=Le Center Public Library 10 W Tyrone St Le Center MN 56057 United States;X-APPLE-RADIUS=500;X-TITLE=10 W Tyrone St:geo:-93.7316339,44.3907505
END:VEVENT
BEGIN:VEVENT
DTSTART;TZID=America/Chicago:20250715T140000
DTEND;TZID=America/Chicago:20250715T160000
DTSTAMP:20260422T152736
CREATED:20250626T182751Z
LAST-MODIFIED:20250626T183133Z
UID:10011693-1752588000-1752595200@wasecalesueurlibraries.com
SUMMARY:Colorful Mosaics
DESCRIPTION:Learn how to make a stained glass mosaic from mosaic artist\, Laura Ruprecht. Ages 10-14. Register today! \nThis event is made possible by the voters of Minnesota through a grant provided by the Traverse des Sioux Library Cooperative\, thanks to a legislative appropriation from the arts and cultural heritage fund. \n 
URL:https://wasecalesueurlibraries.com/event/colorful-mosaics-2/
LOCATION:Janesville Public Library\, 100 W 2nd St\, Janesville\, MN\, 56048\, United States
CATEGORIES:Children's Events,Tweens
GEO:44.1173302;-93.7075406
X-APPLE-STRUCTURED-LOCATION;VALUE=URI;X-ADDRESS=Janesville Public Library 100 W 2nd St Janesville MN 56048 United States;X-APPLE-RADIUS=500;X-TITLE=100 W 2nd St:geo:-93.7075406,44.1173302
END:VEVENT
BEGIN:VEVENT
DTSTART;TZID=America/Chicago:20250715T170000
DTEND;TZID=America/Chicago:20250715T180000
DTSTAMP:20260422T152736
CREATED:20250626T193304Z
LAST-MODIFIED:20250626T193304Z
UID:10011746-1752598800-1752602400@wasecalesueurlibraries.com
SUMMARY:Storyland Crafts
DESCRIPTION:Enjoy books about crayons and colors\, then bring the stories to life with custom crafts. Ages 0-5. A Romp 100 Event. \n 
URL:https://wasecalesueurlibraries.com/event/storyland-crafts-8/
LOCATION:Waterville Public Library\, 210 Paquin St\, Waterville\, MN\, 56096\, United States
CATEGORIES:Children's Events
GEO:44.2177999;-93.5709706
X-APPLE-STRUCTURED-LOCATION;VALUE=URI;X-ADDRESS=Waterville Public Library 210 Paquin St Waterville MN 56096 United States;X-APPLE-RADIUS=500;X-TITLE=210 Paquin St:geo:-93.5709706,44.2177999
END:VEVENT
BEGIN:VEVENT
DTSTART;TZID=America/Chicago:20250715T173000
DTEND;TZID=America/Chicago:20250715T183000
DTSTAMP:20260422T152736
CREATED:20250626T201724Z
LAST-MODIFIED:20250731T163042Z
UID:10011789-1752600600-1752604200@wasecalesueurlibraries.com
SUMMARY:Jigsaw Puzzle Derby
DESCRIPTION:Assemble a team of up to 4 players to compete in a jigsaw puzzle competition. The first team to complete the puzzle wins a prize (and bragging rights)! Register at the library. \nPrizes sponsored by Friends of the Janesville Public Library \n 
URL:https://wasecalesueurlibraries.com/event/jigsaw-puzzle-derby-46/2025-07-15/
LOCATION:Janesville Public Library\, 100 W 2nd St\, Janesville\, MN\, 56048\, United States
CATEGORIES:Adult Events
GEO:44.1173302;-93.7075406
X-APPLE-STRUCTURED-LOCATION;VALUE=URI;X-ADDRESS=Janesville Public Library 100 W 2nd St Janesville MN 56048 United States;X-APPLE-RADIUS=500;X-TITLE=100 W 2nd St:geo:-93.7075406,44.1173302
END:VEVENT
END:VCALENDAR