BEGIN:VCALENDAR
VERSION:2.0
PRODID:-//Waseca-Le Sueur Library - ECPv6.15.20//NONSGML v1.0//EN
CALSCALE:GREGORIAN
METHOD:PUBLISH
X-WR-CALNAME:Waseca-Le Sueur Library
X-ORIGINAL-URL:https://wasecalesueurlibraries.com
X-WR-CALDESC:Events for Waseca-Le Sueur Library
REFRESH-INTERVAL;VALUE=DURATION:PT1H
X-Robots-Tag:noindex
X-PUBLISHED-TTL:PT1H
BEGIN:VTIMEZONE
TZID:America/Chicago
BEGIN:DAYLIGHT
TZOFFSETFROM:-0600
TZOFFSETTO:-0500
TZNAME:CDT
DTSTART:20240310T080000
END:DAYLIGHT
BEGIN:STANDARD
TZOFFSETFROM:-0500
TZOFFSETTO:-0600
TZNAME:CST
DTSTART:20241103T070000
END:STANDARD
BEGIN:DAYLIGHT
TZOFFSETFROM:-0600
TZOFFSETTO:-0500
TZNAME:CDT
DTSTART:20250309T080000
END:DAYLIGHT
BEGIN:STANDARD
TZOFFSETFROM:-0500
TZOFFSETTO:-0600
TZNAME:CST
DTSTART:20251102T070000
END:STANDARD
BEGIN:DAYLIGHT
TZOFFSETFROM:-0600
TZOFFSETTO:-0500
TZNAME:CDT
DTSTART:20260308T080000
END:DAYLIGHT
BEGIN:STANDARD
TZOFFSETFROM:-0500
TZOFFSETTO:-0600
TZNAME:CST
DTSTART:20261101T070000
END:STANDARD
END:VTIMEZONE
BEGIN:VEVENT
DTSTART;TZID=America/Chicago:20250714T100000
DTEND;TZID=America/Chicago:20250714T110000
DTSTAMP:20260423T000221
CREATED:20250626T182028Z
LAST-MODIFIED:20250626T182028Z
UID:10011689-1752487200-1752490800@wasecalesueurlibraries.com
SUMMARY:Feathers & Strings
DESCRIPTION:An assortment of intricate marionettes are the featured performers in this delightful\, amusing\, and eclectic Hunter Marionettes showcase. All ages. \nThis event is made possible by the voters of Minnesota through a grant provided by the Traverse des Sioux Library Cooperative\, thanks to a legislative appropriation from the arts and cultural heritage fund.
URL:https://wasecalesueurlibraries.com/event/feathers-strings-9/
LOCATION:Waldorf Public Library\, 119 S Main St\, Waldorf\, MN\, 56091\, United States
CATEGORIES:All ages,Children's Events
GEO:43.9365286;-93.697592
X-APPLE-STRUCTURED-LOCATION;VALUE=URI;X-ADDRESS=Waldorf Public Library 119 S Main St Waldorf MN 56091 United States;X-APPLE-RADIUS=500;X-TITLE=119 S Main St:geo:-93.697592,43.9365286
END:VEVENT
BEGIN:VEVENT
DTSTART;TZID=America/Chicago:20250714T100000
DTEND;TZID=America/Chicago:20250714T110000
DTSTAMP:20260423T000221
CREATED:20250626T191534Z
LAST-MODIFIED:20250626T191534Z
UID:10011735-1752487200-1752490800@wasecalesueurlibraries.com
SUMMARY:I Survived Party
DESCRIPTION:Based on the I Survived book series\, this exciting event will immerse you in survival challenges inspired by the books’ action-packed scenarios\, where you will experience what it is like to survive natural disasters\, historical events\, and other heart-pounding moments. Will you survive? Ages 8-12. \n 
URL:https://wasecalesueurlibraries.com/event/i-survived-party/
LOCATION:Le Sueur Public Library\, 118 Ferry St\, Le Sueur\, MN\, 56058\, United States
CATEGORIES:Children's Events
GEO:44.4601702;-93.9161364
X-APPLE-STRUCTURED-LOCATION;VALUE=URI;X-ADDRESS=Le Sueur Public Library 118 Ferry St Le Sueur MN 56058 United States;X-APPLE-RADIUS=500;X-TITLE=118 Ferry St:geo:-93.9161364,44.4601702
END:VEVENT
BEGIN:VEVENT
DTSTART;TZID=America/Chicago:20250714T103000
DTEND;TZID=America/Chicago:20250714T113000
DTSTAMP:20260423T000221
CREATED:20250626T194109Z
LAST-MODIFIED:20250626T194109Z
UID:10011754-1752489000-1752492600@wasecalesueurlibraries.com
SUMMARY:Kindness Rocks
DESCRIPTION:Explore how art plays a role in making our world a better place. Complete fun arts and crafts projects that will brighten your world with Le Sueur County 4-H\, including rock painting\, firefly glow jars\, and more. All ages. \n 
URL:https://wasecalesueurlibraries.com/event/kindness-rocks-2/
LOCATION:Montgomery Public Library\, 104 Oak Ave SE\, Montgomery\, MN\, 56069\, United States
CATEGORIES:All ages,Children's Events
GEO:44.4355889;-93.5810028
X-APPLE-STRUCTURED-LOCATION;VALUE=URI;X-ADDRESS=Montgomery Public Library 104 Oak Ave SE Montgomery MN 56069 United States;X-APPLE-RADIUS=500;X-TITLE=104 Oak Ave SE:geo:-93.5810028,44.4355889
END:VEVENT
BEGIN:VEVENT
DTSTART;TZID=America/Chicago:20250714T130000
DTEND;TZID=America/Chicago:20250714T140000
DTSTAMP:20260423T000221
CREATED:20250626T190544Z
LAST-MODIFIED:20250626T190544Z
UID:10011727-1752498000-1752501600@wasecalesueurlibraries.com
SUMMARY:CD Scratch Art
DESCRIPTION:Upcycle old CDs into colorful art. Create a mobile\, hang in the garden\, or hang them on a wall. Ages 7-12.
URL:https://wasecalesueurlibraries.com/event/cd-scratch-art-4/
LOCATION:Waseca Public Library\, 408 N State St\, Waseca\, MN\, 56093\, United States
CATEGORIES:Children's Events
GEO:44.0809183;-93.5069008
X-APPLE-STRUCTURED-LOCATION;VALUE=URI;X-ADDRESS=Waseca Public Library 408 N State St Waseca MN 56093 United States;X-APPLE-RADIUS=500;X-TITLE=408 N State St:geo:-93.5069008,44.0809183
END:VEVENT
BEGIN:VEVENT
DTSTART;TZID=America/Chicago:20250714T130000
DTEND;TZID=America/Chicago:20250714T150000
DTSTAMP:20260423T000221
CREATED:20250626T184005Z
LAST-MODIFIED:20250626T184005Z
UID:10011706-1752498000-1752505200@wasecalesueurlibraries.com
SUMMARY:Minnesota Birds Block Printing
DESCRIPTION:Parcel Arts will teach participants how to carve\, ink\, and print their very own loon or cardinal. Geared for adults. Register now! \nThis program was made possible in part with a grant from the Arts & Cultural Heritage Fund of the Minnesota Clean Water\, Land\, and Legacy Amendment through the Traverse des Sioux Library System. \n 
URL:https://wasecalesueurlibraries.com/event/minnesota-birds-block-printing-3/
LOCATION:Waseca Public Library\, 408 N State St\, Waseca\, MN\, 56093\, United States
CATEGORIES:Adult Events
GEO:44.0809183;-93.5069008
X-APPLE-STRUCTURED-LOCATION;VALUE=URI;X-ADDRESS=Waseca Public Library 408 N State St Waseca MN 56093 United States;X-APPLE-RADIUS=500;X-TITLE=408 N State St:geo:-93.5069008,44.0809183
END:VEVENT
BEGIN:VEVENT
DTSTART;TZID=America/Chicago:20250714T140000
DTEND;TZID=America/Chicago:20250714T180000
DTSTAMP:20260423T000221
CREATED:20250626T184829Z
LAST-MODIFIED:20250827T214243Z
UID:10011715-1752501600-1752516000@wasecalesueurlibraries.com
SUMMARY:Stitch and Visit
DESCRIPTION:Bring your craft projects and visit with others while embroidering\, knitting\, crocheting\, or other mobile craft project. Dianne Gahler will be on hand to problem solve. All ages. \n 
URL:https://wasecalesueurlibraries.com/event/stitch-and-visit-2/2025-07-14/
LOCATION:Le Center Public Library\, 10 W Tyrone St\, Le Center\, MN\, 56057\, United States
CATEGORIES:Adult Events,All ages
GEO:44.3907505;-93.7316339
X-APPLE-STRUCTURED-LOCATION;VALUE=URI;X-ADDRESS=Le Center Public Library 10 W Tyrone St Le Center MN 56057 United States;X-APPLE-RADIUS=500;X-TITLE=10 W Tyrone St:geo:-93.7316339,44.3907505
END:VEVENT
END:VCALENDAR