BEGIN:VCALENDAR
VERSION:2.0
PRODID:-//Waseca-Le Sueur Library - ECPv6.15.20//NONSGML v1.0//EN
CALSCALE:GREGORIAN
METHOD:PUBLISH
X-WR-CALNAME:Waseca-Le Sueur Library
X-ORIGINAL-URL:https://wasecalesueurlibraries.com
X-WR-CALDESC:Events for Waseca-Le Sueur Library
REFRESH-INTERVAL;VALUE=DURATION:PT1H
X-Robots-Tag:noindex
X-PUBLISHED-TTL:PT1H
BEGIN:VTIMEZONE
TZID:America/Chicago
BEGIN:DAYLIGHT
TZOFFSETFROM:-0600
TZOFFSETTO:-0500
TZNAME:CDT
DTSTART:20240310T080000
END:DAYLIGHT
BEGIN:STANDARD
TZOFFSETFROM:-0500
TZOFFSETTO:-0600
TZNAME:CST
DTSTART:20241103T070000
END:STANDARD
BEGIN:DAYLIGHT
TZOFFSETFROM:-0600
TZOFFSETTO:-0500
TZNAME:CDT
DTSTART:20250309T080000
END:DAYLIGHT
BEGIN:STANDARD
TZOFFSETFROM:-0500
TZOFFSETTO:-0600
TZNAME:CST
DTSTART:20251102T070000
END:STANDARD
BEGIN:DAYLIGHT
TZOFFSETFROM:-0600
TZOFFSETTO:-0500
TZNAME:CDT
DTSTART:20260308T080000
END:DAYLIGHT
BEGIN:STANDARD
TZOFFSETFROM:-0500
TZOFFSETTO:-0600
TZNAME:CST
DTSTART:20261101T070000
END:STANDARD
END:VTIMEZONE
BEGIN:VEVENT
DTSTART;TZID=America/Chicago:20250709T080000
DTEND;TZID=America/Chicago:20250709T170000
DTSTAMP:20260422T153001
CREATED:20250527T211420Z
LAST-MODIFIED:20250626T194405Z
UID:10011759-1752048000-1752080400@wasecalesueurlibraries.com
SUMMARY:Book Bingo
DESCRIPTION:The thrill of Bingo meets the joy of reading in this fun event that combines the classic game of Bingo with the opportunity to win amazing new books! Ages 6-18. \n 
URL:https://wasecalesueurlibraries.com/event/book-bingo-2/2025-07-09/
LOCATION:Le Sueur Public Library\, 118 Ferry St\, Le Sueur\, MN\, 56058\, United States
CATEGORIES:Children's Events
GEO:44.4601702;-93.9161364
X-APPLE-STRUCTURED-LOCATION;VALUE=URI;X-ADDRESS=Le Sueur Public Library 118 Ferry St Le Sueur MN 56058 United States;X-APPLE-RADIUS=500;X-TITLE=118 Ferry St:geo:-93.9161364,44.4601702
END:VEVENT
BEGIN:VEVENT
DTSTART;TZID=America/Chicago:20250709T100000
DTEND;TZID=America/Chicago:20250709T110000
DTSTAMP:20260422T153001
CREATED:20250626T175155Z
LAST-MODIFIED:20250626T175155Z
UID:10011683-1752055200-1752058800@wasecalesueurlibraries.com
SUMMARY:Pan-Handlers Concert
DESCRIPTION:Experience the sweet\, lively sound of the steel drums\, which evolved from old oil barrels to the beautiful instruments we love today. Enjoy traditional steel pan tunes along with popular songs from The Beatles\, Guns N’ Roses\, and Prince. All ages. \nThis event is made possible by the voters of Minnesota through a grant provided by the Traverse des Sioux Library Cooperative\, thanks to a legislative appropriation from the arts and cultural heritage fund.
URL:https://wasecalesueurlibraries.com/event/pan-handlers-concert-5/
LOCATION:Lake Francis Park\, Elysian\, MN\, 56028\, United States
CATEGORIES:All ages,Children's Events,Concert
END:VEVENT
BEGIN:VEVENT
DTSTART;TZID=America/Chicago:20250709T100000
DTEND;TZID=America/Chicago:20250709T110000
DTSTAMP:20260422T153001
CREATED:20250626T191615Z
LAST-MODIFIED:20250626T191615Z
UID:10011736-1752055200-1752058800@wasecalesueurlibraries.com
SUMMARY:The Wild Robot Party
DESCRIPTION:Build a friendly robot\, learn survival skills\, take the camouflage challenge\, and more while celebrating the extraordinary story of Roz\, a robot learning to live in the wilderness. Ages 7-12. \n 
URL:https://wasecalesueurlibraries.com/event/the-wild-robot-party-5/
LOCATION:New Richland Public Library\, 129 Broadway Ave S\, New Richland\, MN\, 56072\, United States
CATEGORIES:Children's Events
GEO:43.8935599;-93.4938211
X-APPLE-STRUCTURED-LOCATION;VALUE=URI;X-ADDRESS=New Richland Public Library 129 Broadway Ave S New Richland MN 56072 United States;X-APPLE-RADIUS=500;X-TITLE=129 Broadway Ave S:geo:-93.4938211,43.8935599
END:VEVENT
BEGIN:VEVENT
DTSTART;TZID=America/Chicago:20250709T130000
DTEND;TZID=America/Chicago:20250709T140000
DTSTAMP:20260422T153001
CREATED:20250626T175349Z
LAST-MODIFIED:20250626T175349Z
UID:10011684-1752066000-1752069600@wasecalesueurlibraries.com
SUMMARY:Pan-Handlers Concert
DESCRIPTION:Experience the sweet\, lively sound of the steel drums\, which evolved from old oil barrels to the beautiful instruments we love today. Enjoy traditional steel pan tunes along with popular songs from The Beatles\, Guns N’ Roses\, and Prince. All ages. \nThis event is made possible by the voters of Minnesota through a grant provided by the Traverse des Sioux Library Cooperative\, thanks to a legislative appropriation from the arts and cultural heritage fund.
URL:https://wasecalesueurlibraries.com/event/pan-handlers-concert-6/
LOCATION:JWP School Auditorium\, 110 E 3rd St\, Janesville\, 56048\, United States
CATEGORIES:All ages,Children's Events,Concert
END:VEVENT
END:VCALENDAR