BEGIN:VCALENDAR
VERSION:2.0
PRODID:-//Waseca-Le Sueur Library - ECPv6.15.20//NONSGML v1.0//EN
CALSCALE:GREGORIAN
METHOD:PUBLISH
X-ORIGINAL-URL:https://wasecalesueurlibraries.com
X-WR-CALDESC:Events for Waseca-Le Sueur Library
REFRESH-INTERVAL;VALUE=DURATION:PT1H
X-Robots-Tag:noindex
X-PUBLISHED-TTL:PT1H
BEGIN:VTIMEZONE
TZID:America/Chicago
BEGIN:DAYLIGHT
TZOFFSETFROM:-0600
TZOFFSETTO:-0500
TZNAME:CDT
DTSTART:20240310T080000
END:DAYLIGHT
BEGIN:STANDARD
TZOFFSETFROM:-0500
TZOFFSETTO:-0600
TZNAME:CST
DTSTART:20241103T070000
END:STANDARD
BEGIN:DAYLIGHT
TZOFFSETFROM:-0600
TZOFFSETTO:-0500
TZNAME:CDT
DTSTART:20250309T080000
END:DAYLIGHT
BEGIN:STANDARD
TZOFFSETFROM:-0500
TZOFFSETTO:-0600
TZNAME:CST
DTSTART:20251102T070000
END:STANDARD
BEGIN:DAYLIGHT
TZOFFSETFROM:-0600
TZOFFSETTO:-0500
TZNAME:CDT
DTSTART:20260308T080000
END:DAYLIGHT
BEGIN:STANDARD
TZOFFSETFROM:-0500
TZOFFSETTO:-0600
TZNAME:CST
DTSTART:20261101T070000
END:STANDARD
END:VTIMEZONE
BEGIN:VEVENT
DTSTART;VALUE=DATE:20250626
DTEND;VALUE=DATE:20250701
DTSTAMP:20260422T170644
CREATED:20250527T211803Z
LAST-MODIFIED:20250527T211803Z
UID:10011654-1750896000-1751327999@wasecalesueurlibraries.com
SUMMARY:Stuffed Animal Weekend Sleepover
DESCRIPTION:Janesville’s stuffed animals will also get travel around town together and then have a sleepover at the library! All ages of stuffed animals welcome. \nDrop off: June 26th        9 am-12 pm\, 1-6 pm\nPick up: June 30th          1-6 pm \n 
URL:https://wasecalesueurlibraries.com/event/stuffed-animal-weekend-sleepover/
LOCATION:Janesville Public Library\, 100 W 2nd St\, Janesville\, MN\, 56048\, United States
CATEGORIES:Children's Events
GEO:44.1173302;-93.7075406
X-APPLE-STRUCTURED-LOCATION;VALUE=URI;X-ADDRESS=Janesville Public Library 100 W 2nd St Janesville MN 56048 United States;X-APPLE-RADIUS=500;X-TITLE=100 W 2nd St:geo:-93.7075406,44.1173302
END:VEVENT
BEGIN:VEVENT
DTSTART;TZID=America/Chicago:20250626T093000
DTEND;TZID=America/Chicago:20250626T103000
DTSTAMP:20260422T170644
CREATED:20250527T204814Z
LAST-MODIFIED:20250527T204814Z
UID:10011578-1750930200-1750933800@wasecalesueurlibraries.com
SUMMARY:Alphabet Craft Series
DESCRIPTION:Join us for a colorful and creative journey through the alphabet! Each week will cover new letters! Ages 2-5. \nThursdays at 9:30 am from June 12th-July 24th \n 
URL:https://wasecalesueurlibraries.com/event/alphabet-craft-series/2025-06-26/
LOCATION:Janesville Public Library\, 100 W 2nd St\, Janesville\, MN\, 56048\, United States
CATEGORIES:Children's Events
GEO:44.1173302;-93.7075406
X-APPLE-STRUCTURED-LOCATION;VALUE=URI;X-ADDRESS=Janesville Public Library 100 W 2nd St Janesville MN 56048 United States;X-APPLE-RADIUS=500;X-TITLE=100 W 2nd St:geo:-93.7075406,44.1173302
END:VEVENT
BEGIN:VEVENT
DTSTART;TZID=America/Chicago:20250626T093000
DTEND;TZID=America/Chicago:20250626T103000
DTSTAMP:20260422T170644
CREATED:20250626T193446Z
LAST-MODIFIED:20250626T193446Z
UID:10011748-1750930200-1750933800@wasecalesueurlibraries.com
SUMMARY:Alphabet Craft Series
DESCRIPTION:Join us for a colorful and creative journey through the alphabet! Each week will cover new letters! Ages 2-5. \nThursdays at 9:30 am from June 12th-July 24th \n 
URL:https://wasecalesueurlibraries.com/event/alphabet-craft-series-2/2025-06-26/
LOCATION:Janesville Public Library\, 100 W 2nd St\, Janesville\, MN\, 56048\, United States
CATEGORIES:Children's Events
GEO:44.1173302;-93.7075406
X-APPLE-STRUCTURED-LOCATION;VALUE=URI;X-ADDRESS=Janesville Public Library 100 W 2nd St Janesville MN 56048 United States;X-APPLE-RADIUS=500;X-TITLE=100 W 2nd St:geo:-93.7075406,44.1173302
END:VEVENT
BEGIN:VEVENT
DTSTART;TZID=America/Chicago:20250626T100000
DTEND;TZID=America/Chicago:20250626T110000
DTSTAMP:20260422T170644
CREATED:20250227T152943Z
LAST-MODIFIED:20250731T162248Z
UID:10011638-1750932000-1750935600@wasecalesueurlibraries.com
SUMMARY:Romp and Rhyme Story Time
DESCRIPTION:Montgomery Public Library holds Romp and Rhyme story times. From puppets to pumping music\, from bubble machines to banging bands\, these are not your average story time. The Library uses movement\, STEAM activities\, curiosity\, imaginative play\, and active learning to keep kids engaged. Free and open to the public.
URL:https://wasecalesueurlibraries.com/event/romp-and-rhyme-story-time-111/2025-06-26/
LOCATION:Montgomery Public Library\, 104 Oak Ave SE\, Montgomery\, MN\, 56069\, United States
CATEGORIES:Children's Events,Story Times
GEO:44.4355889;-93.5810028
X-APPLE-STRUCTURED-LOCATION;VALUE=URI;X-ADDRESS=Montgomery Public Library 104 Oak Ave SE Montgomery MN 56069 United States;X-APPLE-RADIUS=500;X-TITLE=104 Oak Ave SE:geo:-93.5810028,44.4355889
END:VEVENT
BEGIN:VEVENT
DTSTART;TZID=America/Chicago:20250626T180000
DTEND;TZID=America/Chicago:20250626T190000
DTSTAMP:20260422T170644
CREATED:20250527T180419Z
LAST-MODIFIED:20250527T180419Z
UID:10011534-1750960800-1750964400@wasecalesueurlibraries.com
SUMMARY:Minnesota Birds Block Printing
DESCRIPTION:Parcel Arts will teach participants how to carve\, ink\, and print their very own loon or cardinal. Geared for adults. Register now! \nThis program was made possible in part with a grant from the Arts & Cultural Heritage Fund of the Minnesota Clean Water\, Land\, and Legacy Amendment through the Traverse des Sioux Library System. \n 
URL:https://wasecalesueurlibraries.com/event/minnesota-birds-block-printing-2/
LOCATION:Le Sueur Public Library\, 118 Ferry St\, Le Sueur\, MN\, 56058\, United States
CATEGORIES:Adult Events
GEO:44.4601702;-93.9161364
X-APPLE-STRUCTURED-LOCATION;VALUE=URI;X-ADDRESS=Le Sueur Public Library 118 Ferry St Le Sueur MN 56058 United States;X-APPLE-RADIUS=500;X-TITLE=118 Ferry St:geo:-93.9161364,44.4601702
END:VEVENT
END:VCALENDAR