BEGIN:VCALENDAR
VERSION:2.0
PRODID:-//Waseca-Le Sueur Library - ECPv6.15.20//NONSGML v1.0//EN
CALSCALE:GREGORIAN
METHOD:PUBLISH
X-WR-CALNAME:Waseca-Le Sueur Library
X-ORIGINAL-URL:https://wasecalesueurlibraries.com
X-WR-CALDESC:Events for Waseca-Le Sueur Library
REFRESH-INTERVAL;VALUE=DURATION:PT1H
X-Robots-Tag:noindex
X-PUBLISHED-TTL:PT1H
BEGIN:VTIMEZONE
TZID:America/Chicago
BEGIN:DAYLIGHT
TZOFFSETFROM:-0600
TZOFFSETTO:-0500
TZNAME:CDT
DTSTART:20240310T080000
END:DAYLIGHT
BEGIN:STANDARD
TZOFFSETFROM:-0500
TZOFFSETTO:-0600
TZNAME:CST
DTSTART:20241103T070000
END:STANDARD
BEGIN:DAYLIGHT
TZOFFSETFROM:-0600
TZOFFSETTO:-0500
TZNAME:CDT
DTSTART:20250309T080000
END:DAYLIGHT
BEGIN:STANDARD
TZOFFSETFROM:-0500
TZOFFSETTO:-0600
TZNAME:CST
DTSTART:20251102T070000
END:STANDARD
BEGIN:DAYLIGHT
TZOFFSETFROM:-0600
TZOFFSETTO:-0500
TZNAME:CDT
DTSTART:20260308T080000
END:DAYLIGHT
BEGIN:STANDARD
TZOFFSETFROM:-0500
TZOFFSETTO:-0600
TZNAME:CST
DTSTART:20261101T070000
END:STANDARD
END:VTIMEZONE
BEGIN:VEVENT
DTSTART;TZID=America/Chicago:20250623T100000
DTEND;TZID=America/Chicago:20250623T110000
DTSTAMP:20260422T152553
CREATED:20250527T203434Z
LAST-MODIFIED:20250527T203434Z
UID:10011570-1750672800-1750676400@wasecalesueurlibraries.com
SUMMARY:Adventures in Zootopia
DESCRIPTION:Journey through the vibrant world of Zootopia! Learn valuable skills through interactive stations based around the movie’s different\ncharacters. Ages 4-8. \n 
URL:https://wasecalesueurlibraries.com/event/adventures-in-zootopia/
LOCATION:Le Sueur Public Library\, 118 Ferry St\, Le Sueur\, MN\, 56058\, United States
CATEGORIES:Children's Events
GEO:44.4601702;-93.9161364
X-APPLE-STRUCTURED-LOCATION;VALUE=URI;X-ADDRESS=Le Sueur Public Library 118 Ferry St Le Sueur MN 56058 United States;X-APPLE-RADIUS=500;X-TITLE=118 Ferry St:geo:-93.9161364,44.4601702
END:VEVENT
BEGIN:VEVENT
DTSTART;TZID=America/Chicago:20250623T110000
DTEND;TZID=America/Chicago:20250623T120000
DTSTAMP:20260422T152553
CREATED:20250527T211328Z
LAST-MODIFIED:20250527T211328Z
UID:10011651-1750676400-1750680000@wasecalesueurlibraries.com
SUMMARY:Down on the Farm
DESCRIPTION:Learn more about farm animals\, the products they produce\, and how farmers take care of them from Le Sueur County 4-H staff. Participants will be making butter and snacks will be served. All ages.
URL:https://wasecalesueurlibraries.com/event/down-on-the-farm-5/
LOCATION:Waterville Public Library\, 210 Paquin St\, Waterville\, MN\, 56096\, United States
CATEGORIES:Children's Events
GEO:44.2177999;-93.5709706
X-APPLE-STRUCTURED-LOCATION;VALUE=URI;X-ADDRESS=Waterville Public Library 210 Paquin St Waterville MN 56096 United States;X-APPLE-RADIUS=500;X-TITLE=210 Paquin St:geo:-93.5709706,44.2177999
END:VEVENT
BEGIN:VEVENT
DTSTART;TZID=America/Chicago:20250623T143000
DTEND;TZID=America/Chicago:20250623T153000
DTSTAMP:20260422T152553
CREATED:20250527T202051Z
LAST-MODIFIED:20250527T202051Z
UID:10011569-1750689000-1750692600@wasecalesueurlibraries.com
SUMMARY:The Great Rainbow Party
DESCRIPTION:This colorful event is full of prisms\, pattern building\, color mixing\, sorting\, and crafting. Ages 3-6. \n 
URL:https://wasecalesueurlibraries.com/event/the-great-rainbow-party-3/
LOCATION:Janesville Public Library\, 100 W 2nd St\, Janesville\, MN\, 56048\, United States
CATEGORIES:Children's Events
GEO:44.1173302;-93.7075406
X-APPLE-STRUCTURED-LOCATION;VALUE=URI;X-ADDRESS=Janesville Public Library 100 W 2nd St Janesville MN 56048 United States;X-APPLE-RADIUS=500;X-TITLE=100 W 2nd St:geo:-93.7075406,44.1173302
END:VEVENT
END:VCALENDAR