BEGIN:VCALENDAR
VERSION:2.0
PRODID:-//Waseca-Le Sueur Library - ECPv6.15.20//NONSGML v1.0//EN
CALSCALE:GREGORIAN
METHOD:PUBLISH
X-WR-CALNAME:Waseca-Le Sueur Library
X-ORIGINAL-URL:https://wasecalesueurlibraries.com
X-WR-CALDESC:Events for Waseca-Le Sueur Library
REFRESH-INTERVAL;VALUE=DURATION:PT1H
X-Robots-Tag:noindex
X-PUBLISHED-TTL:PT1H
BEGIN:VTIMEZONE
TZID:America/Chicago
BEGIN:DAYLIGHT
TZOFFSETFROM:-0600
TZOFFSETTO:-0500
TZNAME:CDT
DTSTART:20240310T080000
END:DAYLIGHT
BEGIN:STANDARD
TZOFFSETFROM:-0500
TZOFFSETTO:-0600
TZNAME:CST
DTSTART:20241103T070000
END:STANDARD
BEGIN:DAYLIGHT
TZOFFSETFROM:-0600
TZOFFSETTO:-0500
TZNAME:CDT
DTSTART:20250309T080000
END:DAYLIGHT
BEGIN:STANDARD
TZOFFSETFROM:-0500
TZOFFSETTO:-0600
TZNAME:CST
DTSTART:20251102T070000
END:STANDARD
BEGIN:DAYLIGHT
TZOFFSETFROM:-0600
TZOFFSETTO:-0500
TZNAME:CDT
DTSTART:20260308T080000
END:DAYLIGHT
BEGIN:STANDARD
TZOFFSETFROM:-0500
TZOFFSETTO:-0600
TZNAME:CST
DTSTART:20261101T070000
END:STANDARD
END:VTIMEZONE
BEGIN:VEVENT
DTSTART;TZID=America/Chicago:20250612T093000
DTEND;TZID=America/Chicago:20250612T103000
DTSTAMP:20260422T152648
CREATED:20250527T204814Z
LAST-MODIFIED:20250527T204814Z
UID:10011576-1749720600-1749724200@wasecalesueurlibraries.com
SUMMARY:Alphabet Craft Series
DESCRIPTION:Join us for a colorful and creative journey through the alphabet! Each week will cover new letters! Ages 2-5. \nThursdays at 9:30 am from June 12th-July 24th \n 
URL:https://wasecalesueurlibraries.com/event/alphabet-craft-series/2025-06-12/
LOCATION:Janesville Public Library\, 100 W 2nd St\, Janesville\, MN\, 56048\, United States
CATEGORIES:Children's Events
GEO:44.1173302;-93.7075406
X-APPLE-STRUCTURED-LOCATION;VALUE=URI;X-ADDRESS=Janesville Public Library 100 W 2nd St Janesville MN 56048 United States;X-APPLE-RADIUS=500;X-TITLE=100 W 2nd St:geo:-93.7075406,44.1173302
END:VEVENT
BEGIN:VEVENT
DTSTART;TZID=America/Chicago:20250612T093000
DTEND;TZID=America/Chicago:20250612T103000
DTSTAMP:20260422T152648
CREATED:20250626T193446Z
LAST-MODIFIED:20250626T193446Z
UID:10011579-1749720600-1749724200@wasecalesueurlibraries.com
SUMMARY:Alphabet Craft Series
DESCRIPTION:Join us for a colorful and creative journey through the alphabet! Each week will cover new letters! Ages 2-5. \nThursdays at 9:30 am from June 12th-July 24th \n 
URL:https://wasecalesueurlibraries.com/event/alphabet-craft-series-2/2025-06-12/
LOCATION:Janesville Public Library\, 100 W 2nd St\, Janesville\, MN\, 56048\, United States
CATEGORIES:Children's Events
GEO:44.1173302;-93.7075406
X-APPLE-STRUCTURED-LOCATION;VALUE=URI;X-ADDRESS=Janesville Public Library 100 W 2nd St Janesville MN 56048 United States;X-APPLE-RADIUS=500;X-TITLE=100 W 2nd St:geo:-93.7075406,44.1173302
END:VEVENT
BEGIN:VEVENT
DTSTART;TZID=America/Chicago:20250612T100000
DTEND;TZID=America/Chicago:20250612T110000
DTSTAMP:20260422T152648
CREATED:20250227T152943Z
LAST-MODIFIED:20250731T162248Z
UID:10011637-1749722400-1749726000@wasecalesueurlibraries.com
SUMMARY:Romp and Rhyme Story Time
DESCRIPTION:Montgomery Public Library holds Romp and Rhyme story times. From puppets to pumping music\, from bubble machines to banging bands\, these are not your average story time. The Library uses movement\, STEAM activities\, curiosity\, imaginative play\, and active learning to keep kids engaged. Free and open to the public.
URL:https://wasecalesueurlibraries.com/event/romp-and-rhyme-story-time-111/2025-06-12/
LOCATION:Montgomery Public Library\, 104 Oak Ave SE\, Montgomery\, MN\, 56069\, United States
CATEGORIES:Children's Events,Story Times
GEO:44.4355889;-93.5810028
X-APPLE-STRUCTURED-LOCATION;VALUE=URI;X-ADDRESS=Montgomery Public Library 104 Oak Ave SE Montgomery MN 56069 United States;X-APPLE-RADIUS=500;X-TITLE=104 Oak Ave SE:geo:-93.5810028,44.4355889
END:VEVENT
BEGIN:VEVENT
DTSTART;TZID=America/Chicago:20250612T100000
DTEND;TZID=America/Chicago:20250612T110000
DTSTAMP:20260422T152648
CREATED:20250527T163922Z
LAST-MODIFIED:20250527T163922Z
UID:10011520-1749722400-1749726000@wasecalesueurlibraries.com
SUMMARY:Circus Manduahi
DESCRIPTION:This Mongolian performer incorporates juggling\, acro-balancing\, contortion\, unicycling\, and hula hooping into a spectacular show. All ages. \nThis event is made possible by the voters of Minnesota through a grant provided by the Traverse des Sioux Library Cooperative\, thanks to a legislative appropriation from the arts and cultural heritage fund. \n 
URL:https://wasecalesueurlibraries.com/event/circus-manduahi/
LOCATION:Waseca Public Library\, 408 N State St\, Waseca\, MN\, 56093\, United States
CATEGORIES:All ages,Children's Events
GEO:44.0809183;-93.5069008
X-APPLE-STRUCTURED-LOCATION;VALUE=URI;X-ADDRESS=Waseca Public Library 408 N State St Waseca MN 56093 United States;X-APPLE-RADIUS=500;X-TITLE=408 N State St:geo:-93.5069008,44.0809183
END:VEVENT
BEGIN:VEVENT
DTSTART;TZID=America/Chicago:20250612T103000
DTEND;TZID=America/Chicago:20250612T113000
DTSTAMP:20260422T152648
CREATED:20250527T204905Z
LAST-MODIFIED:20250527T204905Z
UID:10011635-1749724200-1749727800@wasecalesueurlibraries.com
SUMMARY:Construction Site: Let’s Build
DESCRIPTION:Put on your hard hat while we work through Construction Site’s projects. Build\, demolish\, and\neverything in between! Ages 3-6. \n 
URL:https://wasecalesueurlibraries.com/event/construction-site-lets-build-10/
LOCATION:Janesville Public Library\, 100 W 2nd St\, Janesville\, MN\, 56048\, United States
CATEGORIES:Children's Events
GEO:44.1173302;-93.7075406
X-APPLE-STRUCTURED-LOCATION;VALUE=URI;X-ADDRESS=Janesville Public Library 100 W 2nd St Janesville MN 56048 United States;X-APPLE-RADIUS=500;X-TITLE=100 W 2nd St:geo:-93.7075406,44.1173302
END:VEVENT
BEGIN:VEVENT
DTSTART;TZID=America/Chicago:20250612T130000
DTEND;TZID=America/Chicago:20250612T140000
DTSTAMP:20260422T152648
CREATED:20250527T164044Z
LAST-MODIFIED:20250527T164044Z
UID:10011521-1749733200-1749736800@wasecalesueurlibraries.com
SUMMARY:Circus Manduhai
DESCRIPTION:This Mongolian performer incorporates juggling\, acro-balancing\, contortion\, unicycling\, and hula hooping into a spectacular show. All ages. \nThis event is made possible by the voters of Minnesota through a grant provided by the Traverse des Sioux Library Cooperative\, thanks to a legislative appropriation from the arts and cultural heritage fund. \n 
URL:https://wasecalesueurlibraries.com/event/circus-manduhai/
LOCATION:Le Sueur Legion Park\, S 6th St\, Le Sueur\, MN\, 56058\, United States
CATEGORIES:All ages,Children's Events
GEO:44.4554838;-93.9118623
X-APPLE-STRUCTURED-LOCATION;VALUE=URI;X-ADDRESS=Le Sueur Legion Park S 6th St Le Sueur MN 56058 United States;X-APPLE-RADIUS=500;X-TITLE=S 6th St:geo:-93.9118623,44.4554838
END:VEVENT
BEGIN:VEVENT
DTSTART;TZID=America/Chicago:20250612T130000
DTEND;TZID=America/Chicago:20250612T140000
DTSTAMP:20260422T152648
CREATED:20250527T213404Z
LAST-MODIFIED:20250527T213404Z
UID:10011663-1749733200-1749736800@wasecalesueurlibraries.com
SUMMARY:Marbled Coasters
DESCRIPTION:Create a chic and colorful spin on marbled coasters. Ages 13-18. \nSponsored by E. F. Johnson Foundation \n 
URL:https://wasecalesueurlibraries.com/event/marbled-coasters-2/
LOCATION:Waseca Public Library\, 408 N State St\, Waseca\, MN\, 56093\, United States
CATEGORIES:Teen Events
GEO:44.0809183;-93.5069008
X-APPLE-STRUCTURED-LOCATION;VALUE=URI;X-ADDRESS=Waseca Public Library 408 N State St Waseca MN 56093 United States;X-APPLE-RADIUS=500;X-TITLE=408 N State St:geo:-93.5069008,44.0809183
END:VEVENT
BEGIN:VEVENT
DTSTART;TZID=America/Chicago:20250612T133000
DTEND;TZID=America/Chicago:20250612T143000
DTSTAMP:20260422T152649
CREATED:20250527T210948Z
LAST-MODIFIED:20250527T210948Z
UID:10011649-1749735000-1749738600@wasecalesueurlibraries.com
SUMMARY:Kindness Rocks
DESCRIPTION:Explore how art plays a role in making our world a better place. Complete fun arts and crafts projects that will brighten your world with Le Sueur County 4-H\, including rock painting\, firefly glow jars\, and more. All ages. \n 
URL:https://wasecalesueurlibraries.com/event/kindness-rocks/
LOCATION:Le Center Public Library\, 10 W Tyrone St\, Le Center\, MN\, 56057\, United States
CATEGORIES:All ages,Children's Events
GEO:44.3907505;-93.7316339
X-APPLE-STRUCTURED-LOCATION;VALUE=URI;X-ADDRESS=Le Center Public Library 10 W Tyrone St Le Center MN 56057 United States;X-APPLE-RADIUS=500;X-TITLE=10 W Tyrone St:geo:-93.7316339,44.3907505
END:VEVENT
END:VCALENDAR