BEGIN:VCALENDAR
VERSION:2.0
PRODID:-//Waseca-Le Sueur Library - ECPv6.15.20//NONSGML v1.0//EN
CALSCALE:GREGORIAN
METHOD:PUBLISH
X-WR-CALNAME:Waseca-Le Sueur Library
X-ORIGINAL-URL:https://wasecalesueurlibraries.com
X-WR-CALDESC:Events for Waseca-Le Sueur Library
REFRESH-INTERVAL;VALUE=DURATION:PT1H
X-Robots-Tag:noindex
X-PUBLISHED-TTL:PT1H
BEGIN:VTIMEZONE
TZID:America/Chicago
BEGIN:DAYLIGHT
TZOFFSETFROM:-0600
TZOFFSETTO:-0500
TZNAME:CDT
DTSTART:20240310T080000
END:DAYLIGHT
BEGIN:STANDARD
TZOFFSETFROM:-0500
TZOFFSETTO:-0600
TZNAME:CST
DTSTART:20241103T070000
END:STANDARD
BEGIN:DAYLIGHT
TZOFFSETFROM:-0600
TZOFFSETTO:-0500
TZNAME:CDT
DTSTART:20250309T080000
END:DAYLIGHT
BEGIN:STANDARD
TZOFFSETFROM:-0500
TZOFFSETTO:-0600
TZNAME:CST
DTSTART:20251102T070000
END:STANDARD
BEGIN:DAYLIGHT
TZOFFSETFROM:-0600
TZOFFSETTO:-0500
TZNAME:CDT
DTSTART:20260308T080000
END:DAYLIGHT
BEGIN:STANDARD
TZOFFSETFROM:-0500
TZOFFSETTO:-0600
TZNAME:CST
DTSTART:20261101T070000
END:STANDARD
END:VTIMEZONE
BEGIN:VEVENT
DTSTART;TZID=America/Chicago:20250604T100000
DTEND;TZID=America/Chicago:20250604T110000
DTSTAMP:20260422T110404
CREATED:20250527T160408Z
LAST-MODIFIED:20250527T160408Z
UID:10011514-1749031200-1749034800@wasecalesueurlibraries.com
SUMMARY:Reptiles around the World
DESCRIPTION:Slither around the world to meet reptiles from every continent they’re found on. Learn what a Legless Lizard is\, a gecko\, hold a large boa constrictor\, watch a snake eat\, and more! Ages 7-12.
URL:https://wasecalesueurlibraries.com/event/reptiles-around-the-world-6/
LOCATION:New Richland Public Library\, 129 Broadway Ave S\, New Richland\, MN\, 56072\, United States
CATEGORIES:All ages,Children's Events,Family
GEO:43.8935599;-93.4938211
X-APPLE-STRUCTURED-LOCATION;VALUE=URI;X-ADDRESS=New Richland Public Library 129 Broadway Ave S New Richland MN 56072 United States;X-APPLE-RADIUS=500;X-TITLE=129 Broadway Ave S:geo:-93.4938211,43.8935599
END:VEVENT
BEGIN:VEVENT
DTSTART;TZID=America/Chicago:20250604T130000
DTEND;TZID=America/Chicago:20250604T140000
DTSTAMP:20260422T110404
CREATED:20250527T160503Z
LAST-MODIFIED:20250527T160503Z
UID:10011515-1749042000-1749045600@wasecalesueurlibraries.com
SUMMARY:Reptiles around the World
DESCRIPTION:Slither around the world to meet reptiles from every continent they’re found on. Learn what a Legless Lizard is\, a gecko\, hold a large boa constrictor\, watch a snake eat\, and more! Ages 7-12.
URL:https://wasecalesueurlibraries.com/event/reptiles-around-the-world-7/
LOCATION:Waseca Public Library\, 408 N State St\, Waseca\, MN\, 56093\, United States
CATEGORIES:All ages,Children's Events,Family
GEO:44.0809183;-93.5069008
X-APPLE-STRUCTURED-LOCATION;VALUE=URI;X-ADDRESS=Waseca Public Library 408 N State St Waseca MN 56093 United States;X-APPLE-RADIUS=500;X-TITLE=408 N State St:geo:-93.5069008,44.0809183
END:VEVENT
BEGIN:VEVENT
DTSTART;TZID=America/Chicago:20250604T130000
DTEND;TZID=America/Chicago:20250604T140000
DTSTAMP:20260422T110404
CREATED:20250527T193042Z
LAST-MODIFIED:20250527T193042Z
UID:10011556-1749042000-1749045600@wasecalesueurlibraries.com
SUMMARY:Tween Crafternoon
DESCRIPTION:Join us for a series of exciting crafting sessions just for tweens! Our Crafternoons will ignite creativity and foster friendship! Ages 8-12. \nClay Animals: June 4th\nLight Bulb Hot Air Balloons: June 18th \n 
URL:https://wasecalesueurlibraries.com/event/tween-crafternoon-5/
LOCATION:Le Sueur Public Library\, 118 Ferry St\, Le Sueur\, MN\, 56058\, United States
CATEGORIES:Children's Events
GEO:44.4601702;-93.9161364
X-APPLE-STRUCTURED-LOCATION;VALUE=URI;X-ADDRESS=Le Sueur Public Library 118 Ferry St Le Sueur MN 56058 United States;X-APPLE-RADIUS=500;X-TITLE=118 Ferry St:geo:-93.9161364,44.4601702
END:VEVENT
BEGIN:VEVENT
DTSTART;TZID=America/Chicago:20250604T130000
DTEND;TZID=America/Chicago:20250604T140000
DTSTAMP:20260422T110404
CREATED:20250527T220203Z
LAST-MODIFIED:20250527T220203Z
UID:10011676-1749042000-1749045600@wasecalesueurlibraries.com
SUMMARY:Virtual Speakers: Brian Gratwicke and Dr. Gina Della Togna
DESCRIPTION:Extinctopedia tells a complex story\, not just of those who are extinct but also of those in greatest peril\, with explanations of what threatens their survival. It is also a story of hope—hopes for animals that have been rediscovered\, hope in the form of newly-discovered animals\, and hope that we might hear the warning call and act to preserve the amazing biodiversity of our fragile planet for future generations to come. \nYou’re invited to grab your family and friends and join us as Smithsonian scientists highlight information found in the Smithsonian’s book\, Extinctopedia: Discover what we have lost\, what is at risk\, and how we can preserve the diversity of our fragile planet. In this talk\, you will discover: \n\nAnimals that are no longer with us\nEndangered animals at risk of extinction\nOrganizations that aim to protect animal life\nStrategies for preserving biodiversity\n\nExtinctopedia provides a fascinating catalog of life on earth and encourages the reader to find ways of preserving the incredible diversity of species\, so we may all thrive and life itself can endure on this amazing and beautiful planet. \nThis event will be recorded and people who register will be emailed a link to the recording. \nRegister now. \nThis event is made possible by the Traverse des Sioux Library Cooperative. The event is held in coordination with Library Speakers Consortium and presented by Waseca-Le Sueur Regional Library System.
URL:https://wasecalesueurlibraries.com/event/virtual-speakers-brian-gratwicke-and-dr-gina-della-togna/
LOCATION:Virtual Event\, MN\, United States
CATEGORIES:Adult Events,Author Event
END:VEVENT
END:VCALENDAR