BEGIN:VCALENDAR
VERSION:2.0
PRODID:-//Waseca-Le Sueur Library - ECPv6.15.20//NONSGML v1.0//EN
CALSCALE:GREGORIAN
METHOD:PUBLISH
X-ORIGINAL-URL:https://wasecalesueurlibraries.com
X-WR-CALDESC:Events for Waseca-Le Sueur Library
REFRESH-INTERVAL;VALUE=DURATION:PT1H
X-Robots-Tag:noindex
X-PUBLISHED-TTL:PT1H
BEGIN:VTIMEZONE
TZID:America/Chicago
BEGIN:DAYLIGHT
TZOFFSETFROM:-0600
TZOFFSETTO:-0500
TZNAME:CDT
DTSTART:20240310T080000
END:DAYLIGHT
BEGIN:STANDARD
TZOFFSETFROM:-0500
TZOFFSETTO:-0600
TZNAME:CST
DTSTART:20241103T070000
END:STANDARD
BEGIN:DAYLIGHT
TZOFFSETFROM:-0600
TZOFFSETTO:-0500
TZNAME:CDT
DTSTART:20250309T080000
END:DAYLIGHT
BEGIN:STANDARD
TZOFFSETFROM:-0500
TZOFFSETTO:-0600
TZNAME:CST
DTSTART:20251102T070000
END:STANDARD
BEGIN:DAYLIGHT
TZOFFSETFROM:-0600
TZOFFSETTO:-0500
TZNAME:CDT
DTSTART:20260308T080000
END:DAYLIGHT
BEGIN:STANDARD
TZOFFSETFROM:-0500
TZOFFSETTO:-0600
TZNAME:CST
DTSTART:20261101T070000
END:STANDARD
END:VTIMEZONE
BEGIN:VEVENT
DTSTART;TZID=America/Chicago:20250602T100000
DTEND;TZID=America/Chicago:20250602T110000
DTSTAMP:20260422T081716
CREATED:20250527T155723Z
LAST-MODIFIED:20250527T155723Z
UID:10011509-1748858400-1748862000@wasecalesueurlibraries.com
SUMMARY:Reptiles around the World
DESCRIPTION:Slither around the world to meet reptiles from every continent they’re found on. Learn what a Legless Lizard is\, a gecko\, hold a large boa constrictor\, watch a snake eat\, and more! Ages 7-12. \n 
URL:https://wasecalesueurlibraries.com/event/reptiles-around-the-world/
LOCATION:Le Sueur Public Library\, 118 Ferry St\, Le Sueur\, MN\, 56058\, United States
CATEGORIES:All ages,Children's Events,Family
GEO:44.4601702;-93.9161364
X-APPLE-STRUCTURED-LOCATION;VALUE=URI;X-ADDRESS=Le Sueur Public Library 118 Ferry St Le Sueur MN 56058 United States;X-APPLE-RADIUS=500;X-TITLE=118 Ferry St:geo:-93.9161364,44.4601702
END:VEVENT
BEGIN:VEVENT
DTSTART;TZID=America/Chicago:20250602T100000
DTEND;TZID=America/Chicago:20250602T120000
DTSTAMP:20260422T081716
CREATED:20250527T181353Z
LAST-MODIFIED:20250527T181353Z
UID:10011541-1748858400-1748865600@wasecalesueurlibraries.com
SUMMARY:Summer Reading Program Kickoff
DESCRIPTION:Register for the summer reading program and enjoy fun activities. Geared for ages 3-18 and families.
URL:https://wasecalesueurlibraries.com/event/summer-reading-program-kickoff/
LOCATION:Waseca Public Library\, 408 N State St\, Waseca\, MN\, 56093\, United States
CATEGORIES:Children's Events,Teen Events,Tweens
GEO:44.0809183;-93.5069008
X-APPLE-STRUCTURED-LOCATION;VALUE=URI;X-ADDRESS=Waseca Public Library 408 N State St Waseca MN 56093 United States;X-APPLE-RADIUS=500;X-TITLE=408 N State St:geo:-93.5069008,44.0809183
END:VEVENT
BEGIN:VEVENT
DTSTART;TZID=America/Chicago:20250602T130000
DTEND;TZID=America/Chicago:20250602T140000
DTSTAMP:20260422T081716
CREATED:20250527T155854Z
LAST-MODIFIED:20250527T155854Z
UID:10011510-1748869200-1748872800@wasecalesueurlibraries.com
SUMMARY:Reptiles around the World
DESCRIPTION:Slither around the world to meet reptiles from every continent they’re found on. Learn what a Legless Lizard is\, a gecko\, hold a large boa constrictor\, watch a snake eat\, and more! Ages 7-12. \n 
URL:https://wasecalesueurlibraries.com/event/reptiles-around-the-world-2/
LOCATION:Le Center Public Library\, 10 W Tyrone St\, Le Center\, MN\, 56057\, United States
CATEGORIES:All ages,Children's Events,Family
GEO:44.3907505;-93.7316339
X-APPLE-STRUCTURED-LOCATION;VALUE=URI;X-ADDRESS=Le Center Public Library 10 W Tyrone St Le Center MN 56057 United States;X-APPLE-RADIUS=500;X-TITLE=10 W Tyrone St:geo:-93.7316339,44.3907505
END:VEVENT
BEGIN:VEVENT
DTSTART;TZID=America/Chicago:20250602T180000
DTEND;TZID=America/Chicago:20250602T190000
DTSTAMP:20260422T081716
CREATED:20250527T160013Z
LAST-MODIFIED:20250527T160013Z
UID:10011511-1748887200-1748890800@wasecalesueurlibraries.com
SUMMARY:Reptiles around the World
DESCRIPTION:Slither around the world to meet reptiles from every continent they’re found on. Learn what a Legless Lizard is\, a gecko\, hold a large boa constrictor\, watch a snake eat\, and more! Ages 7-12. \nJune 3rd 10 am Montgomery\nJune 3rd 2 pm Waterville\nJune 4th 10 am New Richland\nJune 4th 1 pm Waseca\nJune 5th 10 am Waldorf\nJune 5th 1 pm Janesville Reading Garden \n 
URL:https://wasecalesueurlibraries.com/event/reptiles-around-the-world-3/
LOCATION:Lake Francis Park\, Elysian\, MN\, 56028\, United States
CATEGORIES:All ages,Children's Events,Family
END:VEVENT
END:VCALENDAR