BEGIN:VCALENDAR
VERSION:2.0
PRODID:-//Waseca-Le Sueur Library - ECPv6.15.20//NONSGML v1.0//EN
CALSCALE:GREGORIAN
METHOD:PUBLISH
X-WR-CALNAME:Waseca-Le Sueur Library
X-ORIGINAL-URL:https://wasecalesueurlibraries.com
X-WR-CALDESC:Events for Waseca-Le Sueur Library
REFRESH-INTERVAL;VALUE=DURATION:PT1H
X-Robots-Tag:noindex
X-PUBLISHED-TTL:PT1H
BEGIN:VTIMEZONE
TZID:America/Chicago
BEGIN:DAYLIGHT
TZOFFSETFROM:-0600
TZOFFSETTO:-0500
TZNAME:CDT
DTSTART:20230312T080000
END:DAYLIGHT
BEGIN:STANDARD
TZOFFSETFROM:-0500
TZOFFSETTO:-0600
TZNAME:CST
DTSTART:20231105T070000
END:STANDARD
BEGIN:DAYLIGHT
TZOFFSETFROM:-0600
TZOFFSETTO:-0500
TZNAME:CDT
DTSTART:20240310T080000
END:DAYLIGHT
BEGIN:STANDARD
TZOFFSETFROM:-0500
TZOFFSETTO:-0600
TZNAME:CST
DTSTART:20241103T070000
END:STANDARD
BEGIN:DAYLIGHT
TZOFFSETFROM:-0600
TZOFFSETTO:-0500
TZNAME:CDT
DTSTART:20250309T080000
END:DAYLIGHT
BEGIN:STANDARD
TZOFFSETFROM:-0500
TZOFFSETTO:-0600
TZNAME:CST
DTSTART:20251102T070000
END:STANDARD
END:VTIMEZONE
BEGIN:VTIMEZONE
TZID:America/Denver
BEGIN:DAYLIGHT
TZOFFSETFROM:-0700
TZOFFSETTO:-0600
TZNAME:MDT
DTSTART:20230312T090000
END:DAYLIGHT
BEGIN:STANDARD
TZOFFSETFROM:-0600
TZOFFSETTO:-0700
TZNAME:MST
DTSTART:20231105T080000
END:STANDARD
BEGIN:DAYLIGHT
TZOFFSETFROM:-0700
TZOFFSETTO:-0600
TZNAME:MDT
DTSTART:20240310T090000
END:DAYLIGHT
BEGIN:STANDARD
TZOFFSETFROM:-0600
TZOFFSETTO:-0700
TZNAME:MST
DTSTART:20241103T080000
END:STANDARD
BEGIN:DAYLIGHT
TZOFFSETFROM:-0700
TZOFFSETTO:-0600
TZNAME:MDT
DTSTART:20250309T090000
END:DAYLIGHT
BEGIN:STANDARD
TZOFFSETFROM:-0600
TZOFFSETTO:-0700
TZNAME:MST
DTSTART:20251102T080000
END:STANDARD
END:VTIMEZONE
BEGIN:VEVENT
DTSTART;TZID=America/Chicago:20241101T153000
DTEND;TZID=America/Chicago:20241101T163000
DTSTAMP:20260424T093618
CREATED:20240826T200128Z
LAST-MODIFIED:20241030T212738Z
UID:10010961-1730475000-1730478600@wasecalesueurlibraries.com
SUMMARY:Baby Lapsit Romp and Rhyme Story Time
DESCRIPTION:Waldorf Public Library holds Romp and Rhyme storytimes for ages 0-3 on Fridays at 3:30 pm. From puppets to pumping music\, from bubble machines to banging bands\, these are not your average story time. The Library uses movement\, STEAM activities\, curiosity\, imaginative play\, and active learning to keep kids engaged. Free and open to the public.
URL:https://wasecalesueurlibraries.com/event/baby-lapsit-romp-and-rhyme-story-time-4/2024-11-01/
LOCATION:Waldorf Public Library\, 119 S Main St\, Waldorf\, MN\, 56091\, United States
CATEGORIES:Children's Events,Teen Events
GEO:43.9365286;-93.697592
X-APPLE-STRUCTURED-LOCATION;VALUE=URI;X-ADDRESS=Waldorf Public Library 119 S Main St Waldorf MN 56091 United States;X-APPLE-RADIUS=500;X-TITLE=119 S Main St:geo:-93.697592,43.9365286
END:VEVENT
BEGIN:VEVENT
DTSTART;TZID=America/Denver:20241101T183000
DTEND;TZID=America/Denver:20241101T193000
DTSTAMP:20260424T093618
CREATED:20220519T125046Z
LAST-MODIFIED:20241204T195631Z
UID:10007640-1730485800-1730489400@wasecalesueurlibraries.com
SUMMARY:Pie & Puzzles
DESCRIPTION:Assemble a team of up to 4 players to compete in a jigsaw puzzle competition. The first team to complete the puzzle wins a prize (and bragging rights)! Registration required. \nSponsored by Friends of the Le Sueur Public Library \n  \n 
URL:https://wasecalesueurlibraries.com/event/pie-puzzles/2024-11-01/
LOCATION:Le Sueur Public Library\, 118 Ferry St\, Le Sueur\, MN\, 56058\, United States
CATEGORIES:Adult Events
GEO:44.4601702;-93.9161364
X-APPLE-STRUCTURED-LOCATION;VALUE=URI;X-ADDRESS=Le Sueur Public Library 118 Ferry St Le Sueur MN 56058 United States;X-APPLE-RADIUS=500;X-TITLE=118 Ferry St:geo:-93.9161364,44.4601702
END:VEVENT
END:VCALENDAR