BEGIN:VCALENDAR
VERSION:2.0
PRODID:-//Waseca-Le Sueur Library - ECPv6.15.20//NONSGML v1.0//EN
CALSCALE:GREGORIAN
METHOD:PUBLISH
X-WR-CALNAME:Waseca-Le Sueur Library
X-ORIGINAL-URL:https://wasecalesueurlibraries.com
X-WR-CALDESC:Events for Waseca-Le Sueur Library
REFRESH-INTERVAL;VALUE=DURATION:PT1H
X-Robots-Tag:noindex
X-PUBLISHED-TTL:PT1H
BEGIN:VTIMEZONE
TZID:America/Chicago
BEGIN:DAYLIGHT
TZOFFSETFROM:-0600
TZOFFSETTO:-0500
TZNAME:CDT
DTSTART:20230312T080000
END:DAYLIGHT
BEGIN:STANDARD
TZOFFSETFROM:-0500
TZOFFSETTO:-0600
TZNAME:CST
DTSTART:20231105T070000
END:STANDARD
BEGIN:DAYLIGHT
TZOFFSETFROM:-0600
TZOFFSETTO:-0500
TZNAME:CDT
DTSTART:20240310T080000
END:DAYLIGHT
BEGIN:STANDARD
TZOFFSETFROM:-0500
TZOFFSETTO:-0600
TZNAME:CST
DTSTART:20241103T070000
END:STANDARD
BEGIN:DAYLIGHT
TZOFFSETFROM:-0600
TZOFFSETTO:-0500
TZNAME:CDT
DTSTART:20250309T080000
END:DAYLIGHT
BEGIN:STANDARD
TZOFFSETFROM:-0500
TZOFFSETTO:-0600
TZNAME:CST
DTSTART:20251102T070000
END:STANDARD
END:VTIMEZONE
BEGIN:VEVENT
DTSTART;TZID=America/Chicago:20240926T093000
DTEND;TZID=America/Chicago:20240926T103000
DTSTAMP:20260420T200531
CREATED:20240826T195915Z
LAST-MODIFIED:20240826T195915Z
UID:10010949-1727343000-1727346600@wasecalesueurlibraries.com
SUMMARY:Romp and Rhyme Story Time
DESCRIPTION:Janesville Public Library holds Romp and Rhyme story times on Thursdays at 9:30 am. From puppets to pumping music\, from bubble machines to banging bands\, these are not your average story time. The Library uses movement\, STEAM activities\, curiosity\, imaginative play\, and active learning to keep kids engaged. Free and open to the public.
URL:https://wasecalesueurlibraries.com/event/romp-and-rhyme-story-time-97/2024-09-26/
LOCATION:Janesville Public Library\, 100 W 2nd St\, Janesville\, MN\, 56048\, United States
CATEGORIES:Children's Events,Story Times
GEO:44.1173302;-93.7075406
X-APPLE-STRUCTURED-LOCATION;VALUE=URI;X-ADDRESS=Janesville Public Library 100 W 2nd St Janesville MN 56048 United States;X-APPLE-RADIUS=500;X-TITLE=100 W 2nd St:geo:-93.7075406,44.1173302
END:VEVENT
BEGIN:VEVENT
DTSTART;TZID=America/Chicago:20240926T153000
DTEND;TZID=America/Chicago:20240926T163000
DTSTAMP:20260420T200531
CREATED:20240826T193348Z
LAST-MODIFIED:20240826T193348Z
UID:10010897-1727364600-1727368200@wasecalesueurlibraries.com
SUMMARY:Magic Tree House Party
DESCRIPTION:Join Master Librarians Jack and Annie as they travel through time for adventures with dinosaurs\, knights\, mummies\, pirates\, and ninjas. Ages 7-12. \n 
URL:https://wasecalesueurlibraries.com/event/magic-tree-house-party/
LOCATION:Le Center Public Library\, 10 W Tyrone St\, Le Center\, MN\, 56057\, United States
CATEGORIES:Children's Events
GEO:44.3907505;-93.7316339
X-APPLE-STRUCTURED-LOCATION;VALUE=URI;X-ADDRESS=Le Center Public Library 10 W Tyrone St Le Center MN 56057 United States;X-APPLE-RADIUS=500;X-TITLE=10 W Tyrone St:geo:-93.7316339,44.3907505
END:VEVENT
BEGIN:VEVENT
DTSTART;TZID=America/Chicago:20240926T163000
DTEND;TZID=America/Chicago:20240926T190000
DTSTAMP:20260420T200531
CREATED:20240826T192518Z
LAST-MODIFIED:20240826T192518Z
UID:10008860-1727368200-1727377200@wasecalesueurlibraries.com
SUMMARY:Family Literacy Fair
DESCRIPTION:Join Le Sueur Public Library and Le Sueur Community Education as we celebrate the love of reading and the importance of literacy in developing minds. Enjoy a free meal\, bounce house\, free books\, and more. Learn more about local literacy efforts and resources to help area families and kids embrace the love of reading! \nSponsored by City of Le Sueur\, Friends of the Le Sueur Public Library\, and Cambria \n 
URL:https://wasecalesueurlibraries.com/event/family-literacy-fair/
LOCATION:Le Sueur Public Library\, 118 Ferry St\, Le Sueur\, MN\, 56058\, United States
CATEGORIES:Children's Events,Family
GEO:44.4601702;-93.9161364
X-APPLE-STRUCTURED-LOCATION;VALUE=URI;X-ADDRESS=Le Sueur Public Library 118 Ferry St Le Sueur MN 56058 United States;X-APPLE-RADIUS=500;X-TITLE=118 Ferry St:geo:-93.9161364,44.4601702
END:VEVENT
BEGIN:VEVENT
DTSTART;TZID=America/Chicago:20240926T170000
DTEND;TZID=America/Chicago:20240926T180000
DTSTAMP:20260420T200531
CREATED:20240826T201147Z
LAST-MODIFIED:20240826T201147Z
UID:10010970-1727370000-1727373600@wasecalesueurlibraries.com
SUMMARY:True Crime Club
DESCRIPTION:Use your investigative abilities to reopen the murder of Veronica Falcone case by proving Veronica didn’t die the way investigators claimed. Then find the victim’s body and identify the killer to close this case for good. This 2-part event is exclusively for ages 13-18. \nSeptember 19th\, 26th              5 pm                   Montgomery \n 
URL:https://wasecalesueurlibraries.com/event/true-crime-club/2024-09-26/
LOCATION:Montgomery Public Library\, 104 Oak Ave SE\, Montgomery\, MN\, 56069\, United States
CATEGORIES:Teen Events
GEO:44.4355889;-93.5810028
X-APPLE-STRUCTURED-LOCATION;VALUE=URI;X-ADDRESS=Montgomery Public Library 104 Oak Ave SE Montgomery MN 56069 United States;X-APPLE-RADIUS=500;X-TITLE=104 Oak Ave SE:geo:-93.5810028,44.4355889
END:VEVENT
END:VCALENDAR