BEGIN:VCALENDAR
VERSION:2.0
PRODID:-//Waseca-Le Sueur Library - ECPv6.15.20//NONSGML v1.0//EN
CALSCALE:GREGORIAN
METHOD:PUBLISH
X-ORIGINAL-URL:https://wasecalesueurlibraries.com
X-WR-CALDESC:Events for Waseca-Le Sueur Library
REFRESH-INTERVAL;VALUE=DURATION:PT1H
X-Robots-Tag:noindex
X-PUBLISHED-TTL:PT1H
BEGIN:VTIMEZONE
TZID:America/Chicago
BEGIN:DAYLIGHT
TZOFFSETFROM:-0600
TZOFFSETTO:-0500
TZNAME:CDT
DTSTART:20230312T080000
END:DAYLIGHT
BEGIN:STANDARD
TZOFFSETFROM:-0500
TZOFFSETTO:-0600
TZNAME:CST
DTSTART:20231105T070000
END:STANDARD
BEGIN:DAYLIGHT
TZOFFSETFROM:-0600
TZOFFSETTO:-0500
TZNAME:CDT
DTSTART:20240310T080000
END:DAYLIGHT
BEGIN:STANDARD
TZOFFSETFROM:-0500
TZOFFSETTO:-0600
TZNAME:CST
DTSTART:20241103T070000
END:STANDARD
BEGIN:DAYLIGHT
TZOFFSETFROM:-0600
TZOFFSETTO:-0500
TZNAME:CDT
DTSTART:20250309T080000
END:DAYLIGHT
BEGIN:STANDARD
TZOFFSETFROM:-0500
TZOFFSETTO:-0600
TZNAME:CST
DTSTART:20251102T070000
END:STANDARD
END:VTIMEZONE
BEGIN:VEVENT
DTSTART;TZID=America/Chicago:20240725T130000
DTEND;TZID=America/Chicago:20240725T140000
DTSTAMP:20260420T131534
CREATED:20240702T135446Z
LAST-MODIFIED:20240702T135446Z
UID:10008800-1721912400-1721916000@wasecalesueurlibraries.com
SUMMARY:Smoothie Shuffle and Games Galore
DESCRIPTION:Unleash your inner mixologist to experiment with various combinations of fruit\, yogurt\, & juices. Then dive into a friendly competition with a board or card game. Ages 13-18. \nRegistration required. Register now! \nSponsored by the Friends of the Le Sueur Public Library\, United Fund of Le Sueur\, Treasures in Town\, Le Sueur Lions Club\, Manke Foundation\, and Le Sueur Rotary Club. \n 
URL:https://wasecalesueurlibraries.com/event/smoothie-shuffle-and-games-galore/
LOCATION:Le Sueur Public Library\, 118 Ferry St\, Le Sueur\, MN\, 56058\, United States
CATEGORIES:Teen Events
GEO:44.4601702;-93.9161364
X-APPLE-STRUCTURED-LOCATION;VALUE=URI;X-ADDRESS=Le Sueur Public Library 118 Ferry St Le Sueur MN 56058 United States;X-APPLE-RADIUS=500;X-TITLE=118 Ferry St:geo:-93.9161364,44.4601702
END:VEVENT
BEGIN:VEVENT
DTSTART;TZID=America/Chicago:20240725T140000
DTEND;TZID=America/Chicago:20240725T150000
DTSTAMP:20260420T131534
CREATED:20240701T210357Z
LAST-MODIFIED:20240701T210357Z
UID:10010820-1721916000-1721919600@wasecalesueurlibraries.com
SUMMARY:The Secret Science of Cotton Candy
DESCRIPTION:What is cotton candy made of? How do you spin sugar? Why is it sticky? Learn this and more (while you sample your self-spun cotton candy). Ages 9-12.
URL:https://wasecalesueurlibraries.com/event/the-secret-science-of-cotton-candy-8/
LOCATION:New Richland Public Library\, 129 Broadway Ave S\, New Richland\, MN\, 56072\, United States
CATEGORIES:Children's Events
GEO:43.8935599;-93.4938211
X-APPLE-STRUCTURED-LOCATION;VALUE=URI;X-ADDRESS=New Richland Public Library 129 Broadway Ave S New Richland MN 56072 United States;X-APPLE-RADIUS=500;X-TITLE=129 Broadway Ave S:geo:-93.4938211,43.8935599
END:VEVENT
BEGIN:VEVENT
DTSTART;TZID=America/Chicago:20240725T170000
DTEND;TZID=America/Chicago:20240725T180000
DTSTAMP:20260420T131534
CREATED:20240702T011425Z
LAST-MODIFIED:20240702T011425Z
UID:10008767-1721926800-1721930400@wasecalesueurlibraries.com
SUMMARY:Star Wars Trivia
DESCRIPTION:Rebels and Jedi: may the force be with you as you test your knowledge of Star Wars! Teams of up to 4 will be competing. All ages\, geared for families.
URL:https://wasecalesueurlibraries.com/event/star-wars-trivia-4/
LOCATION:Montgomery Public Library\, 104 Oak Ave SE\, Montgomery\, MN\, 56069\, United States
CATEGORIES:Children's Events
GEO:44.4355889;-93.5810028
X-APPLE-STRUCTURED-LOCATION;VALUE=URI;X-ADDRESS=Montgomery Public Library 104 Oak Ave SE Montgomery MN 56069 United States;X-APPLE-RADIUS=500;X-TITLE=104 Oak Ave SE:geo:-93.5810028,44.4355889
END:VEVENT
BEGIN:VEVENT
DTSTART;TZID=America/Chicago:20240725T180000
DTEND;TZID=America/Chicago:20240725T190000
DTSTAMP:20260420T131534
CREATED:20240701T203648Z
LAST-MODIFIED:20240702T142836Z
UID:10008755-1721930400-1721934000@wasecalesueurlibraries.com
SUMMARY:Flower Arranging
DESCRIPTION:Florist Miranda will share tricks and tips on how to create the perfect arrangement with seasonal blooms. Create your own masterpiece to keep. Geared for adults. \nRegistration required. Register now! \nSponsored by Friends of the Le Sueur Public Library \n 
URL:https://wasecalesueurlibraries.com/event/flower-arranging/
LOCATION:Le Sueur Public Library\, 118 Ferry St\, Le Sueur\, MN\, 56058\, United States
CATEGORIES:Adult Events
GEO:44.4601702;-93.9161364
X-APPLE-STRUCTURED-LOCATION;VALUE=URI;X-ADDRESS=Le Sueur Public Library 118 Ferry St Le Sueur MN 56058 United States;X-APPLE-RADIUS=500;X-TITLE=118 Ferry St:geo:-93.9161364,44.4601702
END:VEVENT
BEGIN:VEVENT
DTSTART;TZID=America/Chicago:20240725T183000
DTEND;TZID=America/Chicago:20240725T193000
DTSTAMP:20260420T131534
CREATED:20240701T205030Z
LAST-MODIFIED:20240701T205030Z
UID:10010812-1721932200-1721935800@wasecalesueurlibraries.com
SUMMARY:Lego Contest
DESCRIPTION:Create your best Kolacky Days Button idea out of LEGOs. Stop by the Library for the Entry Form and Contest Guidelines. Age range categories: 6 & under\, 7 to 12 years old\, and 13 years and older. \nSponsored by Montgomery Area Community Club\nA Kolacky Days Events \n 
URL:https://wasecalesueurlibraries.com/event/lego-contest/
LOCATION:Montgomery Public Library\, 104 Oak Ave SE\, Montgomery\, MN\, 56069\, United States
CATEGORIES:Adult Events,All ages,Children's Events,Family,Teen Events
GEO:44.4355889;-93.5810028
X-APPLE-STRUCTURED-LOCATION;VALUE=URI;X-ADDRESS=Montgomery Public Library 104 Oak Ave SE Montgomery MN 56069 United States;X-APPLE-RADIUS=500;X-TITLE=104 Oak Ave SE:geo:-93.5810028,44.4355889
END:VEVENT
END:VCALENDAR