BEGIN:VCALENDAR
VERSION:2.0
PRODID:-//Waseca-Le Sueur Library - ECPv6.15.20//NONSGML v1.0//EN
CALSCALE:GREGORIAN
METHOD:PUBLISH
X-ORIGINAL-URL:https://wasecalesueurlibraries.com
X-WR-CALDESC:Events for Waseca-Le Sueur Library
REFRESH-INTERVAL;VALUE=DURATION:PT1H
X-Robots-Tag:noindex
X-PUBLISHED-TTL:PT1H
BEGIN:VTIMEZONE
TZID:America/Chicago
BEGIN:DAYLIGHT
TZOFFSETFROM:-0600
TZOFFSETTO:-0500
TZNAME:CDT
DTSTART:20230312T080000
END:DAYLIGHT
BEGIN:STANDARD
TZOFFSETFROM:-0500
TZOFFSETTO:-0600
TZNAME:CST
DTSTART:20231105T070000
END:STANDARD
BEGIN:DAYLIGHT
TZOFFSETFROM:-0600
TZOFFSETTO:-0500
TZNAME:CDT
DTSTART:20240310T080000
END:DAYLIGHT
BEGIN:STANDARD
TZOFFSETFROM:-0500
TZOFFSETTO:-0600
TZNAME:CST
DTSTART:20241103T070000
END:STANDARD
BEGIN:DAYLIGHT
TZOFFSETFROM:-0600
TZOFFSETTO:-0500
TZNAME:CDT
DTSTART:20250309T080000
END:DAYLIGHT
BEGIN:STANDARD
TZOFFSETFROM:-0500
TZOFFSETTO:-0600
TZNAME:CST
DTSTART:20251102T070000
END:STANDARD
END:VTIMEZONE
BEGIN:VEVENT
DTSTART;VALUE=DATE:20240712
DTEND;VALUE=DATE:20240718
DTSTAMP:20260420T091143
CREATED:20240702T135156Z
LAST-MODIFIED:20240702T135156Z
UID:10008796-1720742400-1721260799@wasecalesueurlibraries.com
SUMMARY:Tiny Library
DESCRIPTION:Join us for a creative and literary exploration as we craft mini books—customized to include your favorites. Ages 13-18. \n 
URL:https://wasecalesueurlibraries.com/event/tiny-library-3/
LOCATION:Waterville Public Library\, 210 Paquin St\, Waterville\, MN\, 56096\, United States
CATEGORIES:Teen Events
GEO:44.2177999;-93.5709706
X-APPLE-STRUCTURED-LOCATION;VALUE=URI;X-ADDRESS=Waterville Public Library 210 Paquin St Waterville MN 56096 United States;X-APPLE-RADIUS=500;X-TITLE=210 Paquin St:geo:-93.5709706,44.2177999
END:VEVENT
BEGIN:VEVENT
DTSTART;TZID=America/Chicago:20240715T090000
DTEND;TZID=America/Chicago:20240715T203000
DTSTAMP:20260420T091143
CREATED:20240701T203745Z
LAST-MODIFIED:20240701T203745Z
UID:10008757-1721034000-1721075400@wasecalesueurlibraries.com
SUMMARY:Creative Cafe
DESCRIPTION:Instead of ordering food\, choose from a selection of creative activities. Geared for adults. Open while supplies last
URL:https://wasecalesueurlibraries.com/event/creative-cafe-4/
LOCATION:Waseca Public Library\, 408 N State St\, Waseca\, MN\, 56093\, United States
CATEGORIES:Adult Events
GEO:44.0809183;-93.5069008
X-APPLE-STRUCTURED-LOCATION;VALUE=URI;X-ADDRESS=Waseca Public Library 408 N State St Waseca MN 56093 United States;X-APPLE-RADIUS=500;X-TITLE=408 N State St:geo:-93.5069008,44.0809183
END:VEVENT
BEGIN:VEVENT
DTSTART;TZID=America/Chicago:20240715T091500
DTEND;TZID=America/Chicago:20240715T103000
DTSTAMP:20260420T091143
CREATED:20240701T202823Z
LAST-MODIFIED:20240701T202823Z
UID:10008747-1721034900-1721039400@wasecalesueurlibraries.com
SUMMARY:RADZoo
DESCRIPTION:The Reptile and Amphibian Discovery Zoo will introduce kids to a variety of reptiles and amphibians in this highly informative and interactive event. All ages. \nSponsored by TCU Community Education and Friends of the Le Center Public Library \n 
URL:https://wasecalesueurlibraries.com/event/radzoo-11/2024-07-15/1/
LOCATION:TCU Middle School Gym\, 101 2nd Street NE\, Montgomery\, MN\, 56069\, United States
CATEGORIES:Children's Events,Family
END:VEVENT
BEGIN:VEVENT
DTSTART;TZID=America/Chicago:20240715T100000
DTEND;TZID=America/Chicago:20240715T110000
DTSTAMP:20260420T091143
CREATED:20240701T210306Z
LAST-MODIFIED:20240701T210306Z
UID:10010819-1721037600-1721041200@wasecalesueurlibraries.com
SUMMARY:The Secret Science of Cotton Candy
DESCRIPTION:What is cotton candy made of? How do you spin sugar? Why is it sticky? Learn this and more (while you sample your self-spun cotton candy). Ages 9-12.
URL:https://wasecalesueurlibraries.com/event/the-secret-science-of-cotton-candy-7/
LOCATION:Waseca Public Library\, 408 N State St\, Waseca\, MN\, 56093\, United States
CATEGORIES:Children's Events
GEO:44.0809183;-93.5069008
X-APPLE-STRUCTURED-LOCATION;VALUE=URI;X-ADDRESS=Waseca Public Library 408 N State St Waseca MN 56093 United States;X-APPLE-RADIUS=500;X-TITLE=408 N State St:geo:-93.5069008,44.0809183
END:VEVENT
BEGIN:VEVENT
DTSTART;TZID=America/Chicago:20240715T103000
DTEND;TZID=America/Chicago:20240715T113000
DTSTAMP:20260420T091143
CREATED:20240701T202823Z
LAST-MODIFIED:20240701T202823Z
UID:10008748-1721039400-1721043000@wasecalesueurlibraries.com
SUMMARY:RADZoo
DESCRIPTION:The Reptile and Amphibian Discovery Zoo will introduce kids to a variety of reptiles and amphibians in this highly informative and interactive event. All ages. \nSponsored by TCU Community Education and Friends of the Le Center Public Library \n 
URL:https://wasecalesueurlibraries.com/event/radzoo-11/2024-07-15/2/
LOCATION:TCU Middle School Gym\, 101 2nd Street NE\, Montgomery\, MN\, 56069\, United States
CATEGORIES:Children's Events,Family
END:VEVENT
BEGIN:VEVENT
DTSTART;TZID=America/Chicago:20240715T140000
DTEND;TZID=America/Chicago:20240715T150000
DTSTAMP:20260420T091143
CREATED:20240702T014108Z
LAST-MODIFIED:20240702T014108Z
UID:10010828-1721052000-1721055600@wasecalesueurlibraries.com
SUMMARY:Sesame Street Party
DESCRIPTION:Come on down to where the air is sweet to enjoy games and activities inspired by Sesame Street characters. Ages 3-6.
URL:https://wasecalesueurlibraries.com/event/sesame-street-party-9/
LOCATION:Le Center Public Library\, 10 W Tyrone St\, Le Center\, MN\, 56057\, United States
CATEGORIES:Children's Events
GEO:44.3907505;-93.7316339
X-APPLE-STRUCTURED-LOCATION;VALUE=URI;X-ADDRESS=Le Center Public Library 10 W Tyrone St Le Center MN 56057 United States;X-APPLE-RADIUS=500;X-TITLE=10 W Tyrone St:geo:-93.7316339,44.3907505
END:VEVENT
BEGIN:VEVENT
DTSTART;TZID=America/Chicago:20240715T143000
DTEND;TZID=America/Chicago:20240715T153000
DTSTAMP:20260420T091143
CREATED:20240702T135926Z
LAST-MODIFIED:20240702T135926Z
UID:10008809-1721053800-1721057400@wasecalesueurlibraries.com
SUMMARY:Books and Bingo
DESCRIPTION:Win Bingo to bring home a free book of your choosing. The final Blackout game will win a free book and a gift card. Ages 6-18\, Kids 3-5 welcome with an adult. \nSponsored by Friends of the New Richland Public Library \n 
URL:https://wasecalesueurlibraries.com/event/books-and-bingo/
LOCATION:New Richland Public Library\, 129 Broadway Ave S\, New Richland\, MN\, 56072\, United States
CATEGORIES:Children's Events,Teen Events,Tweens
GEO:43.8935599;-93.4938211
X-APPLE-STRUCTURED-LOCATION;VALUE=URI;X-ADDRESS=New Richland Public Library 129 Broadway Ave S New Richland MN 56072 United States;X-APPLE-RADIUS=500;X-TITLE=129 Broadway Ave S:geo:-93.4938211,43.8935599
END:VEVENT
BEGIN:VEVENT
DTSTART;TZID=America/Chicago:20240715T180000
DTEND;TZID=America/Chicago:20240715T190000
DTSTAMP:20260420T091143
CREATED:20240701T204344Z
LAST-MODIFIED:20240701T204344Z
UID:10010805-1721066400-1721070000@wasecalesueurlibraries.com
SUMMARY:Jigsaw Puzzle Derby
DESCRIPTION:Assemble a team of up to 4 players to compete in a puzzle competition. The first team to complete the puzzle wins a prize (and bragging rights)! Registration required. Geared for adults. \nPrizes sponsored by Friends of the Library \n 
URL:https://wasecalesueurlibraries.com/event/jigsaw-puzzle-derby-39/
LOCATION:Janesville Public Library\, 100 W 2nd St\, Janesville\, MN\, 56048\, United States
CATEGORIES:Adult Events
GEO:44.1173302;-93.7075406
X-APPLE-STRUCTURED-LOCATION;VALUE=URI;X-ADDRESS=Janesville Public Library 100 W 2nd St Janesville MN 56048 United States;X-APPLE-RADIUS=500;X-TITLE=100 W 2nd St:geo:-93.7075406,44.1173302
END:VEVENT
END:VCALENDAR