BEGIN:VCALENDAR
VERSION:2.0
PRODID:-//Waseca-Le Sueur Library - ECPv6.15.20//NONSGML v1.0//EN
CALSCALE:GREGORIAN
METHOD:PUBLISH
X-ORIGINAL-URL:https://wasecalesueurlibraries.com
X-WR-CALDESC:Events for Waseca-Le Sueur Library
REFRESH-INTERVAL;VALUE=DURATION:PT1H
X-Robots-Tag:noindex
X-PUBLISHED-TTL:PT1H
BEGIN:VTIMEZONE
TZID:America/Chicago
BEGIN:DAYLIGHT
TZOFFSETFROM:-0600
TZOFFSETTO:-0500
TZNAME:CDT
DTSTART:20230312T080000
END:DAYLIGHT
BEGIN:STANDARD
TZOFFSETFROM:-0500
TZOFFSETTO:-0600
TZNAME:CST
DTSTART:20231105T070000
END:STANDARD
BEGIN:DAYLIGHT
TZOFFSETFROM:-0600
TZOFFSETTO:-0500
TZNAME:CDT
DTSTART:20240310T080000
END:DAYLIGHT
BEGIN:STANDARD
TZOFFSETFROM:-0500
TZOFFSETTO:-0600
TZNAME:CST
DTSTART:20241103T070000
END:STANDARD
BEGIN:DAYLIGHT
TZOFFSETFROM:-0600
TZOFFSETTO:-0500
TZNAME:CDT
DTSTART:20250309T080000
END:DAYLIGHT
BEGIN:STANDARD
TZOFFSETFROM:-0500
TZOFFSETTO:-0600
TZNAME:CST
DTSTART:20251102T070000
END:STANDARD
END:VTIMEZONE
BEGIN:VEVENT
DTSTART;VALUE=DATE:20240708
DTEND;VALUE=DATE:20240714
DTSTAMP:20260420T054045
CREATED:20240701T204713Z
LAST-MODIFIED:20240701T204713Z
UID:10010811-1720396800-1720915199@wasecalesueurlibraries.com
SUMMARY:Lego Screenprinting
DESCRIPTION:Use Legos to create a unique picture. Ages 8-12. \n 
URL:https://wasecalesueurlibraries.com/event/lego-screenprinting-6/
LOCATION:Elysian Public Library\, 202 E Main St\, Elysian\, MN\, 56028\, United States
CATEGORIES:Children's Events
GEO:44.198703;-93.6724641
X-APPLE-STRUCTURED-LOCATION;VALUE=URI;X-ADDRESS=Elysian Public Library 202 E Main St Elysian MN 56028 United States;X-APPLE-RADIUS=500;X-TITLE=202 E Main St:geo:-93.6724641,44.198703
END:VEVENT
BEGIN:VEVENT
DTSTART;TZID=America/Chicago:20240709T100000
DTEND;TZID=America/Chicago:20240709T110000
DTSTAMP:20260420T054045
CREATED:20240501T172526Z
LAST-MODIFIED:20240530T175859Z
UID:10010708-1720519200-1720522800@wasecalesueurlibraries.com
SUMMARY:Romp and Rhyme Story Time
DESCRIPTION:Le Center Public Library holds Romp and Rhyme story times on Tuesdays at 10 am. From puppets to pumping music\, from bubble machines to banging bands\, these are not your average story time. The Library uses movement\, STEAM activities\, curiosity\, imaginative play\, and active learning to keep kids engaged. Free and open to the public.
URL:https://wasecalesueurlibraries.com/event/12444/2024-07-09/
LOCATION:Le Center Public Library\, 10 W Tyrone St\, Le Center\, MN\, 56057\, United States
CATEGORIES:Children's Events,Story Times
GEO:44.3907505;-93.7316339
X-APPLE-STRUCTURED-LOCATION;VALUE=URI;X-ADDRESS=Le Center Public Library 10 W Tyrone St Le Center MN 56057 United States;X-APPLE-RADIUS=500;X-TITLE=10 W Tyrone St:geo:-93.7316339,44.3907505
END:VEVENT
BEGIN:VEVENT
DTSTART;TZID=America/Chicago:20240709T130000
DTEND;TZID=America/Chicago:20240709T140000
DTSTAMP:20260420T054045
CREATED:20240702T133517Z
LAST-MODIFIED:20240702T133517Z
UID:10010843-1720530000-1720533600@wasecalesueurlibraries.com
SUMMARY:Giant Sorry and Yahtzee
DESCRIPTION:Turn up the notch on your favorite games with these oversized versions. Ages 13-18. \n 
URL:https://wasecalesueurlibraries.com/event/giant-sorry-and-yahtzee-2/
LOCATION:Waseca Public Library\, 408 N State St\, Waseca\, MN\, 56093\, United States
CATEGORIES:Teen Events
GEO:44.0809183;-93.5069008
X-APPLE-STRUCTURED-LOCATION;VALUE=URI;X-ADDRESS=Waseca Public Library 408 N State St Waseca MN 56093 United States;X-APPLE-RADIUS=500;X-TITLE=408 N State St:geo:-93.5069008,44.0809183
END:VEVENT
BEGIN:VEVENT
DTSTART;TZID=America/Chicago:20240709T130000
DTEND;TZID=America/Chicago:20240709T140000
DTSTAMP:20260420T054045
CREATED:20240702T140251Z
LAST-MODIFIED:20240702T140313Z
UID:10008810-1720530000-1720533600@wasecalesueurlibraries.com
SUMMARY:Virtual Author Event: Kate DiCamillo
DESCRIPTION:Join us for a visit to Deckawoo Drive with everyone’s favorite adventure loving pig\, Mercy Watson! Newbery Medal winning author Kate DiCamillo will be sharing the stories behind the creation of her early chapter book series\, the original Mercy Watson\, and the follow up series\, Tales from Deckawoo Drive. We will also be celebrating the publication of the final book in the Mercy Watson series! \nMercy is selfish and impulsive\, but no matter how much trouble she gets in\, Mr. and Mrs. Watson continue to love her and see her in the best possible light. Young readers love to join along in her hilarious adventures\, taking comfort in the fact that their parents and guardians will love them no matter what as well. BYOBT – Bring Your Own Buttered Toast! \nKate DiCamillo is the award-winning author of over 30 books for children. She served as the 2014-2015 National Ambassador for Young People’s Literature\, appointed by the Library of Congress. Several of her books have been turned into movies\, and one was even adapted as an opera. She grew up in Florida and currently lives in Minnesota. \nThis event will be recorded and people who register will be emailed a link to the recording. \nRegister now. \nThis event is made possible by the voters of Minnesota through a grant provided by the Traverse des Sioux Library Cooperative\, thanks to a legislative appropriation from the arts and cultural heritage fund. The event is held in coordination with Library Speakers Consortium and presented by Waseca-Le Sueur Regional Library System.
URL:https://wasecalesueurlibraries.com/event/12970/
LOCATION:Virtual Event\, MN\, United States
CATEGORIES:Author Event,Children's Events
END:VEVENT
BEGIN:VEVENT
DTSTART;TZID=America/Chicago:20240709T170000
DTEND;TZID=America/Chicago:20240709T180000
DTSTAMP:20260420T054045
CREATED:20240701T204024Z
LAST-MODIFIED:20240701T204024Z
UID:10008763-1720544400-1720548000@wasecalesueurlibraries.com
SUMMARY:Laser-Engraved Leather Keychains
DESCRIPTION:Craft a personalized keychain. The precision and versatility of laser engraving technology creates great results! Geared for adults. \nSponsored by Janesville Area Foundation \n 
URL:https://wasecalesueurlibraries.com/event/laser-engraved-leather-keychains/
LOCATION:Janesville Public Library\, 100 W 2nd St\, Janesville\, MN\, 56048\, United States
CATEGORIES:Adult Events
GEO:44.1173302;-93.7075406
X-APPLE-STRUCTURED-LOCATION;VALUE=URI;X-ADDRESS=Janesville Public Library 100 W 2nd St Janesville MN 56048 United States;X-APPLE-RADIUS=500;X-TITLE=100 W 2nd St:geo:-93.7075406,44.1173302
END:VEVENT
BEGIN:VEVENT
DTSTART;TZID=America/Chicago:20240709T173000
DTEND;TZID=America/Chicago:20240709T183000
DTSTAMP:20260420T054045
CREATED:20240702T011931Z
LAST-MODIFIED:20240702T011931Z
UID:10008770-1720546200-1720549800@wasecalesueurlibraries.com
SUMMARY:Indiana Jones and the Book of Destiny
DESCRIPTION:Collect clues to solve a mystery on behalf of Indiana Jones. You will be tested as you race to find The Book of Destiny before your enemies. Ages 6-10. \nJuly 8th 10 am Waseca\nJuly 9th 5:30 pm Waseca
URL:https://wasecalesueurlibraries.com/event/indiana-jones-and-the-book-of-destiny-3/2024-07-09/
LOCATION:Waseca Public Library\, 408 N State St\, Waseca\, MN\, 56093\, United States
CATEGORIES:Children's Events
GEO:44.0809183;-93.5069008
X-APPLE-STRUCTURED-LOCATION;VALUE=URI;X-ADDRESS=Waseca Public Library 408 N State St Waseca MN 56093 United States;X-APPLE-RADIUS=500;X-TITLE=408 N State St:geo:-93.5069008,44.0809183
END:VEVENT
END:VCALENDAR