BEGIN:VCALENDAR
VERSION:2.0
PRODID:-//Waseca-Le Sueur Library - ECPv6.15.20//NONSGML v1.0//EN
CALSCALE:GREGORIAN
METHOD:PUBLISH
X-WR-CALNAME:Waseca-Le Sueur Library
X-ORIGINAL-URL:https://wasecalesueurlibraries.com
X-WR-CALDESC:Events for Waseca-Le Sueur Library
REFRESH-INTERVAL;VALUE=DURATION:PT1H
X-Robots-Tag:noindex
X-PUBLISHED-TTL:PT1H
BEGIN:VTIMEZONE
TZID:America/Chicago
BEGIN:DAYLIGHT
TZOFFSETFROM:-0600
TZOFFSETTO:-0500
TZNAME:CDT
DTSTART:20230312T080000
END:DAYLIGHT
BEGIN:STANDARD
TZOFFSETFROM:-0500
TZOFFSETTO:-0600
TZNAME:CST
DTSTART:20231105T070000
END:STANDARD
BEGIN:DAYLIGHT
TZOFFSETFROM:-0600
TZOFFSETTO:-0500
TZNAME:CDT
DTSTART:20240310T080000
END:DAYLIGHT
BEGIN:STANDARD
TZOFFSETFROM:-0500
TZOFFSETTO:-0600
TZNAME:CST
DTSTART:20241103T070000
END:STANDARD
BEGIN:DAYLIGHT
TZOFFSETFROM:-0600
TZOFFSETTO:-0500
TZNAME:CDT
DTSTART:20250309T080000
END:DAYLIGHT
BEGIN:STANDARD
TZOFFSETFROM:-0500
TZOFFSETTO:-0600
TZNAME:CST
DTSTART:20251102T070000
END:STANDARD
END:VTIMEZONE
BEGIN:VEVENT
DTSTART;TZID=America/Chicago:20240702T090000
DTEND;TZID=America/Chicago:20240702T120000
DTSTAMP:20260424T063016
CREATED:20240701T203230Z
LAST-MODIFIED:20240701T203230Z
UID:10008753-1719910800-1719921600@wasecalesueurlibraries.com
SUMMARY:Plein Air Painting
DESCRIPTION:Artist Willow Gentile will be creating a painting of our library. Stop by to watch her work and color along side her. \nThis activity is made possible by the voters of Minnesota through a grant from the Minnesota State Arts Board\, thanks to a legislative appropriation from the arts and cultural heritage fund. \n 
URL:https://wasecalesueurlibraries.com/event/plein-air-painting/
LOCATION:New Richland Public Library\, 129 Broadway Ave S\, New Richland\, MN\, 56072\, United States
CATEGORIES:Adult Events,All ages,Children's Events
GEO:43.8935599;-93.4938211
X-APPLE-STRUCTURED-LOCATION;VALUE=URI;X-ADDRESS=New Richland Public Library 129 Broadway Ave S New Richland MN 56072 United States;X-APPLE-RADIUS=500;X-TITLE=129 Broadway Ave S:geo:-93.4938211,43.8935599
END:VEVENT
BEGIN:VEVENT
DTSTART;TZID=America/Chicago:20240702T100000
DTEND;TZID=America/Chicago:20240702T110000
DTSTAMP:20260424T063016
CREATED:20240501T172526Z
LAST-MODIFIED:20240530T175859Z
UID:10010707-1719914400-1719918000@wasecalesueurlibraries.com
SUMMARY:Romp and Rhyme Story Time
DESCRIPTION:Le Center Public Library holds Romp and Rhyme story times on Tuesdays at 10 am. From puppets to pumping music\, from bubble machines to banging bands\, these are not your average story time. The Library uses movement\, STEAM activities\, curiosity\, imaginative play\, and active learning to keep kids engaged. Free and open to the public.
URL:https://wasecalesueurlibraries.com/event/12444/2024-07-02/
LOCATION:Le Center Public Library\, 10 W Tyrone St\, Le Center\, MN\, 56057\, United States
CATEGORIES:Children's Events,Story Times
GEO:44.3907505;-93.7316339
X-APPLE-STRUCTURED-LOCATION;VALUE=URI;X-ADDRESS=Le Center Public Library 10 W Tyrone St Le Center MN 56057 United States;X-APPLE-RADIUS=500;X-TITLE=10 W Tyrone St:geo:-93.7316339,44.3907505
END:VEVENT
BEGIN:VEVENT
DTSTART;TZID=America/Chicago:20240702T100000
DTEND;TZID=America/Chicago:20240702T110000
DTSTAMP:20260424T063016
CREATED:20240701T195857Z
LAST-MODIFIED:20240701T195857Z
UID:10010792-1719914400-1719918000@wasecalesueurlibraries.com
SUMMARY:Aztec and Nahuatl Dance and Culture
DESCRIPTION:COMPAS Artist Kalpulli Ketzal Coatlicue will provide an introduction of the Nahuatl/Aztec representations of life through dance. Driving drum rhythms and dazzling costumes inspire and energize the crowd. Through each step the dancer in full regalia gives life to the symbols of the dance. All ages. \nThis program was made possible in part with a grant from the Arts & Cultural Heritage Fund of the Minnesota Clean Water\, Land\, and Legacy Amendment through the Traverse des Sioux Library System.
URL:https://wasecalesueurlibraries.com/event/aztec-and-nahuatl-dance-and-culture-3/
LOCATION:WEM High School Gym\, 500 Paquin St E\, Waterville\, 56096\, United States
CATEGORIES:All ages,Children's Events
END:VEVENT
BEGIN:VEVENT
DTSTART;TZID=America/Chicago:20240702T130000
DTEND;TZID=America/Chicago:20240702T140000
DTSTAMP:20260424T063016
CREATED:20240701T195950Z
LAST-MODIFIED:20240702T180021Z
UID:10010793-1719925200-1719928800@wasecalesueurlibraries.com
SUMMARY:Aztec and Nahuatl Dance and Culture
DESCRIPTION:COMPAS Artist Kalpulli Ketzal Coatlicue will provide an introduction of the Nahuatl/Aztec representations of life through dance. Driving drum rhythms and dazzling costumes inspire and energize the crowd. Through each step the dancer in full regalia gives life to the symbols of the dance. All ages. \nThis program was made possible in part with a grant from the Arts & Cultural Heritage Fund of the Minnesota Clean Water\, Land\, and Legacy Amendment through the Traverse des Sioux Library System.
URL:https://wasecalesueurlibraries.com/event/aztec-and-nahuatl-dance-and-culture-4/
LOCATION:Waseca Schools Central Buildng Auditorium\, 501 East Elm Avenue\, Waseca\, 56093\, United States
CATEGORIES:All ages,Children's Events
END:VEVENT
END:VCALENDAR