BEGIN:VCALENDAR
VERSION:2.0
PRODID:-//Waseca-Le Sueur Library - ECPv6.15.20//NONSGML v1.0//EN
CALSCALE:GREGORIAN
METHOD:PUBLISH
X-ORIGINAL-URL:https://wasecalesueurlibraries.com
X-WR-CALDESC:Events for Waseca-Le Sueur Library
REFRESH-INTERVAL;VALUE=DURATION:PT1H
X-Robots-Tag:noindex
X-PUBLISHED-TTL:PT1H
BEGIN:VTIMEZONE
TZID:America/Chicago
BEGIN:DAYLIGHT
TZOFFSETFROM:-0600
TZOFFSETTO:-0500
TZNAME:CDT
DTSTART:20230312T080000
END:DAYLIGHT
BEGIN:STANDARD
TZOFFSETFROM:-0500
TZOFFSETTO:-0600
TZNAME:CST
DTSTART:20231105T070000
END:STANDARD
BEGIN:DAYLIGHT
TZOFFSETFROM:-0600
TZOFFSETTO:-0500
TZNAME:CDT
DTSTART:20240310T080000
END:DAYLIGHT
BEGIN:STANDARD
TZOFFSETFROM:-0500
TZOFFSETTO:-0600
TZNAME:CST
DTSTART:20241103T070000
END:STANDARD
BEGIN:DAYLIGHT
TZOFFSETFROM:-0600
TZOFFSETTO:-0500
TZNAME:CDT
DTSTART:20250309T080000
END:DAYLIGHT
BEGIN:STANDARD
TZOFFSETFROM:-0500
TZOFFSETTO:-0600
TZNAME:CST
DTSTART:20251102T070000
END:STANDARD
END:VTIMEZONE
BEGIN:VEVENT
DTSTART;TZID=America/Chicago:20240607T100000
DTEND;TZID=America/Chicago:20240607T103000
DTSTAMP:20260423T115400
CREATED:20230526T213501Z
LAST-MODIFIED:20240702T020318Z
UID:10010127-1717754400-1717756200@wasecalesueurlibraries.com
SUMMARY:Swim and Stories
DESCRIPTION:Join in for a splashing good story time! Ages 3-6. Includes free admission. This event begins at 10 am.
URL:https://wasecalesueurlibraries.com/event/swim-and-stories-5/2024-06-07/
LOCATION:Waseca Water Park\, 200 26th Avenue NE\, Waseca\, MN\, 56093\, United States
CATEGORIES:Children's Events,Story Times
GEO:44.0770411;-93.5083843
X-APPLE-STRUCTURED-LOCATION;VALUE=URI;X-ADDRESS=Waseca Water Park 200 26th Avenue NE Waseca MN 56093 United States;X-APPLE-RADIUS=500;X-TITLE=200 26th Avenue NE:geo:-93.5083843,44.0770411
END:VEVENT
BEGIN:VEVENT
DTSTART;TZID=America/Chicago:20240607T150000
DTEND;TZID=America/Chicago:20240607T160000
DTSTAMP:20260423T115400
CREATED:20240530T151946Z
LAST-MODIFIED:20240530T151946Z
UID:10008720-1717772400-1717776000@wasecalesueurlibraries.com
SUMMARY:Pirate Party
DESCRIPTION:Dress like a pirate\, talk like a pirate\, and act like a pirate!Treasure maps\, captain’s log\, knots\, and more. Ages 6-12.
URL:https://wasecalesueurlibraries.com/event/pirate-party-5/
LOCATION:Waldorf Public Library\, 119 S Main St\, Waldorf\, MN\, 56091\, United States
CATEGORIES:Children's Events
GEO:43.9365286;-93.697592
X-APPLE-STRUCTURED-LOCATION;VALUE=URI;X-ADDRESS=Waldorf Public Library 119 S Main St Waldorf MN 56091 United States;X-APPLE-RADIUS=500;X-TITLE=119 S Main St:geo:-93.697592,43.9365286
END:VEVENT
BEGIN:VEVENT
DTSTART;TZID=America/Chicago:20240607T153000
DTEND;TZID=America/Chicago:20240607T163000
DTSTAMP:20260423T115400
CREATED:20240530T181853Z
LAST-MODIFIED:20240729T221316Z
UID:10010776-1717774200-1717777800@wasecalesueurlibraries.com
SUMMARY:Romp and Rhyme Story Time
DESCRIPTION:Waldorf Public Library holds Romp and Rhyme story times on Fridays at 3:30 pm. From puppets to pumping music\, from bubble machines to banging bands\, these are not your average story time. The Library uses movement\, STEAM activities\, curiosity\, imaginative play\, and active learning to keep kids engaged. Free and open to the public.
URL:https://wasecalesueurlibraries.com/event/romp-and-rhyme-story-time-89/2024-06-07/
LOCATION:Waldorf Public Library\, 119 S Main St\, Waldorf\, MN\, 56091\, United States
CATEGORIES:Children's Events,Story Times
GEO:43.9365286;-93.697592
X-APPLE-STRUCTURED-LOCATION;VALUE=URI;X-ADDRESS=Waldorf Public Library 119 S Main St Waldorf MN 56091 United States;X-APPLE-RADIUS=500;X-TITLE=119 S Main St:geo:-93.697592,43.9365286
END:VEVENT
END:VCALENDAR