BEGIN:VCALENDAR
VERSION:2.0
PRODID:-//Waseca-Le Sueur Library - ECPv6.15.20//NONSGML v1.0//EN
CALSCALE:GREGORIAN
METHOD:PUBLISH
X-WR-CALNAME:Waseca-Le Sueur Library
X-ORIGINAL-URL:https://wasecalesueurlibraries.com
X-WR-CALDESC:Events for Waseca-Le Sueur Library
REFRESH-INTERVAL;VALUE=DURATION:PT1H
X-Robots-Tag:noindex
X-PUBLISHED-TTL:PT1H
BEGIN:VTIMEZONE
TZID:America/Chicago
BEGIN:DAYLIGHT
TZOFFSETFROM:-0600
TZOFFSETTO:-0500
TZNAME:CDT
DTSTART:20230312T080000
END:DAYLIGHT
BEGIN:STANDARD
TZOFFSETFROM:-0500
TZOFFSETTO:-0600
TZNAME:CST
DTSTART:20231105T070000
END:STANDARD
BEGIN:DAYLIGHT
TZOFFSETFROM:-0600
TZOFFSETTO:-0500
TZNAME:CDT
DTSTART:20240310T080000
END:DAYLIGHT
BEGIN:STANDARD
TZOFFSETFROM:-0500
TZOFFSETTO:-0600
TZNAME:CST
DTSTART:20241103T070000
END:STANDARD
BEGIN:DAYLIGHT
TZOFFSETFROM:-0600
TZOFFSETTO:-0500
TZNAME:CDT
DTSTART:20250309T080000
END:DAYLIGHT
BEGIN:STANDARD
TZOFFSETFROM:-0500
TZOFFSETTO:-0600
TZNAME:CST
DTSTART:20251102T070000
END:STANDARD
END:VTIMEZONE
BEGIN:VEVENT
DTSTART;TZID=America/Chicago:20240603T100000
DTEND;TZID=America/Chicago:20240603T110000
DTSTAMP:20260421T045201
CREATED:20240524T134748Z
LAST-MODIFIED:20240524T134748Z
UID:10008656-1717408800-1717412400@wasecalesueurlibraries.com
SUMMARY:Unlovable Animals
DESCRIPTION:Some Minnesota animals have reputations they do not deserve. This program investigates why some animals are considered “unlovable\,” and includes a live snake\, spider\, salamander\, and owl. The live animals and artifacts introduce the natural history of these “unlikeable” animals focusing on identification\, adaptations\, and behavior. All ages.
URL:https://wasecalesueurlibraries.com/event/unlovable-animals/
LOCATION:Waldorf Public Library\, 119 S Main St\, Waldorf\, MN\, 56091\, United States
CATEGORIES:All ages,Children's Events,Family
GEO:43.9365286;-93.697592
X-APPLE-STRUCTURED-LOCATION;VALUE=URI;X-ADDRESS=Waldorf Public Library 119 S Main St Waldorf MN 56091 United States;X-APPLE-RADIUS=500;X-TITLE=119 S Main St:geo:-93.697592,43.9365286
END:VEVENT
BEGIN:VEVENT
DTSTART;TZID=America/Chicago:20240603T100000
DTEND;TZID=America/Chicago:20240603T110000
DTSTAMP:20260421T045201
CREATED:20240524T153851Z
LAST-MODIFIED:20240524T153851Z
UID:10010745-1717408800-1717412400@wasecalesueurlibraries.com
SUMMARY:Teen Solar Printing
DESCRIPTION:Harness the power of the sun to create beautiful prints with cyanotype paper\, stencils\, and objects such as leaves and flowers. Ages 13-18.
URL:https://wasecalesueurlibraries.com/event/teen-solar-printing/
LOCATION:Montgomery Public Library\, 104 Oak Ave SE\, Montgomery\, MN\, 56069\, United States
CATEGORIES:Teen Events
GEO:44.4355889;-93.5810028
X-APPLE-STRUCTURED-LOCATION;VALUE=URI;X-ADDRESS=Montgomery Public Library 104 Oak Ave SE Montgomery MN 56069 United States;X-APPLE-RADIUS=500;X-TITLE=104 Oak Ave SE:geo:-93.5810028,44.4355889
END:VEVENT
BEGIN:VEVENT
DTSTART;TZID=America/Chicago:20240603T100000
DTEND;TZID=America/Chicago:20240603T120000
DTSTAMP:20260421T045201
CREATED:20240524T180658Z
LAST-MODIFIED:20240524T180658Z
UID:10010750-1717408800-1717416000@wasecalesueurlibraries.com
SUMMARY:Summer Reading Program Kick-Off
DESCRIPTION:Register for the summer reading program and enjoy fun activities. Geared for ages 3-18 and families.
URL:https://wasecalesueurlibraries.com/event/summer-reading-program-kick-off-7/
LOCATION:Waseca Public Library\, 408 N State St\, Waseca\, MN\, 56093\, United States
CATEGORIES:Children's Events,Family,Teen Events,Tweens
GEO:44.0809183;-93.5069008
X-APPLE-STRUCTURED-LOCATION;VALUE=URI;X-ADDRESS=Waseca Public Library 408 N State St Waseca MN 56093 United States;X-APPLE-RADIUS=500;X-TITLE=408 N State St:geo:-93.5069008,44.0809183
END:VEVENT
BEGIN:VEVENT
DTSTART;TZID=America/Chicago:20240603T100000
DTEND;TZID=America/Chicago:20240603T120000
DTSTAMP:20260421T045201
CREATED:20240524T181109Z
LAST-MODIFIED:20240524T181109Z
UID:10010751-1717408800-1717416000@wasecalesueurlibraries.com
SUMMARY:Summer Reading Program Kick-Off
DESCRIPTION:Register for the summer reading program and enjoy fun activities. Geared for ages 3-18 and families. \nThe National Eagle Center will join us at 11 am.
URL:https://wasecalesueurlibraries.com/event/summer-reading-program-kick-off-8/
LOCATION:Elysian Public Library\, 202 E Main St\, Elysian\, MN\, 56028\, United States
CATEGORIES:Children's Events,Teen Events,Tweens
GEO:44.198703;-93.6724641
X-APPLE-STRUCTURED-LOCATION;VALUE=URI;X-ADDRESS=Elysian Public Library 202 E Main St Elysian MN 56028 United States;X-APPLE-RADIUS=500;X-TITLE=202 E Main St:geo:-93.6724641,44.198703
END:VEVENT
BEGIN:VEVENT
DTSTART;TZID=America/Chicago:20240603T130000
DTEND;TZID=America/Chicago:20240603T140000
DTSTAMP:20260421T045201
CREATED:20240524T135327Z
LAST-MODIFIED:20240524T135327Z
UID:10008659-1717419600-1717423200@wasecalesueurlibraries.com
SUMMARY:Unlovable Animals
DESCRIPTION:Some Minnesota animals have reputations they do not deserve. This program investigates why some animals are considered “unlovable\,” and includes a live snake\, spider\, salamander\, and owl. The live animals and artifacts introduce the natural history of these “unlikeable” animals focusing on identification\, adaptations\, and behavior. All ages.
URL:https://wasecalesueurlibraries.com/event/unlovable-animals-2/
LOCATION:Janesville Public Library\, 100 W 2nd St\, Janesville\, MN\, 56048\, United States
CATEGORIES:All ages,Children's Events,Family
GEO:44.1173302;-93.7075406
X-APPLE-STRUCTURED-LOCATION;VALUE=URI;X-ADDRESS=Janesville Public Library 100 W 2nd St Janesville MN 56048 United States;X-APPLE-RADIUS=500;X-TITLE=100 W 2nd St:geo:-93.7075406,44.1173302
END:VEVENT
BEGIN:VEVENT
DTSTART;TZID=America/Chicago:20240603T130000
DTEND;TZID=America/Chicago:20240603T140000
DTSTAMP:20260421T045201
CREATED:20240524T145114Z
LAST-MODIFIED:20240524T145114Z
UID:10010733-1717419600-1717423200@wasecalesueurlibraries.com
SUMMARY:Virtual Author Event: Matt Shindell
DESCRIPTION:Learn alongside Matt Shindell\, National Air and Space Museum curator\, as he introduces viewers to\nhistorical figures across eras and around the world who have made sense of Mars\, the red planet\, at a\nvirtual Waseca-Le Sueur Regional Library System event. Shindell will highlight historical figures such as: \n\nMayan astrologer priests who incorporated Mars into seasonal calendars and religious\nceremonies;\nBabylonian astrologers who discerned bad omens;\nfigures of the Scientific Revolution who struggled to comprehend it as a world;\nVictorian astronomers who sought signs of intelligent life; and\n20th- and 21st-century scientists who have established a technological presence on its surface.\n\nAlong the way\, we will encounter writers and artists from each period who take readers and viewers on\nimagined journeys to Mars. \nBy focusing on the diverse human stories behind the telescopes and behind the robots we know and\nlove\, Shindell will show how Mars exploration has evolved in ways that have also expanded knowledge\nabout other facets of the universe. \nAbout the Author: Matthew Shindell\, Ph.D.\, is a historian of science with a background in science\nstudies. He is Curator of Earth and Planetary Science at the Smithsonian’s National Air and Space\nMuseum. \nThis event will be recorded and people who register will be emailed a link to the recording. \nRegister now. \nThis event is made possible by the voters of Minnesota through a grant provided by the Traverse des\nSioux Library Cooperative\, thanks to a legislative appropriation from the arts and cultural heritage fund.\nThe event is held in coordination with Library Speakers Consortium and presented by Waseca-Le Sueur\nRegional Library System.
URL:https://wasecalesueurlibraries.com/event/virtual-author-event-matt-shindell/
LOCATION:Virtual Event\, MN\, United States
CATEGORIES:Adult Events,Author Event
END:VEVENT
BEGIN:VEVENT
DTSTART;TZID=America/Chicago:20240603T140000
DTEND;TZID=America/Chicago:20240603T160000
DTSTAMP:20260421T045201
CREATED:20240524T181436Z
LAST-MODIFIED:20240524T181436Z
UID:10010752-1717423200-1717430400@wasecalesueurlibraries.com
SUMMARY:Summer Reading Program Kick-Off
DESCRIPTION:Register for the summer reading program and enjoy fun activities. Geared for ages 3-18 and families. Lloveable Llamas will be joining us!
URL:https://wasecalesueurlibraries.com/event/summer-reading-program-kick-off-9/
LOCATION:Waterville Public Library\, 210 Paquin St\, Waterville\, MN\, 56096\, United States
CATEGORIES:Children's Events,Teen Events,Tweens
GEO:44.2177999;-93.5709706
X-APPLE-STRUCTURED-LOCATION;VALUE=URI;X-ADDRESS=Waterville Public Library 210 Paquin St Waterville MN 56096 United States;X-APPLE-RADIUS=500;X-TITLE=210 Paquin St:geo:-93.5709706,44.2177999
END:VEVENT
END:VCALENDAR