BEGIN:VCALENDAR
VERSION:2.0
PRODID:-//Waseca-Le Sueur Library - ECPv6.15.20//NONSGML v1.0//EN
CALSCALE:GREGORIAN
METHOD:PUBLISH
X-ORIGINAL-URL:https://wasecalesueurlibraries.com
X-WR-CALDESC:Events for Waseca-Le Sueur Library
REFRESH-INTERVAL;VALUE=DURATION:PT1H
X-Robots-Tag:noindex
X-PUBLISHED-TTL:PT1H
BEGIN:VTIMEZONE
TZID:America/Chicago
BEGIN:DAYLIGHT
TZOFFSETFROM:-0600
TZOFFSETTO:-0500
TZNAME:CDT
DTSTART:20230312T080000
END:DAYLIGHT
BEGIN:STANDARD
TZOFFSETFROM:-0500
TZOFFSETTO:-0600
TZNAME:CST
DTSTART:20231105T070000
END:STANDARD
BEGIN:DAYLIGHT
TZOFFSETFROM:-0600
TZOFFSETTO:-0500
TZNAME:CDT
DTSTART:20240310T080000
END:DAYLIGHT
BEGIN:STANDARD
TZOFFSETFROM:-0500
TZOFFSETTO:-0600
TZNAME:CST
DTSTART:20241103T070000
END:STANDARD
BEGIN:DAYLIGHT
TZOFFSETFROM:-0600
TZOFFSETTO:-0500
TZNAME:CDT
DTSTART:20250309T080000
END:DAYLIGHT
BEGIN:STANDARD
TZOFFSETFROM:-0500
TZOFFSETTO:-0600
TZNAME:CST
DTSTART:20251102T070000
END:STANDARD
END:VTIMEZONE
BEGIN:VEVENT
DTSTART;TZID=America/Chicago:20240520T170000
DTEND;TZID=America/Chicago:20240520T180000
DTSTAMP:20260423T174211
CREATED:20230705T170505Z
LAST-MODIFIED:20240524T143852Z
UID:10008323-1716224400-1716228000@wasecalesueurlibraries.com
SUMMARY:Bring Your Own Book Club
DESCRIPTION:Join our book discussion group and chat us up about the books you’ve been reading. Geared for adults. \n 
URL:https://wasecalesueurlibraries.com/event/bring-your-own-book-club/2024-05-20/
LOCATION:Janesville Public Library\, 100 W 2nd St\, Janesville\, MN\, 56048\, United States
CATEGORIES:Adult Events,Book Clubs
GEO:44.1173302;-93.7075406
X-APPLE-STRUCTURED-LOCATION;VALUE=URI;X-ADDRESS=Janesville Public Library 100 W 2nd St Janesville MN 56048 United States;X-APPLE-RADIUS=500;X-TITLE=100 W 2nd St:geo:-93.7075406,44.1173302
END:VEVENT
BEGIN:VEVENT
DTSTART;TZID=America/Chicago:20240520T180000
DTEND;TZID=America/Chicago:20240520T190000
DTSTAMP:20260423T174211
CREATED:20240501T164432Z
LAST-MODIFIED:20240501T164432Z
UID:10008631-1716228000-1716231600@wasecalesueurlibraries.com
SUMMARY:Author Event: Laura Moher
DESCRIPTION:Join us for a conversation with the author of Curves for Days and the upcoming What She’s Having. \n“It’s easy to root for these deserving and well-matched characters on their bumpy road to love\, and the charming small-town setting only adds to the appeal of this complex yet cozy tale. An emphasis on body positivity combines with heartfelt romance to make this a winner.” — Publishers Weekly \nThis program is made possible by the voters of Minnesota through a grant provided by the Traverse des Sioux Library Cooperative\, thanks to a legislative appropriation from the arts and cultural heritage fund.
URL:https://wasecalesueurlibraries.com/event/author-event-laura-moher/
LOCATION:Waseca Public Library\, 408 N State St\, Waseca\, MN\, 56093\, United States
CATEGORIES:Adult Events,Author Event
GEO:44.0809183;-93.5069008
X-APPLE-STRUCTURED-LOCATION;VALUE=URI;X-ADDRESS=Waseca Public Library 408 N State St Waseca MN 56093 United States;X-APPLE-RADIUS=500;X-TITLE=408 N State St:geo:-93.5069008,44.0809183
END:VEVENT
END:VCALENDAR