BEGIN:VCALENDAR
VERSION:2.0
PRODID:-//Waseca-Le Sueur Library - ECPv6.15.20//NONSGML v1.0//EN
CALSCALE:GREGORIAN
METHOD:PUBLISH
X-ORIGINAL-URL:https://wasecalesueurlibraries.com
X-WR-CALDESC:Events for Waseca-Le Sueur Library
REFRESH-INTERVAL;VALUE=DURATION:PT1H
X-Robots-Tag:noindex
X-PUBLISHED-TTL:PT1H
BEGIN:VTIMEZONE
TZID:America/Chicago
BEGIN:DAYLIGHT
TZOFFSETFROM:-0600
TZOFFSETTO:-0500
TZNAME:CDT
DTSTART:20230312T080000
END:DAYLIGHT
BEGIN:STANDARD
TZOFFSETFROM:-0500
TZOFFSETTO:-0600
TZNAME:CST
DTSTART:20231105T070000
END:STANDARD
BEGIN:DAYLIGHT
TZOFFSETFROM:-0600
TZOFFSETTO:-0500
TZNAME:CDT
DTSTART:20240310T080000
END:DAYLIGHT
BEGIN:STANDARD
TZOFFSETFROM:-0500
TZOFFSETTO:-0600
TZNAME:CST
DTSTART:20241103T070000
END:STANDARD
BEGIN:DAYLIGHT
TZOFFSETFROM:-0600
TZOFFSETTO:-0500
TZNAME:CDT
DTSTART:20250309T080000
END:DAYLIGHT
BEGIN:STANDARD
TZOFFSETFROM:-0500
TZOFFSETTO:-0600
TZNAME:CST
DTSTART:20251102T070000
END:STANDARD
END:VTIMEZONE
BEGIN:VEVENT
DTSTART;TZID=America/Chicago:20240518T080000
DTEND;TZID=America/Chicago:20240518T160000
DTSTAMP:20260421T031226
CREATED:20240501T174535Z
LAST-MODIFIED:20240501T174535Z
UID:10008654-1716019200-1716048000@wasecalesueurlibraries.com
SUMMARY:Book Sale
DESCRIPTION:Our Friends of the Library group is selling books for all ages. Help us raise money for our library!
URL:https://wasecalesueurlibraries.com/event/book-sale-12/
LOCATION:Langerud’s Garage\, 503 Marion St\, Waterville\, 56096\, United States
CATEGORIES:Book Sales,Friends of the Library Event
END:VEVENT
BEGIN:VEVENT
DTSTART;TZID=America/Chicago:20240518T100000
DTEND;TZID=America/Chicago:20240518T110000
DTSTAMP:20260421T031226
CREATED:20240501T171509Z
LAST-MODIFIED:20240501T171509Z
UID:10010694-1716026400-1716030000@wasecalesueurlibraries.com
SUMMARY:Kindergarten Card Party
DESCRIPTION:Come to the library to collect your library card\, play games\, pose with a GIANT library card\, boogie down at a dance party\, collect giveaways\, and more! Exclusively for kindergarteners and their families.
URL:https://wasecalesueurlibraries.com/event/kindergarten-card-party-18/
LOCATION:Montgomery Public Library\, 104 Oak Ave SE\, Montgomery\, MN\, 56069\, United States
CATEGORIES:Children's Events
GEO:44.4355889;-93.5810028
X-APPLE-STRUCTURED-LOCATION;VALUE=URI;X-ADDRESS=Montgomery Public Library 104 Oak Ave SE Montgomery MN 56069 United States;X-APPLE-RADIUS=500;X-TITLE=104 Oak Ave SE:geo:-93.5810028,44.4355889
END:VEVENT
BEGIN:VEVENT
DTSTART;TZID=America/Chicago:20240518T100000
DTEND;TZID=America/Chicago:20240518T110000
DTSTAMP:20260421T031226
CREATED:20240530T175620Z
LAST-MODIFIED:20240530T175620Z
UID:10010775-1716026400-1716030000@wasecalesueurlibraries.com
SUMMARY:Little Explorers
DESCRIPTION:Enjoy a playdate with interactive sensory activities for kids 2-5\, including mold and dig\, scoop and pour\, snap and pop\, count and sort\, & color and texture.
URL:https://wasecalesueurlibraries.com/event/little-explorers-18/
LOCATION:New Richland Public Library\, 129 Broadway Ave S\, New Richland\, MN\, 56072\, United States
CATEGORIES:Children's Events
GEO:43.8935599;-93.4938211
X-APPLE-STRUCTURED-LOCATION;VALUE=URI;X-ADDRESS=New Richland Public Library 129 Broadway Ave S New Richland MN 56072 United States;X-APPLE-RADIUS=500;X-TITLE=129 Broadway Ave S:geo:-93.4938211,43.8935599
END:VEVENT
BEGIN:VEVENT
DTSTART;TZID=America/Chicago:20240518T160000
DTEND;TZID=America/Chicago:20240518T170000
DTSTAMP:20260421T031226
CREATED:20240501T165846Z
LAST-MODIFIED:20240501T165846Z
UID:10008640-1716048000-1716051600@wasecalesueurlibraries.com
SUMMARY:Books and Brews
DESCRIPTION:It’s the perfect combo of bookworm babble and beer. Pick up a copy of by Daniel Mason at Waseca Public Library and discuss it at Half Pint Brewing Company. \nMay 18th 4 pm\nHalf Pint Brewing Company\, Waseca
URL:https://wasecalesueurlibraries.com/event/books-and-brews-28/
LOCATION:Half-Pint Brewery\, 40099 150th St\, Waseca\, MN\, 56093\, United States
CATEGORIES:Adult Events,Book Clubs
GEO:44.1393696;-93.4682239
X-APPLE-STRUCTURED-LOCATION;VALUE=URI;X-ADDRESS=Half-Pint Brewery 40099 150th St Waseca MN 56093 United States;X-APPLE-RADIUS=500;X-TITLE=40099 150th St:geo:-93.4682239,44.1393696
END:VEVENT
END:VCALENDAR