BEGIN:VCALENDAR
VERSION:2.0
PRODID:-//Waseca-Le Sueur Library - ECPv6.15.20//NONSGML v1.0//EN
CALSCALE:GREGORIAN
METHOD:PUBLISH
X-WR-CALNAME:Waseca-Le Sueur Library
X-ORIGINAL-URL:https://wasecalesueurlibraries.com
X-WR-CALDESC:Events for Waseca-Le Sueur Library
REFRESH-INTERVAL;VALUE=DURATION:PT1H
X-Robots-Tag:noindex
X-PUBLISHED-TTL:PT1H
BEGIN:VTIMEZONE
TZID:America/Chicago
BEGIN:DAYLIGHT
TZOFFSETFROM:-0600
TZOFFSETTO:-0500
TZNAME:CDT
DTSTART:20230312T080000
END:DAYLIGHT
BEGIN:STANDARD
TZOFFSETFROM:-0500
TZOFFSETTO:-0600
TZNAME:CST
DTSTART:20231105T070000
END:STANDARD
BEGIN:DAYLIGHT
TZOFFSETFROM:-0600
TZOFFSETTO:-0500
TZNAME:CDT
DTSTART:20240310T080000
END:DAYLIGHT
BEGIN:STANDARD
TZOFFSETFROM:-0500
TZOFFSETTO:-0600
TZNAME:CST
DTSTART:20241103T070000
END:STANDARD
BEGIN:DAYLIGHT
TZOFFSETFROM:-0600
TZOFFSETTO:-0500
TZNAME:CDT
DTSTART:20250309T080000
END:DAYLIGHT
BEGIN:STANDARD
TZOFFSETFROM:-0500
TZOFFSETTO:-0600
TZNAME:CST
DTSTART:20251102T070000
END:STANDARD
END:VTIMEZONE
BEGIN:VEVENT
DTSTART;TZID=America/Chicago:20240416T100000
DTEND;TZID=America/Chicago:20240416T110000
DTSTAMP:20260425T154756
CREATED:20230911T212036Z
LAST-MODIFIED:20240530T182247Z
UID:10010437-1713261600-1713265200@wasecalesueurlibraries.com
SUMMARY:Romp and Rhyme Story Time
DESCRIPTION:Le Sueur Public Library holds Romp and Rhyme story times on Tuesdays at 10 am. From puppets to pumping music\, from bubble machines to banging bands\, these are not your average story time. The Library uses movement\, STEAM activities\, curiosity\, imaginative play\, and active learning to keep kids engaged. Free and open to the public.
URL:https://wasecalesueurlibraries.com/event/romp-and-rhyme-story-time-83/2024-04-16/
LOCATION:Le Sueur Public Library\, 118 Ferry St\, Le Sueur\, MN\, 56058\, United States
CATEGORIES:Children's Events,Story Times
GEO:44.4601702;-93.9161364
X-APPLE-STRUCTURED-LOCATION;VALUE=URI;X-ADDRESS=Le Sueur Public Library 118 Ferry St Le Sueur MN 56058 United States;X-APPLE-RADIUS=500;X-TITLE=118 Ferry St:geo:-93.9161364,44.4601702
END:VEVENT
BEGIN:VEVENT
DTSTART;TZID=America/Chicago:20240416T100000
DTEND;TZID=America/Chicago:20240416T110000
DTSTAMP:20260425T154756
CREATED:20240328T012428Z
LAST-MODIFIED:20240328T012428Z
UID:10010671-1713261600-1713265200@wasecalesueurlibraries.com
SUMMARY:Construction Site: Let's Build
DESCRIPTION:Put on your hard hat! Kids will use their find motor skills as they build\, demolish\, and everything in between! Ages 3-6.
URL:https://wasecalesueurlibraries.com/event/construction-site-lets-build-8/
LOCATION:Elysian Public Library\, 202 E Main St\, Elysian\, MN\, 56028\, United States
CATEGORIES:Children's Events
GEO:44.198703;-93.6724641
X-APPLE-STRUCTURED-LOCATION;VALUE=URI;X-ADDRESS=Elysian Public Library 202 E Main St Elysian MN 56028 United States;X-APPLE-RADIUS=500;X-TITLE=202 E Main St:geo:-93.6724641,44.198703
END:VEVENT
BEGIN:VEVENT
DTSTART;TZID=America/Chicago:20240416T103000
DTEND;TZID=America/Chicago:20240416T113000
DTSTAMP:20260425T154756
CREATED:20240108T223335Z
LAST-MODIFIED:20240829T184303Z
UID:10010574-1713263400-1713267000@wasecalesueurlibraries.com
SUMMARY:Baby Lapsit Romp and Rhyme Story Time
DESCRIPTION:Waseca Public Library holds Romp and Rhyme baby lapsit storytimes for ages 0-3 on Tuesdays at 10:30 am. From puppets to pumping music\, from bubble machines to banging bands\, these are not your average story time. The Library uses movement\, STEAM activities\, curiosity\, imaginative play\, and active learning to keep kids engaged. Free and open to the public. \nThese programs were made possible in part with a grant from the Arts & Cultural Heritage Fund of the Minnesota Clean Water\, Land\, and Legacy Amendment through the Traverse des Sioux Library System.
URL:https://wasecalesueurlibraries.com/event/baby-lapsit-romp-and-rhyme-story-time-2/2024-04-16/
LOCATION:Waseca Public Library\, 408 N State St\, Waseca\, MN\, 56093\, United States
CATEGORIES:Children's Events,Story Times
GEO:44.0809183;-93.5069008
X-APPLE-STRUCTURED-LOCATION;VALUE=URI;X-ADDRESS=Waseca Public Library 408 N State St Waseca MN 56093 United States;X-APPLE-RADIUS=500;X-TITLE=408 N State St:geo:-93.5069008,44.0809183
END:VEVENT
BEGIN:VEVENT
DTSTART;TZID=America/Chicago:20240416T103000
DTEND;TZID=America/Chicago:20240416T113000
DTSTAMP:20260425T154756
CREATED:20240328T011541Z
LAST-MODIFIED:20240328T011541Z
UID:10010667-1713263400-1713267000@wasecalesueurlibraries.com
SUMMARY:Little Explorers
DESCRIPTION:Enjoy a playdate with interactive sensory activities for kids 2-5\, including hop and balance\, zip and buckle\, squish and squeeze\, & color and pattern.
URL:https://wasecalesueurlibraries.com/event/little-explorers-15/
LOCATION:Le Sueur Public Library\, 118 Ferry St\, Le Sueur\, MN\, 56058\, United States
CATEGORIES:Children's Events
GEO:44.4601702;-93.9161364
X-APPLE-STRUCTURED-LOCATION;VALUE=URI;X-ADDRESS=Le Sueur Public Library 118 Ferry St Le Sueur MN 56058 United States;X-APPLE-RADIUS=500;X-TITLE=118 Ferry St:geo:-93.9161364,44.4601702
END:VEVENT
BEGIN:VEVENT
DTSTART;TZID=America/Chicago:20240416T140000
DTEND;TZID=America/Chicago:20240416T150000
DTSTAMP:20260425T154756
CREATED:20230929T205123Z
LAST-MODIFIED:20241029T213908Z
UID:10008415-1713276000-1713279600@wasecalesueurlibraries.com
SUMMARY:Spice Club Waterville
DESCRIPTION:Do you like to try new flavors and recipes? Try out a new spice every month! \nEach month we’ll feature a new spice and make it available in a small FREE take-home kit. Then we’ll meet up to learn more about the spice’s history and its uses. The group will also share what everyone made with the spice and their opinions on it flavor. \nFree and open to the public. Geared for adults.
URL:https://wasecalesueurlibraries.com/event/spice-club-waterville/2024-04-16/
LOCATION:Waterville Public Library\, 210 Paquin St\, Waterville\, MN\, 56096\, United States
CATEGORIES:Adult Events
GEO:44.2177999;-93.5709706
X-APPLE-STRUCTURED-LOCATION;VALUE=URI;X-ADDRESS=Waterville Public Library 210 Paquin St Waterville MN 56096 United States;X-APPLE-RADIUS=500;X-TITLE=210 Paquin St:geo:-93.5709706,44.2177999
END:VEVENT
BEGIN:VEVENT
DTSTART;TZID=America/Chicago:20240416T160000
DTEND;TZID=America/Chicago:20240416T170000
DTSTAMP:20260425T154756
CREATED:20230724T132153Z
LAST-MODIFIED:20240501T171615Z
UID:10010294-1713283200-1713286800@wasecalesueurlibraries.com
SUMMARY:Waldorf Lego Club
DESCRIPTION:Kids are invited to join our creative Lego-building club. Each event will have a theme to inspire and Legos to build with.
URL:https://wasecalesueurlibraries.com/event/waldorf-lego-club-5/2024-04-16/
LOCATION:Waldorf Public Library\, 119 S Main St\, Waldorf\, MN\, 56091\, United States
CATEGORIES:Children's Events
GEO:43.9365286;-93.697592
X-APPLE-STRUCTURED-LOCATION;VALUE=URI;X-ADDRESS=Waldorf Public Library 119 S Main St Waldorf MN 56091 United States;X-APPLE-RADIUS=500;X-TITLE=119 S Main St:geo:-93.697592,43.9365286
END:VEVENT
BEGIN:VEVENT
DTSTART;TZID=America/Chicago:20240416T160000
DTEND;TZID=America/Chicago:20240416T170000
DTSTAMP:20260425T154756
CREATED:20230911T204422Z
LAST-MODIFIED:20241204T193815Z
UID:10010368-1713283200-1713286800@wasecalesueurlibraries.com
SUMMARY:Le Sueur Lego Club
DESCRIPTION:Kids are invited to join our creative Lego-building club. Each event will have a theme to inspire and Legos to build with.
URL:https://wasecalesueurlibraries.com/event/le-sueur-lego-club-14/2024-04-16/
LOCATION:Le Sueur Public Library\, 118 Ferry St\, Le Sueur\, MN\, 56058\, United States
CATEGORIES:Children's Events
GEO:44.4601702;-93.9161364
X-APPLE-STRUCTURED-LOCATION;VALUE=URI;X-ADDRESS=Le Sueur Public Library 118 Ferry St Le Sueur MN 56058 United States;X-APPLE-RADIUS=500;X-TITLE=118 Ferry St:geo:-93.9161364,44.4601702
END:VEVENT
BEGIN:VEVENT
DTSTART;TZID=America/Chicago:20240416T170000
DTEND;TZID=America/Chicago:20240416T180000
DTSTAMP:20260425T154756
CREATED:20240325T215346Z
LAST-MODIFIED:20240325T215346Z
UID:10008609-1713286800-1713290400@wasecalesueurlibraries.com
SUMMARY:Pebble Art
DESCRIPTION:Embrace your inner artist and play with shapes using small rocks and pebbles. Geared for adults.
URL:https://wasecalesueurlibraries.com/event/pebble-art-4/
LOCATION:Janesville Public Library\, 100 W 2nd St\, Janesville\, MN\, 56048\, United States
CATEGORIES:Adult Events
GEO:44.1173302;-93.7075406
X-APPLE-STRUCTURED-LOCATION;VALUE=URI;X-ADDRESS=Janesville Public Library 100 W 2nd St Janesville MN 56048 United States;X-APPLE-RADIUS=500;X-TITLE=100 W 2nd St:geo:-93.7075406,44.1173302
END:VEVENT
BEGIN:VEVENT
DTSTART;TZID=America/Chicago:20240416T180000
DTEND;TZID=America/Chicago:20240416T190000
DTSTAMP:20260425T154756
CREATED:20240325T213528Z
LAST-MODIFIED:20240325T213528Z
UID:10010657-1713290400-1713294000@wasecalesueurlibraries.com
SUMMARY:Author Joshua Moehling
DESCRIPTION:The author of the Ben Packard mystery series will share his writing process and his work. \n“Explores “the untold stories” (and one or two diabolical secrets) buried beneath the Minnesota\nNice of Sandy Lake.” —Minneapolis StarTribune \nThis program is made possible by the voters of Minnesota through a grant provided by the Traverse des Sioux Library Cooperative\, thanks to a legislative appropriation from the arts and cultural heritage fund.
URL:https://wasecalesueurlibraries.com/event/author-joshua-moehling-2/
LOCATION:Waseca Public Library\, 408 N State St\, Waseca\, MN\, 56093\, United States
CATEGORIES:Adult Events,Author Event
GEO:44.0809183;-93.5069008
X-APPLE-STRUCTURED-LOCATION;VALUE=URI;X-ADDRESS=Waseca Public Library 408 N State St Waseca MN 56093 United States;X-APPLE-RADIUS=500;X-TITLE=408 N State St:geo:-93.5069008,44.0809183
END:VEVENT
END:VCALENDAR