BEGIN:VCALENDAR
VERSION:2.0
PRODID:-//Waseca-Le Sueur Library - ECPv6.15.20//NONSGML v1.0//EN
CALSCALE:GREGORIAN
METHOD:PUBLISH
X-ORIGINAL-URL:https://wasecalesueurlibraries.com
X-WR-CALDESC:Events for Waseca-Le Sueur Library
REFRESH-INTERVAL;VALUE=DURATION:PT1H
X-Robots-Tag:noindex
X-PUBLISHED-TTL:PT1H
BEGIN:VTIMEZONE
TZID:America/Chicago
BEGIN:DAYLIGHT
TZOFFSETFROM:-0600
TZOFFSETTO:-0500
TZNAME:CDT
DTSTART:20230312T080000
END:DAYLIGHT
BEGIN:STANDARD
TZOFFSETFROM:-0500
TZOFFSETTO:-0600
TZNAME:CST
DTSTART:20231105T070000
END:STANDARD
BEGIN:DAYLIGHT
TZOFFSETFROM:-0600
TZOFFSETTO:-0500
TZNAME:CDT
DTSTART:20240310T080000
END:DAYLIGHT
BEGIN:STANDARD
TZOFFSETFROM:-0500
TZOFFSETTO:-0600
TZNAME:CST
DTSTART:20241103T070000
END:STANDARD
BEGIN:DAYLIGHT
TZOFFSETFROM:-0600
TZOFFSETTO:-0500
TZNAME:CDT
DTSTART:20250309T080000
END:DAYLIGHT
BEGIN:STANDARD
TZOFFSETFROM:-0500
TZOFFSETTO:-0600
TZNAME:CST
DTSTART:20251102T070000
END:STANDARD
END:VTIMEZONE
BEGIN:VEVENT
DTSTART;TZID=America/Chicago:20240402T100000
DTEND;TZID=America/Chicago:20240402T110000
DTSTAMP:20260424T080136
CREATED:20230911T212036Z
LAST-MODIFIED:20240530T182247Z
UID:10010435-1712052000-1712055600@wasecalesueurlibraries.com
SUMMARY:Romp and Rhyme Story Time
DESCRIPTION:Le Sueur Public Library holds Romp and Rhyme story times on Tuesdays at 10 am. From puppets to pumping music\, from bubble machines to banging bands\, these are not your average story time. The Library uses movement\, STEAM activities\, curiosity\, imaginative play\, and active learning to keep kids engaged. Free and open to the public.
URL:https://wasecalesueurlibraries.com/event/romp-and-rhyme-story-time-83/2024-04-02/
LOCATION:Le Sueur Public Library\, 118 Ferry St\, Le Sueur\, MN\, 56058\, United States
CATEGORIES:Children's Events,Story Times
GEO:44.4601702;-93.9161364
X-APPLE-STRUCTURED-LOCATION;VALUE=URI;X-ADDRESS=Le Sueur Public Library 118 Ferry St Le Sueur MN 56058 United States;X-APPLE-RADIUS=500;X-TITLE=118 Ferry St:geo:-93.9161364,44.4601702
END:VEVENT
BEGIN:VEVENT
DTSTART;TZID=America/Chicago:20240402T103000
DTEND;TZID=America/Chicago:20240402T113000
DTSTAMP:20260424T080136
CREATED:20240108T223335Z
LAST-MODIFIED:20240829T184303Z
UID:10010572-1712053800-1712057400@wasecalesueurlibraries.com
SUMMARY:Baby Lapsit Romp and Rhyme Story Time
DESCRIPTION:Waseca Public Library holds Romp and Rhyme baby lapsit storytimes for ages 0-3 on Tuesdays at 10:30 am. From puppets to pumping music\, from bubble machines to banging bands\, these are not your average story time. The Library uses movement\, STEAM activities\, curiosity\, imaginative play\, and active learning to keep kids engaged. Free and open to the public. \nThese programs were made possible in part with a grant from the Arts & Cultural Heritage Fund of the Minnesota Clean Water\, Land\, and Legacy Amendment through the Traverse des Sioux Library System.
URL:https://wasecalesueurlibraries.com/event/baby-lapsit-romp-and-rhyme-story-time-2/2024-04-02/
LOCATION:Waseca Public Library\, 408 N State St\, Waseca\, MN\, 56093\, United States
CATEGORIES:Children's Events,Story Times
GEO:44.0809183;-93.5069008
X-APPLE-STRUCTURED-LOCATION;VALUE=URI;X-ADDRESS=Waseca Public Library 408 N State St Waseca MN 56093 United States;X-APPLE-RADIUS=500;X-TITLE=408 N State St:geo:-93.5069008,44.0809183
END:VEVENT
BEGIN:VEVENT
DTSTART;TZID=America/Chicago:20240402T103000
DTEND;TZID=America/Chicago:20240402T113000
DTSTAMP:20260424T080136
CREATED:20240328T012224Z
LAST-MODIFIED:20240328T012224Z
UID:10010668-1712053800-1712057400@wasecalesueurlibraries.com
SUMMARY:Construction Site: Let's Build
DESCRIPTION:Put on your hard hat! Kids will use their find motor skills as they build\, demolish\, and everything in between! Ages 3-6.
URL:https://wasecalesueurlibraries.com/event/construction-site-lets-build-6/
LOCATION:Le Sueur Public Library\, 118 Ferry St\, Le Sueur\, MN\, 56058\, United States
CATEGORIES:Children's Events
GEO:44.4601702;-93.9161364
X-APPLE-STRUCTURED-LOCATION;VALUE=URI;X-ADDRESS=Le Sueur Public Library 118 Ferry St Le Sueur MN 56058 United States;X-APPLE-RADIUS=500;X-TITLE=118 Ferry St:geo:-93.9161364,44.4601702
END:VEVENT
BEGIN:VEVENT
DTSTART;TZID=America/Chicago:20240402T130000
DTEND;TZID=America/Chicago:20240402T140000
DTSTAMP:20260424T080136
CREATED:20240325T214016Z
LAST-MODIFIED:20240325T214154Z
UID:10010658-1712062800-1712066400@wasecalesueurlibraries.com
SUMMARY:Author Event: Paula J. Johnson
DESCRIPTION:American Table is a sweeping history of food and culture that takes a fresh look at the people\, ingredients\, events\, and movements that have shaped how and what we eat. Paula J. Johnson\, curator and project director of the American Food History Project\, will discuss several stories featured in the volume. \nRegister now. \nThese events are made possible by the voters of Minnesota through a grant provided by the Traverse des Sioux Library Cooperative\, thanks to a legislative appropriation from the arts and cultural heritage fund.
URL:https://wasecalesueurlibraries.com/event/author-event-paula-j-johnson/
LOCATION:Virtual Event\, MN\, United States
CATEGORIES:Adult Events,Author Event
END:VEVENT
BEGIN:VEVENT
DTSTART;TZID=America/Chicago:20240402T140000
DTEND;TZID=America/Chicago:20240402T160000
DTSTAMP:20260424T080136
CREATED:20240108T221258Z
LAST-MODIFIED:20240325T215701Z
UID:10008524-1712066400-1712073600@wasecalesueurlibraries.com
SUMMARY:Coffee and Conversation
DESCRIPTION:Coffee\, tea\, juice & some of Cool Wave Coffee’s delicious lemon bread will be available at the Library. Stop in and talk about books\, play a game\, or just enjoy some conversation and community. \nSponsored by Friends of the Waterville Public Library \n 
URL:https://wasecalesueurlibraries.com/event/coffee-and-conversation/2024-04-02/
LOCATION:Waterville Public Library\, 210 Paquin St\, Waterville\, MN\, 56096\, United States
CATEGORIES:Adult Events
GEO:44.2177999;-93.5709706
X-APPLE-STRUCTURED-LOCATION;VALUE=URI;X-ADDRESS=Waterville Public Library 210 Paquin St Waterville MN 56096 United States;X-APPLE-RADIUS=500;X-TITLE=210 Paquin St:geo:-93.5709706,44.2177999
END:VEVENT
BEGIN:VEVENT
DTSTART;TZID=America/Chicago:20240402T160000
DTEND;TZID=America/Chicago:20240402T170000
DTSTAMP:20260424T080136
CREATED:20230724T132153Z
LAST-MODIFIED:20240501T171615Z
UID:10010292-1712073600-1712077200@wasecalesueurlibraries.com
SUMMARY:Waldorf Lego Club
DESCRIPTION:Kids are invited to join our creative Lego-building club. Each event will have a theme to inspire and Legos to build with.
URL:https://wasecalesueurlibraries.com/event/waldorf-lego-club-5/2024-04-02/
LOCATION:Waldorf Public Library\, 119 S Main St\, Waldorf\, MN\, 56091\, United States
CATEGORIES:Children's Events
GEO:43.9365286;-93.697592
X-APPLE-STRUCTURED-LOCATION;VALUE=URI;X-ADDRESS=Waldorf Public Library 119 S Main St Waldorf MN 56091 United States;X-APPLE-RADIUS=500;X-TITLE=119 S Main St:geo:-93.697592,43.9365286
END:VEVENT
BEGIN:VEVENT
DTSTART;TZID=America/Chicago:20240402T170000
DTEND;TZID=America/Chicago:20240402T180000
DTSTAMP:20260424T080136
CREATED:20240227T201352Z
LAST-MODIFIED:20240501T174611Z
UID:10010650-1712077200-1712080800@wasecalesueurlibraries.com
SUMMARY:Board Game Night
DESCRIPTION:Join us for a night of gaming. We’ll have a variety of games to choose from and we’ll teach a new game. Geared for adults and families.
URL:https://wasecalesueurlibraries.com/event/board-game-night-3/2024-04-02/
LOCATION:Janesville Public Library\, 100 W 2nd St\, Janesville\, MN\, 56048\, United States
CATEGORIES:Author Event,Family
GEO:44.1173302;-93.7075406
X-APPLE-STRUCTURED-LOCATION;VALUE=URI;X-ADDRESS=Janesville Public Library 100 W 2nd St Janesville MN 56048 United States;X-APPLE-RADIUS=500;X-TITLE=100 W 2nd St:geo:-93.7075406,44.1173302
END:VEVENT
END:VCALENDAR