BEGIN:VCALENDAR
VERSION:2.0
PRODID:-//Waseca-Le Sueur Library - ECPv6.15.20//NONSGML v1.0//EN
CALSCALE:GREGORIAN
METHOD:PUBLISH
X-ORIGINAL-URL:https://wasecalesueurlibraries.com
X-WR-CALDESC:Events for Waseca-Le Sueur Library
REFRESH-INTERVAL;VALUE=DURATION:PT1H
X-Robots-Tag:noindex
X-PUBLISHED-TTL:PT1H
BEGIN:VTIMEZONE
TZID:America/Chicago
BEGIN:DAYLIGHT
TZOFFSETFROM:-0600
TZOFFSETTO:-0500
TZNAME:CDT
DTSTART:20230312T080000
END:DAYLIGHT
BEGIN:STANDARD
TZOFFSETFROM:-0500
TZOFFSETTO:-0600
TZNAME:CST
DTSTART:20231105T070000
END:STANDARD
BEGIN:DAYLIGHT
TZOFFSETFROM:-0600
TZOFFSETTO:-0500
TZNAME:CDT
DTSTART:20240310T080000
END:DAYLIGHT
BEGIN:STANDARD
TZOFFSETFROM:-0500
TZOFFSETTO:-0600
TZNAME:CST
DTSTART:20241103T070000
END:STANDARD
BEGIN:DAYLIGHT
TZOFFSETFROM:-0600
TZOFFSETTO:-0500
TZNAME:CDT
DTSTART:20250309T080000
END:DAYLIGHT
BEGIN:STANDARD
TZOFFSETFROM:-0500
TZOFFSETTO:-0600
TZNAME:CST
DTSTART:20251102T070000
END:STANDARD
END:VTIMEZONE
BEGIN:VEVENT
DTSTART;TZID=America/Chicago:20240312T100000
DTEND;TZID=America/Chicago:20240312T110000
DTSTAMP:20260424T104703
CREATED:20230911T212036Z
LAST-MODIFIED:20240530T182247Z
UID:10010432-1710237600-1710241200@wasecalesueurlibraries.com
SUMMARY:Romp and Rhyme Story Time
DESCRIPTION:Le Sueur Public Library holds Romp and Rhyme story times on Tuesdays at 10 am. From puppets to pumping music\, from bubble machines to banging bands\, these are not your average story time. The Library uses movement\, STEAM activities\, curiosity\, imaginative play\, and active learning to keep kids engaged. Free and open to the public.
URL:https://wasecalesueurlibraries.com/event/romp-and-rhyme-story-time-83/2024-03-12/
LOCATION:Le Sueur Public Library\, 118 Ferry St\, Le Sueur\, MN\, 56058\, United States
CATEGORIES:Children's Events,Story Times
GEO:44.4601702;-93.9161364
X-APPLE-STRUCTURED-LOCATION;VALUE=URI;X-ADDRESS=Le Sueur Public Library 118 Ferry St Le Sueur MN 56058 United States;X-APPLE-RADIUS=500;X-TITLE=118 Ferry St:geo:-93.9161364,44.4601702
END:VEVENT
BEGIN:VEVENT
DTSTART;TZID=America/Chicago:20240312T100000
DTEND;TZID=America/Chicago:20240312T110000
DTSTAMP:20260424T104703
CREATED:20230911T212416Z
LAST-MODIFIED:20240227T194635Z
UID:10010473-1710237600-1710241200@wasecalesueurlibraries.com
SUMMARY:Romp and Rhyme Story Time
DESCRIPTION:Elysian Area Library holds Romp and Rhyme story times at 10 am on select dates. From puppets to pumping music\, from bubble machines to banging bands\, these are not your average story time. The Library uses movement\, STEAM activities\, curiosity\, imaginative play\, and active learning to keep kids engaged. Free and open to the public.
URL:https://wasecalesueurlibraries.com/event/romp-and-rhyme-story-time-86/2024-03-12/
LOCATION:Elysian Public Library\, 202 E Main St\, Elysian\, MN\, 56028\, United States
CATEGORIES:Children's Events,Story Times
GEO:44.198703;-93.6724641
X-APPLE-STRUCTURED-LOCATION;VALUE=URI;X-ADDRESS=Elysian Public Library 202 E Main St Elysian MN 56028 United States;X-APPLE-RADIUS=500;X-TITLE=202 E Main St:geo:-93.6724641,44.198703
END:VEVENT
BEGIN:VEVENT
DTSTART;TZID=America/Chicago:20240312T103000
DTEND;TZID=America/Chicago:20240312T113000
DTSTAMP:20260424T104703
CREATED:20240108T223335Z
LAST-MODIFIED:20240829T184303Z
UID:10010569-1710239400-1710243000@wasecalesueurlibraries.com
SUMMARY:Baby Lapsit Romp and Rhyme Story Time
DESCRIPTION:Waseca Public Library holds Romp and Rhyme baby lapsit storytimes for ages 0-3 on Tuesdays at 10:30 am. From puppets to pumping music\, from bubble machines to banging bands\, these are not your average story time. The Library uses movement\, STEAM activities\, curiosity\, imaginative play\, and active learning to keep kids engaged. Free and open to the public. \nThese programs were made possible in part with a grant from the Arts & Cultural Heritage Fund of the Minnesota Clean Water\, Land\, and Legacy Amendment through the Traverse des Sioux Library System.
URL:https://wasecalesueurlibraries.com/event/baby-lapsit-romp-and-rhyme-story-time-2/2024-03-12/
LOCATION:Waseca Public Library\, 408 N State St\, Waseca\, MN\, 56093\, United States
CATEGORIES:Children's Events,Story Times
GEO:44.0809183;-93.5069008
X-APPLE-STRUCTURED-LOCATION;VALUE=URI;X-ADDRESS=Waseca Public Library 408 N State St Waseca MN 56093 United States;X-APPLE-RADIUS=500;X-TITLE=408 N State St:geo:-93.5069008,44.0809183
END:VEVENT
BEGIN:VEVENT
DTSTART;TZID=America/Chicago:20240312T160000
DTEND;TZID=America/Chicago:20240312T170000
DTSTAMP:20260424T104703
CREATED:20230724T132153Z
LAST-MODIFIED:20240501T171615Z
UID:10010289-1710259200-1710262800@wasecalesueurlibraries.com
SUMMARY:Waldorf Lego Club
DESCRIPTION:Kids are invited to join our creative Lego-building club. Each event will have a theme to inspire and Legos to build with.
URL:https://wasecalesueurlibraries.com/event/waldorf-lego-club-5/2024-03-12/
LOCATION:Waldorf Public Library\, 119 S Main St\, Waldorf\, MN\, 56091\, United States
CATEGORIES:Children's Events
GEO:43.9365286;-93.697592
X-APPLE-STRUCTURED-LOCATION;VALUE=URI;X-ADDRESS=Waldorf Public Library 119 S Main St Waldorf MN 56091 United States;X-APPLE-RADIUS=500;X-TITLE=119 S Main St:geo:-93.697592,43.9365286
END:VEVENT
BEGIN:VEVENT
DTSTART;TZID=America/Chicago:20240312T170000
DTEND;TZID=America/Chicago:20240312T180000
DTSTAMP:20260424T104703
CREATED:20240226T221830Z
LAST-MODIFIED:20240226T221830Z
UID:10010612-1710262800-1710266400@wasecalesueurlibraries.com
SUMMARY:Cricut Bookmarks
DESCRIPTION:Discover the art of crafting beautiful and personalized leather bookmarks using a Cricut cutting machine. Participants will learn how to design unique bookmark patterns and utilize the Cricut machine to cut precise\, intricate designs. Geared for adults. \n 
URL:https://wasecalesueurlibraries.com/event/cricut-bookmarks/
LOCATION:Janesville Public Library\, 100 W 2nd St\, Janesville\, MN\, 56048\, United States
CATEGORIES:Adult Events
GEO:44.1173302;-93.7075406
X-APPLE-STRUCTURED-LOCATION;VALUE=URI;X-ADDRESS=Janesville Public Library 100 W 2nd St Janesville MN 56048 United States;X-APPLE-RADIUS=500;X-TITLE=100 W 2nd St:geo:-93.7075406,44.1173302
END:VEVENT
BEGIN:VEVENT
DTSTART;TZID=America/Chicago:20240312T170000
DTEND;TZID=America/Chicago:20240312T180000
DTSTAMP:20260424T104703
CREATED:20240226T222503Z
LAST-MODIFIED:20240226T222503Z
UID:10010617-1710262800-1710266400@wasecalesueurlibraries.com
SUMMARY:Whimsical Wandcrafting for Wacky Wizards
DESCRIPTION:The magical librarian is here to assist you in your wizarding training. Kids will make cool wands and learn how to use them. Geared for ages 8-12. \n 
URL:https://wasecalesueurlibraries.com/event/whimsical-wandcrafting-for-wacky-wizards-2/
LOCATION:Montgomery Public Library\, 104 Oak Ave SE\, Montgomery\, MN\, 56069\, United States
CATEGORIES:Children's Events
GEO:44.4355889;-93.5810028
X-APPLE-STRUCTURED-LOCATION;VALUE=URI;X-ADDRESS=Montgomery Public Library 104 Oak Ave SE Montgomery MN 56069 United States;X-APPLE-RADIUS=500;X-TITLE=104 Oak Ave SE:geo:-93.5810028,44.4355889
END:VEVENT
END:VCALENDAR